BEGIN:VCALENDAR
VERSION:2.0
PRODID:-//Let&#039;s Move PBC - ECPv6.15.20//NONSGML v1.0//EN
CALSCALE:GREGORIAN
METHOD:PUBLISH
X-ORIGINAL-URL:https://www.letsmovepbc.org
X-WR-CALDESC:Events for Let&#039;s Move PBC
REFRESH-INTERVAL;VALUE=DURATION:PT1H
X-Robots-Tag:noindex
X-PUBLISHED-TTL:PT1H
BEGIN:VTIMEZONE
TZID:America/New_York
BEGIN:DAYLIGHT
TZOFFSETFROM:-0500
TZOFFSETTO:-0400
TZNAME:EDT
DTSTART:20250309T070000
END:DAYLIGHT
BEGIN:STANDARD
TZOFFSETFROM:-0400
TZOFFSETTO:-0500
TZNAME:EST
DTSTART:20251102T060000
END:STANDARD
BEGIN:DAYLIGHT
TZOFFSETFROM:-0500
TZOFFSETTO:-0400
TZNAME:EDT
DTSTART:20260308T070000
END:DAYLIGHT
BEGIN:STANDARD
TZOFFSETFROM:-0400
TZOFFSETTO:-0500
TZNAME:EST
DTSTART:20261101T060000
END:STANDARD
BEGIN:DAYLIGHT
TZOFFSETFROM:-0500
TZOFFSETTO:-0400
TZNAME:EDT
DTSTART:20270314T070000
END:DAYLIGHT
BEGIN:STANDARD
TZOFFSETFROM:-0400
TZOFFSETTO:-0500
TZNAME:EST
DTSTART:20271107T060000
END:STANDARD
END:VTIMEZONE
BEGIN:VEVENT
DTSTART;TZID=America/New_York:20260423T103000
DTEND;TZID=America/New_York:20260423T113000
DTSTAMP:20260423T220557
CREATED:20260331T051922Z
LAST-MODIFIED:20260331T051922Z
UID:4778-1776940200-1776943800@www.letsmovepbc.org
SUMMARY:Tai-Chi
DESCRIPTION:Let’s Move 365 proudly supports Florida Blue’s Free Monthly Fitness Classes\, designed to keep our community active\, energized\, and well-balanced all year long. From calming relaxation sessions to boost mindfulness\, to high-energy fitness and Zumba classes that get you moving\, there’s something for everyone\, no matter your fitness level.\nThese classes are a great way to stay consistent\, try something new\, and connect with others who are committed to living a healthier lifestyle. Join us each month and take a step toward feeling your best\, physically and mentally.\nContact Information: 1-561- 374 – 6200
URL:https://www.letsmovepbc.org/event/tai-chi-4/
LOCATION:Boynton Beach\, 1501 N Congress Ave.\, Boynton Beach\, FL\, 33426\, United States
CATEGORIES:Let's Move 365
END:VEVENT
BEGIN:VEVENT
DTSTART;TZID=America/New_York:20260423T110000
DTEND;TZID=America/New_York:20260423T150000
DTSTAMP:20260423T220557
CREATED:20260331T052621Z
LAST-MODIFIED:20260331T052621Z
UID:4788-1776942000-1776956400@www.letsmovepbc.org
SUMMARY:SNAP Benefits Expo
DESCRIPTION:Let’s Move 365 proudly supports Florida Blue’s Free Monthly Fitness Classes\, designed to keep our community active\, energized\, and well-balanced all year long. From calming relaxation sessions to boost mindfulness\, to high-energy fitness and Zumba classes that get you moving\, there’s something for everyone\, no matter your fitness level.\nThese classes are a great way to stay consistent\, try something new\, and connect with others who are committed to living a healthier lifestyle. Join us each month and take a step toward feeling your best\, physically and mentally.\nContact Information: 1-561- 374 – 6200
URL:https://www.letsmovepbc.org/event/snap-benefits-expo-4/
LOCATION:Boynton Beach\, 1501 N Congress Ave.\, Boynton Beach\, FL\, 33426\, United States
CATEGORIES:Let's Move 365
END:VEVENT
BEGIN:VEVENT
DTSTART;TZID=America/New_York:20260423T140000
DTEND;TZID=America/New_York:20260423T150000
DTSTAMP:20260423T220557
CREATED:20260331T053104Z
LAST-MODIFIED:20260331T053104Z
UID:4794-1776952800-1776956400@www.letsmovepbc.org
SUMMARY:Weight Management to Prevent Diabetes
DESCRIPTION:Let’s Move 365 proudly supports Florida Blue’s Free Monthly Fitness Classes\, designed to keep our community active\, energized\, and well-balanced all year long. From calming relaxation sessions to boost mindfulness\, to high-energy fitness and Zumba classes that get you moving\, there’s something for everyone\, no matter your fitness level.\nThese classes are a great way to stay consistent\, try something new\, and connect with others who are committed to living a healthier lifestyle. Join us each month and take a step toward feeling your best\, physically and mentally.\nContact Information: 1-561- 374 – 6200
URL:https://www.letsmovepbc.org/event/weight-management-to-prevent-diabetes-2/
LOCATION:Boynton Beach\, 1501 N Congress Ave.\, Boynton Beach\, FL\, 33426\, United States
CATEGORIES:Let's Move 365
END:VEVENT
BEGIN:VEVENT
DTSTART;TZID=America/New_York:20260423T160000
DTEND;TZID=America/New_York:20260423T170000
DTSTAMP:20260423T220557
CREATED:20260328T215653Z
LAST-MODIFIED:20260328T215653Z
UID:4684-1776960000-1776963600@www.letsmovepbc.org
SUMMARY:Love Thyself – Chair Yoga with Milton "Skye"
DESCRIPTION:Gentle movements for all abilities. Open to all ages and fitness levels—no prior yoga experience needed! Please wear comfortable clothing and bring a bottle of water. Your journey to wellness begins here! \nInstructor: Milton “Skye” Olen \nFor more information\, please email: annie.glades@htpbc.org
URL:https://www.letsmovepbc.org/event/love-thyself-chair-yoga-with-milton-skye-7/
LOCATION:St. John First Missionary Baptist Church\, 600 SW 8th St\, Belle Glade\, FL\, 33430\, United States
CATEGORIES:Let's Move 365
ATTACH;FMTTYPE=image/jpeg:https://www.letsmovepbc.org/wp-content/uploads/2025/08/milton102.jpg
END:VEVENT
BEGIN:VEVENT
DTSTART;TZID=America/New_York:20260423T170000
DTEND;TZID=America/New_York:20260423T180000
DTSTAMP:20260423T220557
CREATED:20260331T054112Z
LAST-MODIFIED:20260331T054112Z
UID:4808-1776963600-1776967200@www.letsmovepbc.org
SUMMARY:Tobacco Cessation Class
DESCRIPTION:Let’s Move 365 proudly supports Florida Blue’s Free Monthly Fitness Classes\, designed to keep our community active\, energized\, and well-balanced all year long. From calming relaxation sessions to boost mindfulness\, to high-energy fitness and Zumba classes that get you moving\, there’s something for everyone\, no matter your fitness level.\nThese classes are a great way to stay consistent\, try something new\, and connect with others who are committed to living a healthier lifestyle. Join us each month and take a step toward feeling your best\, physically and mentally.\nContact Information: 1-561- 374 – 6200
URL:https://www.letsmovepbc.org/event/tobacco-cessation-class-9/
LOCATION:Boynton Beach\, 1501 N Congress Ave.\, Boynton Beach\, FL\, 33426\, United States
CATEGORIES:Let's Move 365
END:VEVENT
END:VCALENDAR