BEGIN:VCALENDAR
VERSION:2.0
PRODID:-//Let&#039;s Move PBC - ECPv6.15.20//NONSGML v1.0//EN
CALSCALE:GREGORIAN
METHOD:PUBLISH
X-WR-CALNAME:Let&#039;s Move PBC
X-ORIGINAL-URL:https://www.letsmovepbc.org
X-WR-CALDESC:Events for Let&#039;s Move PBC
REFRESH-INTERVAL;VALUE=DURATION:PT1H
X-Robots-Tag:noindex
X-PUBLISHED-TTL:PT1H
BEGIN:VTIMEZONE
TZID:America/New_York
BEGIN:DAYLIGHT
TZOFFSETFROM:-0500
TZOFFSETTO:-0400
TZNAME:EDT
DTSTART:20240310T070000
END:DAYLIGHT
BEGIN:STANDARD
TZOFFSETFROM:-0400
TZOFFSETTO:-0500
TZNAME:EST
DTSTART:20241103T060000
END:STANDARD
BEGIN:DAYLIGHT
TZOFFSETFROM:-0500
TZOFFSETTO:-0400
TZNAME:EDT
DTSTART:20250309T070000
END:DAYLIGHT
BEGIN:STANDARD
TZOFFSETFROM:-0400
TZOFFSETTO:-0500
TZNAME:EST
DTSTART:20251102T060000
END:STANDARD
BEGIN:DAYLIGHT
TZOFFSETFROM:-0500
TZOFFSETTO:-0400
TZNAME:EDT
DTSTART:20260308T070000
END:DAYLIGHT
BEGIN:STANDARD
TZOFFSETFROM:-0400
TZOFFSETTO:-0500
TZNAME:EST
DTSTART:20261101T060000
END:STANDARD
END:VTIMEZONE
BEGIN:VEVENT
DTSTART;TZID=America/New_York:20250922T180000
DTEND;TZID=America/New_York:20250922T190000
DTSTAMP:20260425T085259
CREATED:20250825T182313Z
LAST-MODIFIED:20250825T182313Z
UID:4001-1758564000-1758567600@www.letsmovepbc.org
SUMMARY:Community Fitness with Rosa
DESCRIPTION:Join us for a balanced workout that gets your heart pumping with cardio\, builds strength with light weights\, and adds a splash of fun with Zumba-inspired moves. This session is perfect for all fitness levels-come ready to move\, groove\, and have a blast while staying healthy! \nPhone: 561-715-3523
URL:https://www.letsmovepbc.org/event/community-fitness-with-rosa-2/
LOCATION:225 NW 12th Ave\, 225 NW 12th Ave\, Boynton Beach\, FL\, 3435\, United States
CATEGORIES:Let's Move 365
ATTACH;FMTTYPE=image/jpeg:https://www.letsmovepbc.org/wp-content/uploads/2025/08/RosaFitness110.jpg
END:VEVENT
BEGIN:VEVENT
DTSTART;VALUE=DATE:20250920
DTEND;VALUE=DATE:20250921
DTSTAMP:20260425T085259
CREATED:20241230T170854Z
LAST-MODIFIED:20241230T170854Z
UID:3307-1758326400-1758412799@www.letsmovepbc.org
SUMMARY:Fit Nation Celebration
DESCRIPTION:Fit Nation Celebration \nDate: September 20\, 2025
URL:https://www.letsmovepbc.org/event/fit-nation-celebration/
LOCATION:FL
CATEGORIES:Let's Move 365
END:VEVENT
BEGIN:VEVENT
DTSTART;TZID=America/New_York:20250919T183000
DTEND;TZID=America/New_York:20250919T193000
DTSTAMP:20260425T085259
CREATED:20250825T013913Z
LAST-MODIFIED:20250825T013913Z
UID:3992-1758306600-1758310200@www.letsmovepbc.org
SUMMARY:Line Dancing Fridays with Andrea
DESCRIPTION:Get ready to move\, groove\, and sweat with Country Cardio! This high-energy class combines the fun of line dancing with SOUL. Perfect for all ages and fitness levels\, you’ll learn easy-to-follow steps that will have you dancing your way to better health.\nNo experience or cowboy boots required—just bring your energy\, a smile\, and a willingness to have fun! Let’s dance\, laugh\, and burn calories together!
URL:https://www.letsmovepbc.org/event/line-dancing-fridays-with-andrea-3/
LOCATION:Pompey Park\, 1101 NW 2nd St\, Delray Beach\, FL\, 33444\, United States
CATEGORIES:Let's Move 365
ATTACH;FMTTYPE=image/jpeg:https://www.letsmovepbc.org/wp-content/uploads/2025/08/Andrea104.jpg
END:VEVENT
BEGIN:VEVENT
DTSTART;TZID=America/New_York:20250918T160000
DTEND;TZID=America/New_York:20250918T170000
DTSTAMP:20260425T085259
CREATED:20250824T205453Z
LAST-MODIFIED:20250824T205453Z
UID:3951-1758211200-1758214800@www.letsmovepbc.org
SUMMARY:Love Thyself – Chair Yoga
DESCRIPTION:Gentle movements for all abilities. Open to all ages and fitness levels—no prior yoga experience needed! Please wear comfortable clothing and bring a bottle of water. Your journey to wellness begins here! \nInstructor: Milton “Skye” Olen \nFor more information\, please email: annie.glades@htpbc.org
URL:https://www.letsmovepbc.org/event/love-thyself-chair-yoga-6/
LOCATION:St. John First Missionary Baptist Church\, 600 SW 8th St\, Belle Glade\, FL\, 33430\, United States
CATEGORIES:Let's Move 365
ATTACH;FMTTYPE=image/jpeg:https://www.letsmovepbc.org/wp-content/uploads/2025/08/milton102.jpg
END:VEVENT
BEGIN:VEVENT
DTSTART;TZID=America/New_York:20250917T173000
DTEND;TZID=America/New_York:20250917T183000
DTSTAMP:20260425T085259
CREATED:20250825T004631Z
LAST-MODIFIED:20250825T004631Z
UID:3982-1758130200-1758133800@www.letsmovepbc.org
SUMMARY:Aqua Zumba with Aida
DESCRIPTION:Aqua Zumba is a water-based workout that combines Zumba dance moves with traditional aqua fitness exercises. It’s a cardio-conditioning\, body-toning workout that takes place in a pool. \nPhone: 954-775-5548
URL:https://www.letsmovepbc.org/event/aqua-zumba-with-aida-3/
LOCATION:Via Vulcanus\, 13290 Via Vulcanus\, Delray Beach\, FL\, 33484\, United States
CATEGORIES:Let's Move 365
ATTACH;FMTTYPE=image/jpeg:https://www.letsmovepbc.org/wp-content/uploads/2025/08/DNA106.jpg
END:VEVENT
BEGIN:VEVENT
DTSTART;TZID=America/New_York:20250917T160000
DTEND;TZID=America/New_York:20250917T170000
DTSTAMP:20260425T085259
CREATED:20250123T145444Z
LAST-MODIFIED:20250123T145444Z
UID:3405-1758124800-1758128400@www.letsmovepbc.org
SUMMARY:Yoga in the park
DESCRIPTION:Join Allison for an hour yoga class. You will move your body\, relax your mind\, and destress in this all-levels yoga class. This class is meant to bring you peace\, strength and confidence in yourself. Bring a yoga mat and meet in the park. Have fun!
URL:https://www.letsmovepbc.org/event/yoga-in-the-park-9/
LOCATION:Meadows Park\, 4305 N Congress Ave\, Boynton Beach\, FL\, 33436\, United States
CATEGORIES:Let's Move 365
END:VEVENT
BEGIN:VEVENT
DTSTART;TZID=America/New_York:20250917T091500
DTEND;TZID=America/New_York:20250917T101500
DTSTAMP:20260425T085259
CREATED:20250606T171238Z
LAST-MODIFIED:20250825T222625Z
UID:3776-1758100500-1758104100@www.letsmovepbc.org
SUMMARY:Fitness in the community with Rosa
DESCRIPTION:Join us for a balanced workout that offers standing and chair Zumba! This session is perfect for all fitness levels-come ready to move\, groove\, and have a blast while staying healthy! \nContact to Sign Up: (561) 715-3523
URL:https://www.letsmovepbc.org/event/rosa-fitness-in-the-community-8/
LOCATION:Delray Villas\, 13773 Circular\, Drive Delray Beach\, FL\, 33484\, United States
CATEGORIES:Let's Move 365
ATTACH;FMTTYPE=image/jpeg:https://www.letsmovepbc.org/wp-content/uploads/2025/06/RosaCommunity109.jpg
END:VEVENT
BEGIN:VEVENT
DTSTART;TZID=America/New_York:20250916T183000
DTEND;TZID=America/New_York:20250916T193000
DTSTAMP:20260425T085259
CREATED:20250606T223343Z
LAST-MODIFIED:20250825T211503Z
UID:3856-1758047400-1758051000@www.letsmovepbc.org
SUMMARY:sayWHAT! Wellness in action with Angie T.
DESCRIPTION:SayWHAT! 2 FITNESS is all about Wellness\, Health\, Activity\, and Teamwork. The focus is on mindfulness\, motivational energy\, and movement! It’s fun\, energetic\, and made to get you moving! Join Angie T. and come move with me! \nContact to Sign Up: (561) 706-0061
URL:https://www.letsmovepbc.org/event/saywhat-wellness-in-action-with-angie-t-15/
LOCATION:Chaumont Delray\, 731 Ave Chaumont\, Delray Beach\, FL\, 33445\, United States
CATEGORIES:Let's Move 365
ATTACH;FMTTYPE=image/jpeg:https://www.letsmovepbc.org/wp-content/uploads/2025/06/Angie105.jpg
END:VEVENT
BEGIN:VEVENT
DTSTART;TZID=America/New_York:20250916T180000
DTEND;TZID=America/New_York:20250916T190000
DTSTAMP:20260425T085259
CREATED:20250824T221331Z
LAST-MODIFIED:20250824T221331Z
UID:3965-1758045600-1758049200@www.letsmovepbc.org
SUMMARY:Latin Vibes Fitness with Nora
DESCRIPTION:Join us for Latin Vibes Fitness\, a high-energy Zumba session that mixes Latin rhythms with fun\, easy-to-follow moves designed to boost your mood and energy! Classes are held both indoors and outdoors — bringing you movement\, music\, and joy in every setting. Whether you’re a beginner or experienced\, you’ll leave feeling stronger\, happier\, and inspired. \nContact:\nNoralara@gmail.com
URL:https://www.letsmovepbc.org/event/latin-vibes-fitness-with-nora-20/
LOCATION:Old Town Hall Jupiter\, 1000 Townhall Ave\, Jupiter\, FL\, 33458\, United States
CATEGORIES:Let's Move 365
ATTACH;FMTTYPE=image/jpeg:https://www.letsmovepbc.org/wp-content/uploads/2025/08/Nora103.jpg
END:VEVENT
BEGIN:VEVENT
DTSTART;TZID=America/New_York:20250916T160000
DTEND;TZID=America/New_York:20250916T170000
DTSTAMP:20260425T085259
CREATED:20250824T205340Z
LAST-MODIFIED:20250824T205340Z
UID:3949-1758038400-1758042000@www.letsmovepbc.org
SUMMARY:Love Thyself – Chair Yoga
DESCRIPTION:Gentle movements for all abilities. Open to all ages and fitness levels—no prior yoga experience needed! Please wear comfortable clothing and bring a bottle of water. Your journey to wellness begins here! \nInstructor: Milton “Skye” Olen \nFor more information\, please email: annie.glades@htpbc.org
URL:https://www.letsmovepbc.org/event/love-thyself-chair-yoga-5/
LOCATION:St. John First Missionary Baptist Church\, 600 SW 8th St\, Belle Glade\, FL\, 33430\, United States
CATEGORIES:Let's Move 365
ATTACH;FMTTYPE=image/jpeg:https://www.letsmovepbc.org/wp-content/uploads/2025/08/milton102.jpg
END:VEVENT
BEGIN:VEVENT
DTSTART;TZID=America/New_York:20250916T114500
DTEND;TZID=America/New_York:20250916T124500
DTSTAMP:20260425T085259
CREATED:20250606T165254Z
LAST-MODIFIED:20251015T213915Z
UID:3760-1758023100-1758026700@www.letsmovepbc.org
SUMMARY:Fitness in the Church with Rosa
DESCRIPTION:Cardio and Strength Training/moving and grooving to the beat. A balanced workout incorporating heart-pumping cardio exercises and strength-building activities using light weights. \nContact to Sign Up: (561) 715-3523
URL:https://www.letsmovepbc.org/event/rosa-fitness-in-the-church-7/
LOCATION:404 SW 3rd St\, 404 Southwest 3rd Street\, Delray Beach\, FL\, 33444\, United States
CATEGORIES:Let's Move 365
ATTACH;FMTTYPE=image/jpeg:https://www.letsmovepbc.org/wp-content/uploads/2025/06/Rosa108.jpg
END:VEVENT
BEGIN:VEVENT
DTSTART;TZID=America/New_York:20250914T090000
DTEND;TZID=America/New_York:20250914T100000
DTSTAMP:20260425T085259
CREATED:20250606T204420Z
LAST-MODIFIED:20250826T030302Z
UID:3792-1757840400-1757844000@www.letsmovepbc.org
SUMMARY:Zumba Vibez with Lissette Rivera
DESCRIPTION:Join us for a vibrant community Zumba party where you can dance your way to fitness with high-energy Latin rhythms\, no experience needed! \nContact to Sign Up: (561) 452-2730
URL:https://www.letsmovepbc.org/event/zumba-vibez-with-lissette-rivera-15/
LOCATION:Okeeheelee Park\, 7715 Forest Hill Blvd\, West Palm Beach\, FL\, 33413\, United States
CATEGORIES:Let's Move 365
ATTACH;FMTTYPE=image/jpeg:https://www.letsmovepbc.org/wp-content/uploads/2025/06/Lissette107.jpg
END:VEVENT
BEGIN:VEVENT
DTSTART;TZID=America/New_York:20250912T183000
DTEND;TZID=America/New_York:20250912T193000
DTSTAMP:20260425T085259
CREATED:20250825T013732Z
LAST-MODIFIED:20250825T013732Z
UID:3990-1757701800-1757705400@www.letsmovepbc.org
SUMMARY:Line Dancing Fridays with Andrea
DESCRIPTION:Get ready to move\, groove\, and sweat with Country Cardio! This high-energy class combines the fun of line dancing with SOUL. Perfect for all ages and fitness levels\, you’ll learn easy-to-follow steps that will have you dancing your way to better health.\nNo experience or cowboy boots required—just bring your energy\, a smile\, and a willingness to have fun! Let’s dance\, laugh\, and burn calories together!
URL:https://www.letsmovepbc.org/event/line-dancing-fridays-with-andrea-2/
LOCATION:Pompey Park\, 1101 NW 2nd St\, Delray Beach\, FL\, 33444\, United States
CATEGORIES:Let's Move 365
ATTACH;FMTTYPE=image/jpeg:https://www.letsmovepbc.org/wp-content/uploads/2025/08/Andrea104.jpg
END:VEVENT
BEGIN:VEVENT
DTSTART;TZID=America/New_York:20250911T160000
DTEND;TZID=America/New_York:20250911T170000
DTSTAMP:20260425T085259
CREATED:20250824T204643Z
LAST-MODIFIED:20250824T204643Z
UID:3945-1757606400-1757610000@www.letsmovepbc.org
SUMMARY:Love Thyself – Chair Yoga
DESCRIPTION:Gentle movements for all abilities. Open to all ages and fitness levels—no prior yoga experience needed! Please wear comfortable clothing and bring a bottle of water. Your journey to wellness begins here! \nInstructor: Milton “Skye” Olen \nFor more information\, please email: annie.glades@htpbc.org
URL:https://www.letsmovepbc.org/event/love-thyself-chair-yoga-4/
LOCATION:St. John First Missionary Baptist Church\, 600 SW 8th St\, Belle Glade\, FL\, 33430\, United States
CATEGORIES:Let's Move 365
ATTACH;FMTTYPE=image/jpeg:https://www.letsmovepbc.org/wp-content/uploads/2025/08/milton102.jpg
END:VEVENT
BEGIN:VEVENT
DTSTART;TZID=America/New_York:20250910T173000
DTEND;TZID=America/New_York:20250910T183000
DTSTAMP:20260425T085259
CREATED:20250825T004424Z
LAST-MODIFIED:20250825T004424Z
UID:3980-1757525400-1757529000@www.letsmovepbc.org
SUMMARY:Aqua Zumba with Aida
DESCRIPTION:Aqua Zumba is a water-based workout that combines Zumba dance moves with traditional aqua fitness exercises. It’s a cardio-conditioning\, body-toning workout that takes place in a pool. \nPhone: 954-775-5548
URL:https://www.letsmovepbc.org/event/aqua-zumba-with-aida-2/
LOCATION:Via Vulcanus\, 13290 Via Vulcanus\, Delray Beach\, FL\, 33484\, United States
CATEGORIES:Let's Move 365
ATTACH;FMTTYPE=image/jpeg:https://www.letsmovepbc.org/wp-content/uploads/2025/08/DNA106.jpg
END:VEVENT
BEGIN:VEVENT
DTSTART;TZID=America/New_York:20250910T091500
DTEND;TZID=America/New_York:20250910T101500
DTSTAMP:20260425T085259
CREATED:20250606T171117Z
LAST-MODIFIED:20250825T222438Z
UID:3774-1757495700-1757499300@www.letsmovepbc.org
SUMMARY:Rosa Fitness in the community
DESCRIPTION:Join us for a balanced workout that offers standing and chair Zumba! This session is perfect for all fitness levels-come ready to move\, groove\, and have a blast while staying healthy! \nContact to Sign Up: (561) 715-3523
URL:https://www.letsmovepbc.org/event/rosa-fitness-in-the-community-7/
LOCATION:Delray Villas\, 13773 Circular\, Drive Delray Beach\, FL\, 33484\, United States
CATEGORIES:Let's Move 365
ATTACH;FMTTYPE=image/jpeg:https://www.letsmovepbc.org/wp-content/uploads/2025/06/RosaCommunity109.jpg
END:VEVENT
BEGIN:VEVENT
DTSTART;TZID=America/New_York:20250909T183000
DTEND;TZID=America/New_York:20250909T193000
DTSTAMP:20260425T085259
CREATED:20250606T223211Z
LAST-MODIFIED:20250825T211620Z
UID:3854-1757442600-1757446200@www.letsmovepbc.org
SUMMARY:sayWHAT! Wellness in action with Angie T.
DESCRIPTION:SayWHAT! 2 FITNESS is all about Wellness\, Health\, Activity\, and Teamwork. The focus is on mindfulness\, motivational energy\, and movement! It’s fun\, energetic\, and made to get you moving! Join Angie T. and come move with me! \nContact to Sign Up: (561) 706-0061
URL:https://www.letsmovepbc.org/event/saywhat-wellness-in-action-with-angie-t-14/
LOCATION:Chaumont Delray\, 731 Ave Chaumont\, Delray Beach\, FL\, 33445\, United States
CATEGORIES:Let's Move 365
ATTACH;FMTTYPE=image/jpeg:https://www.letsmovepbc.org/wp-content/uploads/2025/06/Angie105.jpg
END:VEVENT
BEGIN:VEVENT
DTSTART;TZID=America/New_York:20250909T180000
DTEND;TZID=America/New_York:20250909T190000
DTSTAMP:20260425T085259
CREATED:20250824T221148Z
LAST-MODIFIED:20250824T221148Z
UID:3963-1757440800-1757444400@www.letsmovepbc.org
SUMMARY:Latin Vibes Fitness with Nora
DESCRIPTION:Join us for Latin Vibes Fitness\, a high-energy Zumba session that mixes Latin rhythms with fun\, easy-to-follow moves designed to boost your mood and energy! Classes are held both indoors and outdoors — bringing you movement\, music\, and joy in every setting. Whether you’re a beginner or experienced\, you’ll leave feeling stronger\, happier\, and inspired. \nContact:\nNoralara@gmail.com
URL:https://www.letsmovepbc.org/event/latin-vibes-fitness-with-nora-19/
LOCATION:Old Town Hall Jupiter\, 1000 Townhall Ave\, Jupiter\, FL\, 33458\, United States
CATEGORIES:Let's Move 365
ATTACH;FMTTYPE=image/jpeg:https://www.letsmovepbc.org/wp-content/uploads/2025/08/Nora103.jpg
END:VEVENT
BEGIN:VEVENT
DTSTART;TZID=America/New_York:20250909T160000
DTEND;TZID=America/New_York:20250909T170000
DTSTAMP:20260425T085259
CREATED:20250824T204405Z
LAST-MODIFIED:20250824T205028Z
UID:3943-1757433600-1757437200@www.letsmovepbc.org
SUMMARY:Love Thyself – Chair Yoga
DESCRIPTION:Gentle movements for all abilities. Open to all ages and fitness levels—no prior yoga experience needed! Please wear comfortable clothing and bring a bottle of water. Your journey to wellness begins here! \nInstructor: Milton “Skye” Olen \nFor more information\, please email: annie.glades@htpbc.org
URL:https://www.letsmovepbc.org/event/love-thyself-chair-yoga-3/
LOCATION:St. John First Missionary Baptist Church\, 600 SW 8th St\, Belle Glade\, FL\, 33430\, United States
CATEGORIES:Let's Move 365
ATTACH;FMTTYPE=image/jpeg:https://www.letsmovepbc.org/wp-content/uploads/2025/08/milton102.jpg
END:VEVENT
BEGIN:VEVENT
DTSTART;TZID=America/New_York:20250908T180000
DTEND;TZID=America/New_York:20250908T190000
DTSTAMP:20260425T085259
CREATED:20250825T182021Z
LAST-MODIFIED:20250825T182021Z
UID:3998-1757354400-1757358000@www.letsmovepbc.org
SUMMARY:Community Fitness with Rosa
DESCRIPTION:Join us for a balanced workout that gets your heart pumping with cardio\, builds strength with light weights\, and adds a splash of fun with Zumba-inspired moves. This session is perfect for all fitness levels-come ready to move\, groove\, and have a blast while staying healthy! \nPhone: 561-715-3523
URL:https://www.letsmovepbc.org/event/community-fitness-with-rosa/
LOCATION:225 NW 12th Ave\, 225 NW 12th Ave\, Boynton Beach\, FL\, 3435\, United States
CATEGORIES:Let's Move 365
ATTACH;FMTTYPE=image/jpeg:https://www.letsmovepbc.org/wp-content/uploads/2025/08/RosaFitness110.jpg
END:VEVENT
BEGIN:VEVENT
DTSTART;TZID=America/New_York:20250905T183000
DTEND;TZID=America/New_York:20250905T193000
DTSTAMP:20260425T085259
CREATED:20250825T013537Z
LAST-MODIFIED:20250825T013537Z
UID:3987-1757097000-1757100600@www.letsmovepbc.org
SUMMARY:Line Dancing Fridays with Andrea
DESCRIPTION:Get ready to move\, groove\, and sweat with Country Cardio! This high-energy class combines the fun of line dancing with SOUL. Perfect for all ages and fitness levels\, you’ll learn easy-to-follow steps that will have you dancing your way to better health.\nNo experience or cowboy boots required—just bring your energy\, a smile\, and a willingness to have fun! Let’s dance\, laugh\, and burn calories together!
URL:https://www.letsmovepbc.org/event/line-dancing-fridays-with-andrea/
LOCATION:Pompey Park\, 1101 NW 2nd St\, Delray Beach\, FL\, 33444\, United States
CATEGORIES:Let's Move 365
ATTACH;FMTTYPE=image/jpeg:https://www.letsmovepbc.org/wp-content/uploads/2025/08/Andrea104.jpg
END:VEVENT
BEGIN:VEVENT
DTSTART;TZID=America/New_York:20250904T160000
DTEND;TZID=America/New_York:20250904T170000
DTSTAMP:20260425T085259
CREATED:20250824T204241Z
LAST-MODIFIED:20250824T204808Z
UID:3940-1757001600-1757005200@www.letsmovepbc.org
SUMMARY:Love Thyself – Chair Yoga
DESCRIPTION:Gentle movements for all abilities. Open to all ages and fitness levels—no prior yoga experience needed! Please wear comfortable clothing and bring a bottle of water. Your journey to wellness begins here! \nInstructor: Milton “Skye” Olen \nFor more information\, please email: annie.glades@htpbc.org
URL:https://www.letsmovepbc.org/event/love-thyself-chair-yoga-2/
LOCATION:St. John First Missionary Baptist Church\, 600 SW 8th St\, Belle Glade\, FL\, 33430\, United States
CATEGORIES:Let's Move 365
ATTACH;FMTTYPE=image/jpeg:https://www.letsmovepbc.org/wp-content/uploads/2025/08/milton102.jpg
END:VEVENT
BEGIN:VEVENT
DTSTART;TZID=America/New_York:20250903T173000
DTEND;TZID=America/New_York:20250903T183000
DTSTAMP:20260425T085259
CREATED:20250825T004153Z
LAST-MODIFIED:20250825T004153Z
UID:3977-1756920600-1756924200@www.letsmovepbc.org
SUMMARY:Aqua Zumba with Aida
DESCRIPTION:Aqua Zumba is a water-based workout that combines Zumba dance moves with traditional aqua fitness exercises. It’s a cardio-conditioning\, body-toning workout that takes place in a pool. \nPhone: 954-775-5548
URL:https://www.letsmovepbc.org/event/aqua-zumba-with-aida/
LOCATION:Via Vulcanus\, 13290 Via Vulcanus\, Delray Beach\, FL\, 33484\, United States
CATEGORIES:Let's Move 365
ATTACH;FMTTYPE=image/jpeg:https://www.letsmovepbc.org/wp-content/uploads/2025/08/DNA106.jpg
END:VEVENT
BEGIN:VEVENT
DTSTART;TZID=America/New_York:20250902T183000
DTEND;TZID=America/New_York:20250902T193000
DTSTAMP:20260425T085259
CREATED:20250606T223015Z
LAST-MODIFIED:20250825T211727Z
UID:3852-1756837800-1756841400@www.letsmovepbc.org
SUMMARY:sayWHAT! Wellness in action with Angie T.
DESCRIPTION:SayWHAT! 2 FITNESS is all about Wellness\, Health\, Activity\, and Teamwork. The focus is on mindfulness\, motivational energy\, and movement! It’s fun\, energetic\, and made to get you moving! Join Angie T. and come move with me! \nContact to Sign Up: (561) 706-0061
URL:https://www.letsmovepbc.org/event/saywhat-wellness-in-action-with-angie-t-13/
LOCATION:Chaumont Delray\, 731 Ave Chaumont\, Delray Beach\, FL\, 33445\, United States
CATEGORIES:Let's Move 365
ATTACH;FMTTYPE=image/jpeg:https://www.letsmovepbc.org/wp-content/uploads/2025/06/Angie105.jpg
END:VEVENT
BEGIN:VEVENT
DTSTART;TZID=America/New_York:20250902T180000
DTEND;TZID=America/New_York:20250902T190000
DTSTAMP:20260425T085259
CREATED:20250824T220921Z
LAST-MODIFIED:20250824T220921Z
UID:3959-1756836000-1756839600@www.letsmovepbc.org
SUMMARY:Latin Vibes Fitness with Nora
DESCRIPTION:Join us for Latin Vibes Fitness\, a high-energy Zumba session that mixes Latin rhythms with fun\, easy-to-follow moves designed to boost your mood and energy! Classes are held both indoors and outdoors — bringing you movement\, music\, and joy in every setting. Whether you’re a beginner or experienced\, you’ll leave feeling stronger\, happier\, and inspired. \nContact:\nNoralara@gmail.com
URL:https://www.letsmovepbc.org/event/latin-vibes-fitness-with-nora-18/
LOCATION:Old Town Hall Jupiter\, 1000 Townhall Ave\, Jupiter\, FL\, 33458\, United States
CATEGORIES:Let's Move 365
ATTACH;FMTTYPE=image/jpeg:https://www.letsmovepbc.org/wp-content/uploads/2025/08/Nora103.jpg
END:VEVENT
BEGIN:VEVENT
DTSTART;TZID=America/New_York:20250902T160000
DTEND;TZID=America/New_York:20250902T170000
DTSTAMP:20260425T085259
CREATED:20250824T203343Z
LAST-MODIFIED:20250824T204209Z
UID:3937-1756828800-1756832400@www.letsmovepbc.org
SUMMARY:Love Thyself – Chair Yoga
DESCRIPTION:Gentle movements for all abilities. Open to all ages and fitness levels—no prior yoga experience needed! Please wear comfortable clothing and bring a bottle of water. Your journey to wellness begins here! \nInstructor: Milton “Skye” Olen \nFor more information\, please email: annie.glades@htpbc.org
URL:https://www.letsmovepbc.org/event/love-thyself-chair-yoga/
LOCATION:St. John First Missionary Baptist Church\, 600 SW 8th St\, Belle Glade\, FL\, 33430\, United States
CATEGORIES:Let's Move 365
ATTACH;FMTTYPE=image/jpeg:https://www.letsmovepbc.org/wp-content/uploads/2025/08/milton102.jpg
END:VEVENT
BEGIN:VEVENT
DTSTART;TZID=America/New_York:20250902T114500
DTEND;TZID=America/New_York:20250902T124500
DTSTAMP:20260425T085259
CREATED:20250606T165124Z
LAST-MODIFIED:20250825T215839Z
UID:3758-1756813500-1756817100@www.letsmovepbc.org
SUMMARY:Fitness in the Church with Rosa
DESCRIPTION:Cardio and Strength Training/moving and grooving to the beat. A balanced workout incorporating heart-pumping cardio exercises and strength-building activities using light weights. \nContact to Sign Up: (561) 715-3523
URL:https://www.letsmovepbc.org/event/rosa-fitness-in-the-church-6/
LOCATION:404 SW 3rd St\, 404 Southwest 3rd Street\, Delray Beach\, FL\, 33444\, United States
CATEGORIES:Let's Move 365
ATTACH;FMTTYPE=image/jpeg:https://www.letsmovepbc.org/wp-content/uploads/2025/06/Rosa108.jpg
END:VEVENT
BEGIN:VEVENT
DTSTART;TZID=America/New_York:20250830T110000
DTEND;TZID=America/New_York:20250830T120000
DTSTAMP:20260425T085259
CREATED:20250123T143250Z
LAST-MODIFIED:20250123T143250Z
UID:3384-1756551600-1756555200@www.letsmovepbc.org
SUMMARY:Community Boot Camp
DESCRIPTION:Join us for a high-energy\, full-body workout designed for all ages and fitness levels! This monthly boot camp combines fun\, dynamic exercises with expert coaching to help you and your family stay active and strong. From cardio circuits to strength-building moves\, this class is perfect for bonding\, sweating\, and achieving fitness goals together. \nPartner(s) and/or contractor(s): Trilogy | Group Fitness + MMA Training
URL:https://www.letsmovepbc.org/event/community-boot-camp-3/
LOCATION:1550 N Federal Hwy #8\, 1550 N Federal Hwy #8\, Boynton Beach\, FL\, 33435\, United States
CATEGORIES:Let's Move 365
END:VEVENT
BEGIN:VEVENT
DTSTART;TZID=America/New_York:20250826T183000
DTEND;TZID=America/New_York:20250826T193000
DTSTAMP:20260425T085259
CREATED:20250606T221814Z
LAST-MODIFIED:20250606T221814Z
UID:3850-1756233000-1756236600@www.letsmovepbc.org
SUMMARY:sayWHAT! Wellness in action with Angie T.
DESCRIPTION:SayWHAT! 2 FITNESS is all about Wellness\, Health\, Activity\, and Teamwork. The focus is on mindfulness\, motivational energy\, and movement! It’s fun\, energetic\, and made to get you moving! Join Angie T. and come move with me! \nContact to Sign Up: (561) 706-0061
URL:https://www.letsmovepbc.org/event/saywhat-wellness-in-action-with-angie-t-12/
LOCATION:Chaumont Delray\, 731 Ave Chaumont\, Delray Beach\, FL\, 33445\, United States
CATEGORIES:Let's Move 365
END:VEVENT
BEGIN:VEVENT
DTSTART;TZID=America/New_York:20250826T180000
DTEND;TZID=America/New_York:20250826T190000
DTSTAMP:20260425T085259
CREATED:20250606T235440Z
LAST-MODIFIED:20250606T235440Z
UID:3888-1756231200-1756234800@www.letsmovepbc.org
SUMMARY:Latin Vibes Fitness with Nora
DESCRIPTION:Join us for Latin Vibes Fitness\, a high-energy Zumba session that mixes Latin rhythms with fun\, easy-to-follow moves designed to boost your mood and energy! Classes are held both indoors and outdoors — bringing you movement\, music\, and joy in every setting. Whether you’re a beginner or experienced\, you’ll leave feeling stronger\, happier\, and inspired. \nContact:\nNoralara@gmail.com
URL:https://www.letsmovepbc.org/event/latin-vibes-fitness-with-nora-12/
LOCATION:Old Town Hall Jupiter\, 1000 Townhall Ave\, Jupiter\, FL\, 33458\, United States
CATEGORIES:Let's Move 365
END:VEVENT
END:VCALENDAR