BEGIN:VCALENDAR
VERSION:2.0
PRODID:-//Let&#039;s Move PBC - ECPv6.15.20//NONSGML v1.0//EN
CALSCALE:GREGORIAN
METHOD:PUBLISH
X-WR-CALNAME:Let&#039;s Move PBC
X-ORIGINAL-URL:https://www.letsmovepbc.org
X-WR-CALDESC:Events for Let&#039;s Move PBC
REFRESH-INTERVAL;VALUE=DURATION:PT1H
X-Robots-Tag:noindex
X-PUBLISHED-TTL:PT1H
BEGIN:VTIMEZONE
TZID:America/New_York
BEGIN:DAYLIGHT
TZOFFSETFROM:-0500
TZOFFSETTO:-0400
TZNAME:EDT
DTSTART:20250309T070000
END:DAYLIGHT
BEGIN:STANDARD
TZOFFSETFROM:-0400
TZOFFSETTO:-0500
TZNAME:EST
DTSTART:20251102T060000
END:STANDARD
BEGIN:DAYLIGHT
TZOFFSETFROM:-0500
TZOFFSETTO:-0400
TZNAME:EDT
DTSTART:20260308T070000
END:DAYLIGHT
BEGIN:STANDARD
TZOFFSETFROM:-0400
TZOFFSETTO:-0500
TZNAME:EST
DTSTART:20261101T060000
END:STANDARD
BEGIN:DAYLIGHT
TZOFFSETFROM:-0500
TZOFFSETTO:-0400
TZNAME:EDT
DTSTART:20270314T070000
END:DAYLIGHT
BEGIN:STANDARD
TZOFFSETFROM:-0400
TZOFFSETTO:-0500
TZNAME:EST
DTSTART:20271107T060000
END:STANDARD
END:VTIMEZONE
BEGIN:VEVENT
DTSTART;TZID=America/New_York:20260223T180000
DTEND;TZID=America/New_York:20260223T190000
DTSTAMP:20260424T064847
CREATED:20260131T054856Z
LAST-MODIFIED:20260131T054856Z
UID:4392-1771869600-1771873200@www.letsmovepbc.org
SUMMARY:Community Fitness with Rosa
DESCRIPTION:Join us for a balanced workout that gets your heart pumping with cardio\, builds strength with light weights\, and adds a splash of fun with Zumba-inspired moves. This session is perfect for all fitness levels-come ready to move\, groove\, and have a blast while staying healthy! \nPhone: 561-715-3523
URL:https://www.letsmovepbc.org/event/community-fitness-with-rosa-9/
LOCATION:225 NW 12th Ave\, 225 NW 12th Ave\, Boynton Beach\, FL\, 3435\, United States
CATEGORIES:Let's Move 365
ATTACH;FMTTYPE=image/jpeg:https://www.letsmovepbc.org/wp-content/uploads/2025/08/RosaFitness110.jpg
END:VEVENT
BEGIN:VEVENT
DTSTART;TZID=America/New_York:20260223T173000
DTEND;TZID=America/New_York:20260223T183000
DTSTAMP:20260424T064847
CREATED:20260131T064058Z
LAST-MODIFIED:20260131T064058Z
UID:4428-1771867800-1771871400@www.letsmovepbc.org
SUMMARY:E-Motion Zumba with E
DESCRIPTION:Ignite your energy\, move to the beat\, and transform your workout into a party! “E”Motion Zumba Fitness fuses vibrant Latin rhythms with high-intensity cardio to deliver a fun\, full-body dance workout. Designed for all fitness levels\, each class mixes fast and slow songs to boost your metabolism\, tone your muscles\, and improve endurance – all while having a blast. Whether you’re new to dance fitness or a seasoned mover\, “E” Zumba Fitness makes “working out” feel like a celebration. \nInstructor: Elea\nPhone: 561-932-7569
URL:https://www.letsmovepbc.org/event/e-motion-zumba-with-e-15/
LOCATION:Main St\, Pahokee\, 1020 E Main St\, Pahokee\, FL\, 33476\, United States
CATEGORIES:Let's Move 365
ATTACH;FMTTYPE=image/jpeg:https://www.letsmovepbc.org/wp-content/uploads/2026/01/EMotion.jpg
END:VEVENT
BEGIN:VEVENT
DTSTART;TZID=America/New_York:20260222T103000
DTEND;TZID=America/New_York:20260222T113000
DTSTAMP:20260424T064847
CREATED:20260131T052900Z
LAST-MODIFIED:20260131T052900Z
UID:4380-1771756200-1771759800@www.letsmovepbc.org
SUMMARY:Aqua Zumba and More with Aida
DESCRIPTION:Cardio benefits the heart and lungs\, strengthens bones. muscles\, and  the immune system\, and helps with weight reduction. It also reduces stress\, lowers cholesterol and high blood pressure. tones and tightens both the upper and lower body\, and strengthens abdominal muscles. Additionally\, cardio improves balance\, promotes better sleep\, and\, most importantly\, helps develop healthy lifestyle habits! \nContact to Sign Up: (954) 775-5548
URL:https://www.letsmovepbc.org/event/aqua-zumba-and-more-with-aida-15/
LOCATION:Via Vulcanus\, 13290 Via Vulcanus\, Delray Beach\, FL\, 33484\, United States
CATEGORIES:Let's Move 365
ATTACH;FMTTYPE=image/jpeg:https://www.letsmovepbc.org/wp-content/uploads/2026/01/Aida.jpg
END:VEVENT
BEGIN:VEVENT
DTSTART;TZID=America/New_York:20260222T090000
DTEND;TZID=America/New_York:20260222T100000
DTSTAMP:20260424T064847
CREATED:20260202T001649Z
LAST-MODIFIED:20260202T001649Z
UID:4433-1771750800-1771754400@www.letsmovepbc.org
SUMMARY:Zumba Vibez with Lissette Rivera
DESCRIPTION:Join us for a vibrant community Zumba party where you can dance your way to fitness with high-energy Latin rhythms\, no experience needed! \nContact to Sign Up: (561) 452-2730
URL:https://www.letsmovepbc.org/event/zumba-vibez-with-lissette-rivera-23/
LOCATION:Okeeheelee Park\, 7715 Forest Hill Blvd\, West Palm Beach\, FL\, 33413\, United States
CATEGORIES:Let's Move 365
ATTACH;FMTTYPE=image/jpeg:https://www.letsmovepbc.org/wp-content/uploads/2025/06/Lissette107.jpg
END:VEVENT
BEGIN:VEVENT
DTSTART;TZID=America/New_York:20260221T103000
DTEND;TZID=America/New_York:20260221T113000
DTSTAMP:20260424T064847
CREATED:20260202T002651Z
LAST-MODIFIED:20260202T002651Z
UID:4438-1771669800-1771673400@www.letsmovepbc.org
SUMMARY:LET'S MOVE RIVIERA BEACH:  Community Fitness &  Wellness Series with Rhonda
DESCRIPTION:Let’s Move Riviera Beach is a free\, faith-inspired community wellness series designed to bring fun\, energetic\, and educational fitness classes to local recreation centers\, churches\, and neighborhood spaces.\nEach 60-minute session combines 45 minutes of movement (boot camp\, chair fitness\, or Buddy Baton workouts) with 15 minutes of health and wellness discussion led by Coach Rhonda. \nContact: (561) 331-0926
URL:https://www.letsmovepbc.org/event/lets-move-riviera-beach-community-fitness-wellness-series-with-rhonda-7/
LOCATION:R J Hendley Ave\, 2800 R J Hendley Ave\, Riviera Beach\, FL\, 33404\, United States
CATEGORIES:Let's Move 365
ATTACH;FMTTYPE=image/jpeg:https://www.letsmovepbc.org/wp-content/uploads/2026/01/RhondaNew.jpg
END:VEVENT
BEGIN:VEVENT
DTSTART;TZID=America/New_York:20260219T160000
DTEND;TZID=America/New_York:20260219T170000
DTSTAMP:20260424T064847
CREATED:20260131T061654Z
LAST-MODIFIED:20260131T061654Z
UID:4412-1771516800-1771520400@www.letsmovepbc.org
SUMMARY:Love Thyself – Chair Yoga with Milton
DESCRIPTION:Gentle movements for all abilities. Open to all ages and fitness levels—no prior yoga experience needed! Please wear comfortable clothing and bring a bottle of water. Your journey to wellness begins here! \nInstructor: Milton “Skye” Olen \nFor more information\, please email: annie.glades@htpbc.org
URL:https://www.letsmovepbc.org/event/love-thyself-chair-yoga-with-milton-19/
LOCATION:St. John First Missionary Baptist Church\, 600 SW 8th St\, Belle Glade\, FL\, 33430\, United States
CATEGORIES:Let's Move 365
ATTACH;FMTTYPE=image/jpeg:https://www.letsmovepbc.org/wp-content/uploads/2025/08/milton102.jpg
END:VEVENT
BEGIN:VEVENT
DTSTART;TZID=America/New_York:20260218T091500
DTEND;TZID=America/New_York:20260218T101500
DTSTAMP:20260424T064847
CREATED:20260131T054334Z
LAST-MODIFIED:20260131T054334Z
UID:4388-1771406100-1771409700@www.letsmovepbc.org
SUMMARY:Fitness in the Community with Rosa
DESCRIPTION:Join us for a balanced workout that offers standing and chair Zumba! This session is perfect for all fitness levels-come ready to move\, groove\, and have a blast while staying healthy! \nContact to Sign Up: (561) 715-3523
URL:https://www.letsmovepbc.org/event/fitness-in-the-community-with-rosa-9/
LOCATION:Delray Villas\, 13773 Circular\, Drive Delray Beach\, FL\, 33484\, United States
CATEGORIES:Let's Move 365
ATTACH;FMTTYPE=image/jpeg:https://www.letsmovepbc.org/wp-content/uploads/2025/06/RosaCommunity109.jpg
END:VEVENT
BEGIN:VEVENT
DTSTART;TZID=America/New_York:20260217T183000
DTEND;TZID=America/New_York:20260217T193000
DTSTAMP:20260424T064847
CREATED:20260131T055759Z
LAST-MODIFIED:20260131T055759Z
UID:4398-1771353000-1771356600@www.letsmovepbc.org
SUMMARY:SayWHAT! Wellness in action with Angie T.
DESCRIPTION:SayWHAT! 2 FITNESS is all about Wellness\, Health\, Activity\, and Teamwork. The focus is on mindfulness\, motivational energy\, and movement! It’s fun\, energetic\, and made to get you moving! Join Angie T. and come move with me! \nContact to Sign Up: (561) 706-0061
URL:https://www.letsmovepbc.org/event/saywhat-wellness-in-action-with-angie-t-32/
LOCATION:Chaumont Delray\, 731 Ave Chaumont\, Delray Beach\, FL\, 33445\, United States
CATEGORIES:Let's Move 365
ATTACH;FMTTYPE=image/jpeg:https://www.letsmovepbc.org/wp-content/uploads/2025/06/Angie105.jpg
END:VEVENT
BEGIN:VEVENT
DTSTART;TZID=America/New_York:20260217T160000
DTEND;TZID=America/New_York:20260217T170000
DTSTAMP:20260424T064847
CREATED:20260131T061525Z
LAST-MODIFIED:20260131T061525Z
UID:4410-1771344000-1771347600@www.letsmovepbc.org
SUMMARY:Love Thyself – Chair Yoga with Milton
DESCRIPTION:Gentle movements for all abilities. Open to all ages and fitness levels—no prior yoga experience needed! Please wear comfortable clothing and bring a bottle of water. Your journey to wellness begins here! \nInstructor: Milton “Skye” Olen \nFor more information\, please email: annie.glades@htpbc.org
URL:https://www.letsmovepbc.org/event/love-thyself-chair-yoga-with-milton-18/
LOCATION:St. John First Missionary Baptist Church\, 600 SW 8th St\, Belle Glade\, FL\, 33430\, United States
CATEGORIES:Let's Move 365
ATTACH;FMTTYPE=image/jpeg:https://www.letsmovepbc.org/wp-content/uploads/2025/08/milton102.jpg
END:VEVENT
BEGIN:VEVENT
DTSTART;TZID=America/New_York:20260217T114500
DTEND;TZID=America/New_York:20260217T124500
DTSTAMP:20260424T064847
CREATED:20260131T053909Z
LAST-MODIFIED:20260131T053909Z
UID:4384-1771328700-1771332300@www.letsmovepbc.org
SUMMARY:Fitness in the Church with Rosa
DESCRIPTION:Cardio and Strength Training/moving and grooving to the beat. A balanced workout incorporating heart-pumping cardio exercises and strength-building activities using light weights. \nContact to Sign Up: (561) 715-3523
URL:https://www.letsmovepbc.org/event/fitness-in-the-church-with-rosa-9/
LOCATION:404 SW 3rd St\, 404 Southwest 3rd Street\, Delray Beach\, FL\, 33444\, United States
CATEGORIES:Let's Move 365
ATTACH;FMTTYPE=image/jpeg:https://www.letsmovepbc.org/wp-content/uploads/2025/06/Rosa108.jpg
END:VEVENT
BEGIN:VEVENT
DTSTART;TZID=America/New_York:20260216T173000
DTEND;TZID=America/New_York:20260216T183000
DTSTAMP:20260424T064847
CREATED:20260131T064008Z
LAST-MODIFIED:20260131T064008Z
UID:4426-1771263000-1771266600@www.letsmovepbc.org
SUMMARY:E-Motion Zumba with E
DESCRIPTION:Ignite your energy\, move to the beat\, and transform your workout into a party! “E”Motion Zumba Fitness fuses vibrant Latin rhythms with high-intensity cardio to deliver a fun\, full-body dance workout. Designed for all fitness levels\, each class mixes fast and slow songs to boost your metabolism\, tone your muscles\, and improve endurance – all while having a blast. Whether you’re new to dance fitness or a seasoned mover\, “E” Zumba Fitness makes “working out” feel like a celebration. \nInstructor: Elea\nPhone: 561-932-7569
URL:https://www.letsmovepbc.org/event/e-motion-zumba-with-e-14/
LOCATION:Main St\, Pahokee\, 1020 E Main St\, Pahokee\, FL\, 33476\, United States
CATEGORIES:Let's Move 365
ATTACH;FMTTYPE=image/jpeg:https://www.letsmovepbc.org/wp-content/uploads/2026/01/EMotion.jpg
END:VEVENT
BEGIN:VEVENT
DTSTART;TZID=America/New_York:20260215T103000
DTEND;TZID=America/New_York:20260215T113000
DTSTAMP:20260424T064847
CREATED:20260131T052744Z
LAST-MODIFIED:20260131T052744Z
UID:4378-1771151400-1771155000@www.letsmovepbc.org
SUMMARY:Aqua Zumba and More with Aida
DESCRIPTION:Cardio benefits the heart and lungs\, strengthens bones. muscles\, and  the immune system\, and helps with weight reduction. It also reduces stress\, lowers cholesterol and high blood pressure. tones and tightens both the upper and lower body\, and strengthens abdominal muscles. Additionally\, cardio improves balance\, promotes better sleep\, and\, most importantly\, helps develop healthy lifestyle habits! \nContact to Sign Up: (954) 775-5548
URL:https://www.letsmovepbc.org/event/aqua-zumba-and-more-with-aida-14/
LOCATION:Via Vulcanus\, 13290 Via Vulcanus\, Delray Beach\, FL\, 33484\, United States
CATEGORIES:Let's Move 365
ATTACH;FMTTYPE=image/jpeg:https://www.letsmovepbc.org/wp-content/uploads/2026/01/Aida.jpg
END:VEVENT
BEGIN:VEVENT
DTSTART;TZID=America/New_York:20260212T160000
DTEND;TZID=America/New_York:20260212T170000
DTSTAMP:20260424T064847
CREATED:20260131T061333Z
LAST-MODIFIED:20260131T061333Z
UID:4408-1770912000-1770915600@www.letsmovepbc.org
SUMMARY:Love Thyself – Chair Yoga with Milton
DESCRIPTION:Gentle movements for all abilities. Open to all ages and fitness levels—no prior yoga experience needed! Please wear comfortable clothing and bring a bottle of water. Your journey to wellness begins here! \nInstructor: Milton “Skye” Olen \nFor more information\, please email: annie.glades@htpbc.org
URL:https://www.letsmovepbc.org/event/love-thyself-chair-yoga-with-milton-17/
LOCATION:St. John First Missionary Baptist Church\, 600 SW 8th St\, Belle Glade\, FL\, 33430\, United States
CATEGORIES:Let's Move 365
ATTACH;FMTTYPE=image/jpeg:https://www.letsmovepbc.org/wp-content/uploads/2025/08/milton102.jpg
END:VEVENT
BEGIN:VEVENT
DTSTART;TZID=America/New_York:20260211T091500
DTEND;TZID=America/New_York:20260211T101500
DTSTAMP:20260424T064847
CREATED:20260131T054213Z
LAST-MODIFIED:20260131T054213Z
UID:4386-1770801300-1770804900@www.letsmovepbc.org
SUMMARY:Fitness in the Community with Rosa
DESCRIPTION:Join us for a balanced workout that offers standing and chair Zumba! This session is perfect for all fitness levels-come ready to move\, groove\, and have a blast while staying healthy! \nContact to Sign Up: (561) 715-3523
URL:https://www.letsmovepbc.org/event/fitness-in-the-community-with-rosa-8/
LOCATION:Delray Villas\, 13773 Circular\, Drive Delray Beach\, FL\, 33484\, United States
CATEGORIES:Let's Move 365
ATTACH;FMTTYPE=image/jpeg:https://www.letsmovepbc.org/wp-content/uploads/2025/06/RosaCommunity109.jpg
END:VEVENT
BEGIN:VEVENT
DTSTART;TZID=America/New_York:20260210T183000
DTEND;TZID=America/New_York:20260210T193000
DTSTAMP:20260424T064847
CREATED:20260131T055632Z
LAST-MODIFIED:20260131T055632Z
UID:4396-1770748200-1770751800@www.letsmovepbc.org
SUMMARY:SayWHAT! Wellness in action with Angie T.
DESCRIPTION:SayWHAT! 2 FITNESS is all about Wellness\, Health\, Activity\, and Teamwork. The focus is on mindfulness\, motivational energy\, and movement! It’s fun\, energetic\, and made to get you moving! Join Angie T. and come move with me! \nContact to Sign Up: (561) 706-0061
URL:https://www.letsmovepbc.org/event/saywhat-wellness-in-action-with-angie-t-31/
LOCATION:Chaumont Delray\, 731 Ave Chaumont\, Delray Beach\, FL\, 33445\, United States
CATEGORIES:Let's Move 365
ATTACH;FMTTYPE=image/jpeg:https://www.letsmovepbc.org/wp-content/uploads/2025/06/Angie105.jpg
END:VEVENT
BEGIN:VEVENT
DTSTART;TZID=America/New_York:20260210T160000
DTEND;TZID=America/New_York:20260210T170000
DTSTAMP:20260424T064847
CREATED:20260131T061225Z
LAST-MODIFIED:20260131T061225Z
UID:4406-1770739200-1770742800@www.letsmovepbc.org
SUMMARY:Love Thyself – Chair Yoga with Milton
DESCRIPTION:Gentle movements for all abilities. Open to all ages and fitness levels—no prior yoga experience needed! Please wear comfortable clothing and bring a bottle of water. Your journey to wellness begins here! \nInstructor: Milton “Skye” Olen \nFor more information\, please email: annie.glades@htpbc.org
URL:https://www.letsmovepbc.org/event/love-thyself-chair-yoga-with-milton-16/
LOCATION:St. John First Missionary Baptist Church\, 600 SW 8th St\, Belle Glade\, FL\, 33430\, United States
CATEGORIES:Let's Move 365
ATTACH;FMTTYPE=image/jpeg:https://www.letsmovepbc.org/wp-content/uploads/2025/08/milton102.jpg
END:VEVENT
BEGIN:VEVENT
DTSTART;TZID=America/New_York:20260209T180000
DTEND;TZID=America/New_York:20260209T190000
DTSTAMP:20260424T064847
CREATED:20260131T054621Z
LAST-MODIFIED:20260131T054621Z
UID:4390-1770660000-1770663600@www.letsmovepbc.org
SUMMARY:Community Fitness with Rosa
DESCRIPTION:Join us for a balanced workout that gets your heart pumping with cardio\, builds strength with light weights\, and adds a splash of fun with Zumba-inspired moves. This session is perfect for all fitness levels-come ready to move\, groove\, and have a blast while staying healthy! \nPhone: 561-715-3523
URL:https://www.letsmovepbc.org/event/community-fitness-with-rosa-8/
LOCATION:225 NW 12th Ave\, 225 NW 12th Ave\, Boynton Beach\, FL\, 3435\, United States
CATEGORIES:Let's Move 365
ATTACH;FMTTYPE=image/jpeg:https://www.letsmovepbc.org/wp-content/uploads/2025/08/RosaFitness110.jpg
END:VEVENT
BEGIN:VEVENT
DTSTART;TZID=America/New_York:20260209T173000
DTEND;TZID=America/New_York:20260209T183000
DTSTAMP:20260424T064847
CREATED:20260131T063910Z
LAST-MODIFIED:20260131T063910Z
UID:4424-1770658200-1770661800@www.letsmovepbc.org
SUMMARY:E-Motion Zumba with E
DESCRIPTION:Ignite your energy\, move to the beat\, and transform your workout into a party! “E”Motion Zumba Fitness fuses vibrant Latin rhythms with high-intensity cardio to deliver a fun\, full-body dance workout. Designed for all fitness levels\, each class mixes fast and slow songs to boost your metabolism\, tone your muscles\, and improve endurance – all while having a blast. Whether you’re new to dance fitness or a seasoned mover\, “E” Zumba Fitness makes “working out” feel like a celebration. \nInstructor: Elea\nPhone: 561-932-7569
URL:https://www.letsmovepbc.org/event/e-motion-zumba-with-e-13/
LOCATION:Main St\, Pahokee\, 1020 E Main St\, Pahokee\, FL\, 33476\, United States
CATEGORIES:Let's Move 365
ATTACH;FMTTYPE=image/jpeg:https://www.letsmovepbc.org/wp-content/uploads/2026/01/EMotion.jpg
END:VEVENT
BEGIN:VEVENT
DTSTART;TZID=America/New_York:20260208T103000
DTEND;TZID=America/New_York:20260208T113000
DTSTAMP:20260424T064847
CREATED:20260131T052558Z
LAST-MODIFIED:20260131T052558Z
UID:4376-1770546600-1770550200@www.letsmovepbc.org
SUMMARY:Aqua Zumba and More with Aida
DESCRIPTION:Cardio benefits the heart and lungs\, strengthens bones. muscles\, and  the immune system\, and helps with weight reduction. It also reduces stress\, lowers cholesterol and high blood pressure. tones and tightens both the upper and lower body\, and strengthens abdominal muscles. Additionally\, cardio improves balance\, promotes better sleep\, and\, most importantly\, helps develop healthy lifestyle habits! \nContact to Sign Up: (954) 775-5548
URL:https://www.letsmovepbc.org/event/aqua-zumba-and-more-with-aida-13/
LOCATION:Via Vulcanus\, 13290 Via Vulcanus\, Delray Beach\, FL\, 33484\, United States
CATEGORIES:Let's Move 365
ATTACH;FMTTYPE=image/jpeg:https://www.letsmovepbc.org/wp-content/uploads/2026/01/Aida.jpg
END:VEVENT
BEGIN:VEVENT
DTSTART;TZID=America/New_York:20260208T090000
DTEND;TZID=America/New_York:20260208T100000
DTSTAMP:20260424T064847
CREATED:20260202T001337Z
LAST-MODIFIED:20260202T001526Z
UID:4430-1770541200-1770544800@www.letsmovepbc.org
SUMMARY:Zumba Vibez with Lissette Rivera
DESCRIPTION:Join us for a vibrant community Zumba party where you can dance your way to fitness with high-energy Latin rhythms\, no experience needed! \nContact to Sign Up: (561) 452-2730
URL:https://www.letsmovepbc.org/event/zumba-vibez-with-lissette-rivera-22/
LOCATION:Okeeheelee Park\, 7715 Forest Hill Blvd\, West Palm Beach\, FL\, 33413\, United States
CATEGORIES:Let's Move 365
ATTACH;FMTTYPE=image/jpeg:https://www.letsmovepbc.org/wp-content/uploads/2025/06/Lissette107.jpg
END:VEVENT
BEGIN:VEVENT
DTSTART;TZID=America/New_York:20260207T103000
DTEND;TZID=America/New_York:20260207T113000
DTSTAMP:20260424T064847
CREATED:20260202T002410Z
LAST-MODIFIED:20260202T002410Z
UID:4435-1770460200-1770463800@www.letsmovepbc.org
SUMMARY:LET'S MOVE RIVIERA BEACH:  Community Fitness &  Wellness Series with Rhonda
DESCRIPTION:Let’s Move Riviera Beach is a free\, faith-inspired community wellness series designed to bring fun\, energetic\, and educational fitness classes to local recreation centers\, churches\, and neighborhood spaces.\nEach 60-minute session combines 45 minutes of movement (boot camp\, chair fitness\, or Buddy Baton workouts) with 15 minutes of health and wellness discussion led by Coach Rhonda. \nContact: (561) 331-0926
URL:https://www.letsmovepbc.org/event/lets-move-riviera-beach-community-fitness-wellness-series-with-rhonda-6/
LOCATION:R J Hendley Ave\, 2800 R J Hendley Ave\, Riviera Beach\, FL\, 33404\, United States
CATEGORIES:Let's Move 365
ATTACH;FMTTYPE=image/jpeg:https://www.letsmovepbc.org/wp-content/uploads/2026/01/RhondaNew.jpg
END:VEVENT
BEGIN:VEVENT
DTSTART;TZID=America/New_York:20260205T160000
DTEND;TZID=America/New_York:20260205T170000
DTSTAMP:20260424T064847
CREATED:20260131T061041Z
LAST-MODIFIED:20260131T061041Z
UID:4404-1770307200-1770310800@www.letsmovepbc.org
SUMMARY:Love Thyself – Chair Yoga with Milton
DESCRIPTION:Gentle movements for all abilities. Open to all ages and fitness levels—no prior yoga experience needed! Please wear comfortable clothing and bring a bottle of water. Your journey to wellness begins here! \nInstructor: Milton “Skye” Olen \nFor more information\, please email: annie.glades@htpbc.org
URL:https://www.letsmovepbc.org/event/love-thyself-chair-yoga-with-milton-15/
LOCATION:St. John First Missionary Baptist Church\, 600 SW 8th St\, Belle Glade\, FL\, 33430\, United States
CATEGORIES:Let's Move 365
ATTACH;FMTTYPE=image/jpeg:https://www.letsmovepbc.org/wp-content/uploads/2025/08/milton102.jpg
END:VEVENT
BEGIN:VEVENT
DTSTART;TZID=America/New_York:20260203T183000
DTEND;TZID=America/New_York:20260203T193000
DTSTAMP:20260424T064847
CREATED:20260131T055458Z
LAST-MODIFIED:20260131T055458Z
UID:4394-1770143400-1770147000@www.letsmovepbc.org
SUMMARY:SayWHAT! Wellness in action with Angie T.
DESCRIPTION:SayWHAT! 2 FITNESS is all about Wellness\, Health\, Activity\, and Teamwork. The focus is on mindfulness\, motivational energy\, and movement! It’s fun\, energetic\, and made to get you moving! Join Angie T. and come move with me! \nContact to Sign Up: (561) 706-0061
URL:https://www.letsmovepbc.org/event/saywhat-wellness-in-action-with-angie-t-30/
LOCATION:Chaumont Delray\, 731 Ave Chaumont\, Delray Beach\, FL\, 33445\, United States
CATEGORIES:Let's Move 365
ATTACH;FMTTYPE=image/jpeg:https://www.letsmovepbc.org/wp-content/uploads/2025/06/Angie105.jpg
END:VEVENT
BEGIN:VEVENT
DTSTART;TZID=America/New_York:20260203T160000
DTEND;TZID=America/New_York:20260203T170000
DTSTAMP:20260424T064847
CREATED:20260131T060605Z
LAST-MODIFIED:20260131T060605Z
UID:4402-1770134400-1770138000@www.letsmovepbc.org
SUMMARY:Love Thyself – Chair Yoga with Milton
DESCRIPTION:Gentle movements for all abilities. Open to all ages and fitness levels—no prior yoga experience needed! Please wear comfortable clothing and bring a bottle of water. Your journey to wellness begins here! \nInstructor: Milton “Skye” Olen \nFor more information\, please email: annie.glades@htpbc.org
URL:https://www.letsmovepbc.org/event/love-thyself-chair-yoga-with-milton-14/
LOCATION:St. John First Missionary Baptist Church\, 600 SW 8th St\, Belle Glade\, FL\, 33430\, United States
CATEGORIES:Let's Move 365
ATTACH;FMTTYPE=image/jpeg:https://www.letsmovepbc.org/wp-content/uploads/2025/08/milton102.jpg
END:VEVENT
BEGIN:VEVENT
DTSTART;TZID=America/New_York:20260203T114500
DTEND;TZID=America/New_York:20260203T124500
DTSTAMP:20260424T064847
CREATED:20260131T053701Z
LAST-MODIFIED:20260131T053701Z
UID:4382-1770119100-1770122700@www.letsmovepbc.org
SUMMARY:Fitness in the Church with Rosa
DESCRIPTION:Cardio and Strength Training/moving and grooving to the beat. A balanced workout incorporating heart-pumping cardio exercises and strength-building activities using light weights. \nContact to Sign Up: (561) 715-3523
URL:https://www.letsmovepbc.org/event/fitness-in-the-church-with-rosa-8/
LOCATION:404 SW 3rd St\, 404 Southwest 3rd Street\, Delray Beach\, FL\, 33444\, United States
CATEGORIES:Let's Move 365
ATTACH;FMTTYPE=image/jpeg:https://www.letsmovepbc.org/wp-content/uploads/2025/06/Rosa108.jpg
END:VEVENT
BEGIN:VEVENT
DTSTART;TZID=America/New_York:20260202T173000
DTEND;TZID=America/New_York:20260202T183000
DTSTAMP:20260424T064847
CREATED:20260131T063648Z
LAST-MODIFIED:20260131T063648Z
UID:4418-1770053400-1770057000@www.letsmovepbc.org
SUMMARY:E-Motion Zumba with E
DESCRIPTION:Ignite your energy\, move to the beat\, and transform your workout into a party! “E”Motion Zumba Fitness fuses vibrant Latin rhythms with high-intensity cardio to deliver a fun\, full-body dance workout. Designed for all fitness levels\, each class mixes fast and slow songs to boost your metabolism\, tone your muscles\, and improve endurance – all while having a blast. Whether you’re new to dance fitness or a seasoned mover\, “E” Zumba Fitness makes “working out” feel like a celebration. \nInstructor: Elea\nPhone: 561-932-7569
URL:https://www.letsmovepbc.org/event/e-motion-zumba-with-e-12/
LOCATION:Main St\, Pahokee\, 1020 E Main St\, Pahokee\, FL\, 33476\, United States
CATEGORIES:Let's Move 365
ATTACH;FMTTYPE=image/jpeg:https://www.letsmovepbc.org/wp-content/uploads/2026/01/EMotion.jpg
END:VEVENT
BEGIN:VEVENT
DTSTART;TZID=America/New_York:20260201T103000
DTEND;TZID=America/New_York:20260201T113000
DTSTAMP:20260424T064847
CREATED:20260131T052351Z
LAST-MODIFIED:20260131T052351Z
UID:4374-1769941800-1769945400@www.letsmovepbc.org
SUMMARY:Aqua Zumba and More with Aida
DESCRIPTION:Cardio benefits the heart and lungs\, strengthens bones. muscles\, and  the immune system\, and helps with weight reduction. It also reduces stress\, lowers cholesterol and high blood pressure. tones and tightens both the upper and lower body\, and strengthens abdominal muscles. Additionally\, cardio improves balance\, promotes better sleep\, and\, most importantly\, helps develop healthy lifestyle habits! \nContact to Sign Up: (954) 775-5548
URL:https://www.letsmovepbc.org/event/aqua-zumba-and-more-with-aida-12/
LOCATION:Via Vulcanus\, 13290 Via Vulcanus\, Delray Beach\, FL\, 33484\, United States
CATEGORIES:Let's Move 365
ATTACH;FMTTYPE=image/jpeg:https://www.letsmovepbc.org/wp-content/uploads/2026/01/Aida.jpg
END:VEVENT
BEGIN:VEVENT
DTSTART;TZID=America/New_York:20260131T103000
DTEND;TZID=America/New_York:20260131T113000
DTSTAMP:20260424T064847
CREATED:20251229T170428Z
LAST-MODIFIED:20251229T170428Z
UID:4316-1769855400-1769859000@www.letsmovepbc.org
SUMMARY:LET'S MOVE RIVIERA BEACH:  Community Fitness &  Wellness Series with Rhonda
DESCRIPTION:Let’s Move Riviera Beach is a free\, faith-inspired community wellness series designed to bring fun\, energetic\, and educational fitness classes to local recreation centers\, churches\, and neighborhood spaces.\nEach 60-minute session combines 45 minutes of movement (boot camp\, chair fitness\, or Buddy Baton workouts) with 15 minutes of health and wellness discussion led by Coach Rhonda. \nContact: (561) 331-0926
URL:https://www.letsmovepbc.org/event/lets-move-riviera-beach-community-fitness-wellness-series-with-rhonda-5/
LOCATION:R J Hendley Ave\, 2800 R J Hendley Ave\, Riviera Beach\, FL\, 33404\, United States
CATEGORIES:Let's Move 365
ATTACH;FMTTYPE=image/jpeg:https://www.letsmovepbc.org/wp-content/uploads/2025/12/Rhonda.jpg
END:VEVENT
BEGIN:VEVENT
DTSTART;TZID=America/New_York:20260127T183000
DTEND;TZID=America/New_York:20260127T193000
DTSTAMP:20260424T064847
CREATED:20260106T221009Z
LAST-MODIFIED:20260106T221009Z
UID:4345-1769538600-1769542200@www.letsmovepbc.org
SUMMARY:SayWHAT! Wellness in action with Angie T.
DESCRIPTION:SayWHAT! 2 FITNESS is all about Wellness\, Health\, Activity\, and Teamwork. The focus is on mindfulness\, motivational energy\, and movement! It’s fun\, energetic\, and made to get you moving! Join Angie T. and come move with me! \nContact to Sign Up: (561) 706-0061
URL:https://www.letsmovepbc.org/event/saywhat-wellness-in-action-with-angie-t-29/
LOCATION:Chaumont Delray\, 731 Ave Chaumont\, Delray Beach\, FL\, 33445\, United States
CATEGORIES:Let's Move 365
ATTACH;FMTTYPE=image/jpeg:https://www.letsmovepbc.org/wp-content/uploads/2025/06/Angie105.jpg
END:VEVENT
BEGIN:VEVENT
DTSTART;TZID=America/New_York:20260127T180000
DTEND;TZID=America/New_York:20260127T190000
DTSTAMP:20260424T064847
CREATED:20260106T220237Z
LAST-MODIFIED:20260106T220237Z
UID:4337-1769536800-1769540400@www.letsmovepbc.org
SUMMARY:Latin Vibes Fitness with Nora
DESCRIPTION:Join us for Latin Vibes Fitness\, a high-energy Zumba session that mixes Latin rhythms with fun\, easy-to-follow moves designed to boost your mood and energy! Classes are held both indoors and outdoors — bringing you movement\, music\, and joy in every setting. Whether you’re a beginner or experienced\, you’ll leave feeling stronger\, happier\, and inspired. \nContact:\nNoralara@gmail.com
URL:https://www.letsmovepbc.org/event/latin-vibes-fitness-with-nora-30/
LOCATION:Old Town Hall Jupiter\, 1000 Townhall Ave\, Jupiter\, FL\, 33458\, United States
CATEGORIES:Let's Move 365
ATTACH;FMTTYPE=image/jpeg:https://www.letsmovepbc.org/wp-content/uploads/2025/08/Nora103.jpg
END:VEVENT
END:VCALENDAR