BEGIN:VCALENDAR
VERSION:2.0
PRODID:-//Let&#039;s Move PBC - ECPv6.15.20//NONSGML v1.0//EN
CALSCALE:GREGORIAN
METHOD:PUBLISH
X-WR-CALNAME:Let&#039;s Move PBC
X-ORIGINAL-URL:https://www.letsmovepbc.org
X-WR-CALDESC:Events for Let&#039;s Move PBC
REFRESH-INTERVAL;VALUE=DURATION:PT1H
X-Robots-Tag:noindex
X-PUBLISHED-TTL:PT1H
BEGIN:VTIMEZONE
TZID:America/New_York
BEGIN:DAYLIGHT
TZOFFSETFROM:-0500
TZOFFSETTO:-0400
TZNAME:EDT
DTSTART:20240310T070000
END:DAYLIGHT
BEGIN:STANDARD
TZOFFSETFROM:-0400
TZOFFSETTO:-0500
TZNAME:EST
DTSTART:20241103T060000
END:STANDARD
BEGIN:DAYLIGHT
TZOFFSETFROM:-0500
TZOFFSETTO:-0400
TZNAME:EDT
DTSTART:20250309T070000
END:DAYLIGHT
BEGIN:STANDARD
TZOFFSETFROM:-0400
TZOFFSETTO:-0500
TZNAME:EST
DTSTART:20251102T060000
END:STANDARD
BEGIN:DAYLIGHT
TZOFFSETFROM:-0500
TZOFFSETTO:-0400
TZNAME:EDT
DTSTART:20260308T070000
END:DAYLIGHT
BEGIN:STANDARD
TZOFFSETFROM:-0400
TZOFFSETTO:-0500
TZNAME:EST
DTSTART:20261101T060000
END:STANDARD
END:VTIMEZONE
BEGIN:VEVENT
DTSTART;TZID=America/New_York:20251021T180000
DTEND;TZID=America/New_York:20251021T190000
DTSTAMP:20260425T090016
CREATED:20251015T212350Z
LAST-MODIFIED:20251015T212350Z
UID:4033-1761069600-1761073200@www.letsmovepbc.org
SUMMARY:Latin Vibes Fitness with Nora
DESCRIPTION:Join us for Latin Vibes Fitness\, a high-energy Zumba session that mixes Latin rhythms with fun\, easy-to-follow moves designed to boost your mood and energy! Classes are held both indoors and outdoors — bringing you movement\, music\, and joy in every setting. Whether you’re a beginner or experienced\, you’ll leave feeling stronger\, happier\, and inspired. \nContact:\nNoralara@gmail.com
URL:https://www.letsmovepbc.org/event/latin-vibes-fitness-with-nora-13/
LOCATION:Old Town Hall Jupiter\, 1000 Townhall Ave\, Jupiter\, FL\, 33458\, United States
CATEGORIES:Let's Move 365
ATTACH;FMTTYPE=image/jpeg:https://www.letsmovepbc.org/wp-content/uploads/2025/08/Nora103.jpg
END:VEVENT
BEGIN:VEVENT
DTSTART;TZID=America/New_York:20251021T160000
DTEND;TZID=America/New_York:20251021T170000
DTSTAMP:20260425T090016
CREATED:20251015T210657Z
LAST-MODIFIED:20251015T210657Z
UID:4025-1761062400-1761066000@www.letsmovepbc.org
SUMMARY:Love Thyself – Chair Yoga
DESCRIPTION:Gentle movements for all abilities. Open to all ages and fitness levels—no prior yoga experience needed! Please wear comfortable clothing and bring a bottle of water. Your journey to wellness begins here! \nInstructor: Milton “Skye” Olen \nFor more information\, please email: annie.glades@htpbc.org
URL:https://www.letsmovepbc.org/event/love-thyself-chair-yoga-10/
LOCATION:St. John First Missionary Baptist Church\, 600 SW 8th St\, Belle Glade\, FL\, 33430\, United States
CATEGORIES:Let's Move 365
ATTACH;FMTTYPE=image/jpeg:https://www.letsmovepbc.org/wp-content/uploads/2025/08/milton102.jpg
END:VEVENT
BEGIN:VEVENT
DTSTART;TZID=America/New_York:20251021T114500
DTEND;TZID=America/New_York:20251021T124500
DTSTAMP:20260425T090016
CREATED:20251015T214055Z
LAST-MODIFIED:20251015T214055Z
UID:4039-1761047100-1761050700@www.letsmovepbc.org
SUMMARY:Fitness in the Church with Rosa
DESCRIPTION:Cardio and Strength Training/moving and grooving to the beat. A balanced workout incorporating heart-pumping cardio exercises and strength-building activities using light weights. \nContact to Sign Up: (561) 715-3523
URL:https://www.letsmovepbc.org/event/fitness-in-the-church-with-rosa/
LOCATION:404 SW 3rd St\, 404 Southwest 3rd Street\, Delray Beach\, FL\, 33444\, United States
CATEGORIES:Let's Move 365
ATTACH;FMTTYPE=image/jpeg:https://www.letsmovepbc.org/wp-content/uploads/2025/06/Rosa108.jpg
END:VEVENT
BEGIN:VEVENT
DTSTART;TZID=America/New_York:20251020T180000
DTEND;TZID=America/New_York:20251020T190000
DTSTAMP:20260425T090016
CREATED:20251015T234347Z
LAST-MODIFIED:20251015T234347Z
UID:4074-1760983200-1760986800@www.letsmovepbc.org
SUMMARY:E-Motion Zumba
DESCRIPTION:jEnciende tu energia\, muevete al ritmo y transforma tu entrenamiento en una fiesta! “E” Motion Zumba Fitness combina vibrantes ritmos latinos con cardio de alto intensidad para ofrecer un divertido entrenamiento de baile para todo el cuerpo. Disenada para todos los niveles de condici6n fisica\, coda close mezcla canciones r6pidas y lentos para aumentar tu metabolismo\, tonificar tus musculos y mejorar la resistencia\, jtodo mientras te diviertes al m6ximo! Ya seas nuevo en el fitness de baile o un bailarin experimentado\,\n“E” Zumba Fitness hace que “entrenar” se sienta como una celebraci6n. \nContacto para inscribirse: (561) 932-7569
URL:https://www.letsmovepbc.org/event/e-motion-zumba-11/
LOCATION:Tanner Park\, 105 E. Palm Beach Road\, South Bay\, FL\, 33493\, United States
CATEGORIES:Let's Move 365
ATTACH;FMTTYPE=image/jpeg:https://www.letsmovepbc.org/wp-content/uploads/2025/10/EMotionSpanish.jpg
END:VEVENT
BEGIN:VEVENT
DTSTART;TZID=America/New_York:20251020T180000
DTEND;TZID=America/New_York:20251020T190000
DTSTAMP:20260425T090016
CREATED:20251015T222310Z
LAST-MODIFIED:20251015T230205Z
UID:4050-1760983200-1760986800@www.letsmovepbc.org
SUMMARY:E-Motion Zumba
DESCRIPTION:Ignite your energy\, move to the beat\, and transform your workout into a party! “E”Motion Zumba Fitness fuses vibrant Latin rhythms with high-intensity cardio to deliver a fun\, full-body dance workout. Designed for all fitness levels\, each class mixes fast and slow songs to boost your metabolism\, tone your muscles\, and improve endurance – all while having a blast. Whether you’re new to dance fitness or a seasoned mover\, “E” Zumba Fitness makes “working out” feel like a celebration. \nInstructor: E\nPhone: 561-932-7569
URL:https://www.letsmovepbc.org/event/e-motion-zumba-9/
LOCATION:Tanner Park\, 105 E. Palm Beach Road\, South Bay\, FL\, 33493\, United States
CATEGORIES:Let's Move 365
ATTACH;FMTTYPE=image/jpeg:https://www.letsmovepbc.org/wp-content/uploads/2025/10/EMotion.jpg
END:VEVENT
BEGIN:VEVENT
DTSTART;TZID=America/New_York:20251017T183000
DTEND;TZID=America/New_York:20251017T200000
DTSTAMP:20260425T090016
CREATED:20251015T233426Z
LAST-MODIFIED:20251015T233426Z
UID:4068-1760725800-1760731200@www.letsmovepbc.org
SUMMARY:Skyehigh Steppin'  Friday Night House  Party
DESCRIPTION:Let’s get moving and have some fun! Join us as\nwe break down that soul line dance you’ve been watching\,\nstep by step. Whether you’re a beginner or just want to groove with the community. It’s all about energy\, fun\, and movement. Come dance and connect! \nCall to Sign Up: (561) 441-9411
URL:https://www.letsmovepbc.org/event/skyehigh-steppin-friday-night-house-party/
LOCATION:Pompey Park\, 1101 NW 2nd St\, Delray Beach\, FL\, 33444\, United States
CATEGORIES:Let's Move 365
ATTACH;FMTTYPE=image/jpeg:https://www.letsmovepbc.org/wp-content/uploads/2025/10/SkyeHigh.jpg
END:VEVENT
BEGIN:VEVENT
DTSTART;TZID=America/New_York:20251015T091500
DTEND;TZID=America/New_York:20251015T101500
DTSTAMP:20260425T090016
CREATED:20251015T214623Z
LAST-MODIFIED:20251028T210539Z
UID:4041-1760519700-1760523300@www.letsmovepbc.org
SUMMARY:Fitness in the Community with Rosa
DESCRIPTION:Join us for a balanced workout that offers standing and chair Zumba! This session is perfect for all fitness levels-come ready to move\, groove\, and have a blast while staying healthy! \nContact to Sign Up: (561) 715-3523
URL:https://www.letsmovepbc.org/event/fitness-in-the-community-with-rosa/
LOCATION:Delray Villas\, 13773 Circular\, Drive Delray Beach\, FL\, 33484\, United States
CATEGORIES:Let's Move 365
ATTACH;FMTTYPE=image/jpeg:https://www.letsmovepbc.org/wp-content/uploads/2025/06/RosaCommunity109.jpg
END:VEVENT
BEGIN:VEVENT
DTSTART;TZID=America/New_York:20250930T183000
DTEND;TZID=America/New_York:20250930T193000
DTSTAMP:20260425T090016
CREATED:20250606T223635Z
LAST-MODIFIED:20250825T182538Z
UID:3860-1759257000-1759260600@www.letsmovepbc.org
SUMMARY:sayWHAT! Wellness in action with Angie T.
DESCRIPTION:SayWHAT! 2 FITNESS is all about Wellness\, Health\, Activity\, and Teamwork. The focus is on mindfulness\, motivational energy\, and movement! It’s fun\, energetic\, and made to get you moving! Join Angie T. and come move with me! \nContact to Sign Up: (561) 706-0061
URL:https://www.letsmovepbc.org/event/saywhat-wellness-in-action-with-angie-t-17/
LOCATION:Chaumont Delray\, 731 Ave Chaumont\, Delray Beach\, FL\, 33445\, United States
CATEGORIES:Let's Move 365
ATTACH;FMTTYPE=image/jpeg:https://www.letsmovepbc.org/wp-content/uploads/2025/06/Angie105.jpg
END:VEVENT
BEGIN:VEVENT
DTSTART;TZID=America/New_York:20250930T180000
DTEND;TZID=America/New_York:20250930T190000
DTSTAMP:20260425T090016
CREATED:20250824T221707Z
LAST-MODIFIED:20250824T221707Z
UID:3971-1759255200-1759258800@www.letsmovepbc.org
SUMMARY:Latin Vibes Fitness with Nora
DESCRIPTION:Join us for Latin Vibes Fitness\, a high-energy Zumba session that mixes Latin rhythms with fun\, easy-to-follow moves designed to boost your mood and energy! Classes are held both indoors and outdoors — bringing you movement\, music\, and joy in every setting. Whether you’re a beginner or experienced\, you’ll leave feeling stronger\, happier\, and inspired. \nContact:\nNoralara@gmail.com
URL:https://www.letsmovepbc.org/event/latin-vibes-fitness-with-nora-22/
LOCATION:Old Town Hall Jupiter\, 1000 Townhall Ave\, Jupiter\, FL\, 33458\, United States
CATEGORIES:Let's Move 365
ATTACH;FMTTYPE=image/jpeg:https://www.letsmovepbc.org/wp-content/uploads/2025/08/Nora103.jpg
END:VEVENT
BEGIN:VEVENT
DTSTART;TZID=America/New_York:20250930T160000
DTEND;TZID=America/New_York:20250930T170000
DTSTAMP:20260425T090016
CREATED:20250824T205855Z
LAST-MODIFIED:20250824T205855Z
UID:3957-1759248000-1759251600@www.letsmovepbc.org
SUMMARY:Love Thyself – Chair Yoga
DESCRIPTION:Gentle movements for all abilities. Open to all ages and fitness levels—no prior yoga experience needed! Please wear comfortable clothing and bring a bottle of water. Your journey to wellness begins here! \nInstructor: Milton “Skye” Olen \nFor more information\, please email: annie.glades@htpbc.org
URL:https://www.letsmovepbc.org/event/love-thyself-chair-yoga-9/
LOCATION:St. John First Missionary Baptist Church\, 600 SW 8th St\, Belle Glade\, FL\, 33430\, United States
CATEGORIES:Let's Move 365
ATTACH;FMTTYPE=image/jpeg:https://www.letsmovepbc.org/wp-content/uploads/2025/08/milton102.jpg
END:VEVENT
BEGIN:VEVENT
DTSTART;TZID=America/New_York:20250928T090000
DTEND;TZID=America/New_York:20250928T100000
DTSTAMP:20260425T090016
CREATED:20250606T204615Z
LAST-MODIFIED:20250826T030422Z
UID:3794-1759050000-1759053600@www.letsmovepbc.org
SUMMARY:Zumba Vibez with Lissette Rivera
DESCRIPTION:Join us for a vibrant community Zumba party where you can dance your way to fitness with high-energy Latin rhythms\, no experience needed! \nContact to Sign Up: (561) 452-2730
URL:https://www.letsmovepbc.org/event/zumba-vibez-with-lissette-rivera-16/
LOCATION:Okeeheelee Park\, 7715 Forest Hill Blvd\, West Palm Beach\, FL\, 33413\, United States
CATEGORIES:Let's Move 365
ATTACH;FMTTYPE=image/jpeg:https://www.letsmovepbc.org/wp-content/uploads/2025/06/Lissette107.jpg
END:VEVENT
BEGIN:VEVENT
DTSTART;TZID=America/New_York:20250926T183000
DTEND;TZID=America/New_York:20250926T193000
DTSTAMP:20260425T090016
CREATED:20250825T014042Z
LAST-MODIFIED:20250825T014042Z
UID:3994-1758911400-1758915000@www.letsmovepbc.org
SUMMARY:Line Dancing Fridays with Andrea
DESCRIPTION:Get ready to move\, groove\, and sweat with Country Cardio! This high-energy class combines the fun of line dancing with SOUL. Perfect for all ages and fitness levels\, you’ll learn easy-to-follow steps that will have you dancing your way to better health.\nNo experience or cowboy boots required—just bring your energy\, a smile\, and a willingness to have fun! Let’s dance\, laugh\, and burn calories together!
URL:https://www.letsmovepbc.org/event/line-dancing-fridays-with-andrea-4/
LOCATION:Pompey Park\, 1101 NW 2nd St\, Delray Beach\, FL\, 33444\, United States
CATEGORIES:Let's Move 365
ATTACH;FMTTYPE=image/jpeg:https://www.letsmovepbc.org/wp-content/uploads/2025/08/Andrea104.jpg
END:VEVENT
BEGIN:VEVENT
DTSTART;TZID=America/New_York:20250925T160000
DTEND;TZID=America/New_York:20250925T170000
DTSTAMP:20260425T090016
CREATED:20250824T205727Z
LAST-MODIFIED:20250824T205727Z
UID:3955-1758816000-1758819600@www.letsmovepbc.org
SUMMARY:Love Thyself – Chair Yoga
DESCRIPTION:Gentle movements for all abilities. Open to all ages and fitness levels—no prior yoga experience needed! Please wear comfortable clothing and bring a bottle of water. Your journey to wellness begins here! \nInstructor: Milton “Skye” Olen \nFor more information\, please email: annie.glades@htpbc.org
URL:https://www.letsmovepbc.org/event/love-thyself-chair-yoga-8/
LOCATION:St. John First Missionary Baptist Church\, 600 SW 8th St\, Belle Glade\, FL\, 33430\, United States
CATEGORIES:Let's Move 365
ATTACH;FMTTYPE=image/jpeg:https://www.letsmovepbc.org/wp-content/uploads/2025/08/milton102.jpg
END:VEVENT
BEGIN:VEVENT
DTSTART;TZID=America/New_York:20250924T173000
DTEND;TZID=America/New_York:20250924T183000
DTSTAMP:20260425T090016
CREATED:20250825T004847Z
LAST-MODIFIED:20250825T004847Z
UID:3984-1758735000-1758738600@www.letsmovepbc.org
SUMMARY:Aqua Zumba with Aida
DESCRIPTION:Aqua Zumba is a water-based workout that combines Zumba dance moves with traditional aqua fitness exercises. It’s a cardio-conditioning\, body-toning workout that takes place in a pool. \nPhone: 954-775-5548
URL:https://www.letsmovepbc.org/event/aqua-zumba-with-aida-4/
LOCATION:Via Vulcanus\, 13290 Via Vulcanus\, Delray Beach\, FL\, 33484\, United States
CATEGORIES:Let's Move 365
ATTACH;FMTTYPE=image/jpeg:https://www.letsmovepbc.org/wp-content/uploads/2025/08/DNA106.jpg
END:VEVENT
BEGIN:VEVENT
DTSTART;TZID=America/New_York:20250923T183000
DTEND;TZID=America/New_York:20250923T193000
DTSTAMP:20260425T090016
CREATED:20250606T223509Z
LAST-MODIFIED:20250825T183441Z
UID:3858-1758652200-1758655800@www.letsmovepbc.org
SUMMARY:sayWHAT! Wellness in action with Angie T.
DESCRIPTION:SayWHAT! 2 FITNESS is all about Wellness\, Health\, Activity\, and Teamwork. The focus is on mindfulness\, motivational energy\, and movement! It’s fun\, energetic\, and made to get you moving! Join Angie T. and come move with me! \nContact to Sign Up: (561) 706-0061
URL:https://www.letsmovepbc.org/event/saywhat-wellness-in-action-with-angie-t-16/
LOCATION:Chaumont Delray\, 731 Ave Chaumont\, Delray Beach\, FL\, 33445\, United States
CATEGORIES:Let's Move 365
ATTACH;FMTTYPE=image/jpeg:https://www.letsmovepbc.org/wp-content/uploads/2025/06/Angie105.jpg
END:VEVENT
BEGIN:VEVENT
DTSTART;TZID=America/New_York:20250923T180000
DTEND;TZID=America/New_York:20250923T190000
DTSTAMP:20260425T090016
CREATED:20250824T221522Z
LAST-MODIFIED:20250824T221522Z
UID:3967-1758650400-1758654000@www.letsmovepbc.org
SUMMARY:Latin Vibes Fitness with Nora
DESCRIPTION:Join us for Latin Vibes Fitness\, a high-energy Zumba session that mixes Latin rhythms with fun\, easy-to-follow moves designed to boost your mood and energy! Classes are held both indoors and outdoors — bringing you movement\, music\, and joy in every setting. Whether you’re a beginner or experienced\, you’ll leave feeling stronger\, happier\, and inspired. \nContact:\nNoralara@gmail.com
URL:https://www.letsmovepbc.org/event/latin-vibes-fitness-with-nora-21/
LOCATION:Old Town Hall Jupiter\, 1000 Townhall Ave\, Jupiter\, FL\, 33458\, United States
CATEGORIES:Let's Move 365
ATTACH;FMTTYPE=image/jpeg:https://www.letsmovepbc.org/wp-content/uploads/2025/08/Nora103.jpg
END:VEVENT
BEGIN:VEVENT
DTSTART;TZID=America/New_York:20250923T160000
DTEND;TZID=America/New_York:20250923T170000
DTSTAMP:20260425T090016
CREATED:20250824T205620Z
LAST-MODIFIED:20250824T205620Z
UID:3953-1758643200-1758646800@www.letsmovepbc.org
SUMMARY:Love Thyself – Chair Yoga
DESCRIPTION:Gentle movements for all abilities. Open to all ages and fitness levels—no prior yoga experience needed! Please wear comfortable clothing and bring a bottle of water. Your journey to wellness begins here! \nInstructor: Milton “Skye” Olen \nFor more information\, please email: annie.glades@htpbc.org
URL:https://www.letsmovepbc.org/event/love-thyself-chair-yoga-7/
LOCATION:St. John First Missionary Baptist Church\, 600 SW 8th St\, Belle Glade\, FL\, 33430\, United States
CATEGORIES:Let's Move 365
ATTACH;FMTTYPE=image/jpeg:https://www.letsmovepbc.org/wp-content/uploads/2025/08/milton102.jpg
END:VEVENT
BEGIN:VEVENT
DTSTART;TZID=America/New_York:20250922T180000
DTEND;TZID=America/New_York:20250922T190000
DTSTAMP:20260425T090016
CREATED:20250825T182313Z
LAST-MODIFIED:20250825T182313Z
UID:4001-1758564000-1758567600@www.letsmovepbc.org
SUMMARY:Community Fitness with Rosa
DESCRIPTION:Join us for a balanced workout that gets your heart pumping with cardio\, builds strength with light weights\, and adds a splash of fun with Zumba-inspired moves. This session is perfect for all fitness levels-come ready to move\, groove\, and have a blast while staying healthy! \nPhone: 561-715-3523
URL:https://www.letsmovepbc.org/event/community-fitness-with-rosa-2/
LOCATION:225 NW 12th Ave\, 225 NW 12th Ave\, Boynton Beach\, FL\, 3435\, United States
CATEGORIES:Let's Move 365
ATTACH;FMTTYPE=image/jpeg:https://www.letsmovepbc.org/wp-content/uploads/2025/08/RosaFitness110.jpg
END:VEVENT
BEGIN:VEVENT
DTSTART;VALUE=DATE:20250920
DTEND;VALUE=DATE:20250921
DTSTAMP:20260425T090016
CREATED:20241230T170854Z
LAST-MODIFIED:20241230T170854Z
UID:3307-1758326400-1758412799@www.letsmovepbc.org
SUMMARY:Fit Nation Celebration
DESCRIPTION:Fit Nation Celebration \nDate: September 20\, 2025
URL:https://www.letsmovepbc.org/event/fit-nation-celebration/
LOCATION:FL
CATEGORIES:Let's Move 365
END:VEVENT
BEGIN:VEVENT
DTSTART;TZID=America/New_York:20250919T183000
DTEND;TZID=America/New_York:20250919T193000
DTSTAMP:20260425T090016
CREATED:20250825T013913Z
LAST-MODIFIED:20250825T013913Z
UID:3992-1758306600-1758310200@www.letsmovepbc.org
SUMMARY:Line Dancing Fridays with Andrea
DESCRIPTION:Get ready to move\, groove\, and sweat with Country Cardio! This high-energy class combines the fun of line dancing with SOUL. Perfect for all ages and fitness levels\, you’ll learn easy-to-follow steps that will have you dancing your way to better health.\nNo experience or cowboy boots required—just bring your energy\, a smile\, and a willingness to have fun! Let’s dance\, laugh\, and burn calories together!
URL:https://www.letsmovepbc.org/event/line-dancing-fridays-with-andrea-3/
LOCATION:Pompey Park\, 1101 NW 2nd St\, Delray Beach\, FL\, 33444\, United States
CATEGORIES:Let's Move 365
ATTACH;FMTTYPE=image/jpeg:https://www.letsmovepbc.org/wp-content/uploads/2025/08/Andrea104.jpg
END:VEVENT
BEGIN:VEVENT
DTSTART;TZID=America/New_York:20250918T160000
DTEND;TZID=America/New_York:20250918T170000
DTSTAMP:20260425T090016
CREATED:20250824T205453Z
LAST-MODIFIED:20250824T205453Z
UID:3951-1758211200-1758214800@www.letsmovepbc.org
SUMMARY:Love Thyself – Chair Yoga
DESCRIPTION:Gentle movements for all abilities. Open to all ages and fitness levels—no prior yoga experience needed! Please wear comfortable clothing and bring a bottle of water. Your journey to wellness begins here! \nInstructor: Milton “Skye” Olen \nFor more information\, please email: annie.glades@htpbc.org
URL:https://www.letsmovepbc.org/event/love-thyself-chair-yoga-6/
LOCATION:St. John First Missionary Baptist Church\, 600 SW 8th St\, Belle Glade\, FL\, 33430\, United States
CATEGORIES:Let's Move 365
ATTACH;FMTTYPE=image/jpeg:https://www.letsmovepbc.org/wp-content/uploads/2025/08/milton102.jpg
END:VEVENT
BEGIN:VEVENT
DTSTART;TZID=America/New_York:20250917T173000
DTEND;TZID=America/New_York:20250917T183000
DTSTAMP:20260425T090016
CREATED:20250825T004631Z
LAST-MODIFIED:20250825T004631Z
UID:3982-1758130200-1758133800@www.letsmovepbc.org
SUMMARY:Aqua Zumba with Aida
DESCRIPTION:Aqua Zumba is a water-based workout that combines Zumba dance moves with traditional aqua fitness exercises. It’s a cardio-conditioning\, body-toning workout that takes place in a pool. \nPhone: 954-775-5548
URL:https://www.letsmovepbc.org/event/aqua-zumba-with-aida-3/
LOCATION:Via Vulcanus\, 13290 Via Vulcanus\, Delray Beach\, FL\, 33484\, United States
CATEGORIES:Let's Move 365
ATTACH;FMTTYPE=image/jpeg:https://www.letsmovepbc.org/wp-content/uploads/2025/08/DNA106.jpg
END:VEVENT
BEGIN:VEVENT
DTSTART;TZID=America/New_York:20250917T160000
DTEND;TZID=America/New_York:20250917T170000
DTSTAMP:20260425T090016
CREATED:20250123T145444Z
LAST-MODIFIED:20250123T145444Z
UID:3405-1758124800-1758128400@www.letsmovepbc.org
SUMMARY:Yoga in the park
DESCRIPTION:Join Allison for an hour yoga class. You will move your body\, relax your mind\, and destress in this all-levels yoga class. This class is meant to bring you peace\, strength and confidence in yourself. Bring a yoga mat and meet in the park. Have fun!
URL:https://www.letsmovepbc.org/event/yoga-in-the-park-9/
LOCATION:Meadows Park\, 4305 N Congress Ave\, Boynton Beach\, FL\, 33436\, United States
CATEGORIES:Let's Move 365
END:VEVENT
BEGIN:VEVENT
DTSTART;TZID=America/New_York:20250917T091500
DTEND;TZID=America/New_York:20250917T101500
DTSTAMP:20260425T090016
CREATED:20250606T171238Z
LAST-MODIFIED:20250825T222625Z
UID:3776-1758100500-1758104100@www.letsmovepbc.org
SUMMARY:Fitness in the community with Rosa
DESCRIPTION:Join us for a balanced workout that offers standing and chair Zumba! This session is perfect for all fitness levels-come ready to move\, groove\, and have a blast while staying healthy! \nContact to Sign Up: (561) 715-3523
URL:https://www.letsmovepbc.org/event/rosa-fitness-in-the-community-8/
LOCATION:Delray Villas\, 13773 Circular\, Drive Delray Beach\, FL\, 33484\, United States
CATEGORIES:Let's Move 365
ATTACH;FMTTYPE=image/jpeg:https://www.letsmovepbc.org/wp-content/uploads/2025/06/RosaCommunity109.jpg
END:VEVENT
BEGIN:VEVENT
DTSTART;TZID=America/New_York:20250916T183000
DTEND;TZID=America/New_York:20250916T193000
DTSTAMP:20260425T090016
CREATED:20250606T223343Z
LAST-MODIFIED:20250825T211503Z
UID:3856-1758047400-1758051000@www.letsmovepbc.org
SUMMARY:sayWHAT! Wellness in action with Angie T.
DESCRIPTION:SayWHAT! 2 FITNESS is all about Wellness\, Health\, Activity\, and Teamwork. The focus is on mindfulness\, motivational energy\, and movement! It’s fun\, energetic\, and made to get you moving! Join Angie T. and come move with me! \nContact to Sign Up: (561) 706-0061
URL:https://www.letsmovepbc.org/event/saywhat-wellness-in-action-with-angie-t-15/
LOCATION:Chaumont Delray\, 731 Ave Chaumont\, Delray Beach\, FL\, 33445\, United States
CATEGORIES:Let's Move 365
ATTACH;FMTTYPE=image/jpeg:https://www.letsmovepbc.org/wp-content/uploads/2025/06/Angie105.jpg
END:VEVENT
BEGIN:VEVENT
DTSTART;TZID=America/New_York:20250916T180000
DTEND;TZID=America/New_York:20250916T190000
DTSTAMP:20260425T090016
CREATED:20250824T221331Z
LAST-MODIFIED:20250824T221331Z
UID:3965-1758045600-1758049200@www.letsmovepbc.org
SUMMARY:Latin Vibes Fitness with Nora
DESCRIPTION:Join us for Latin Vibes Fitness\, a high-energy Zumba session that mixes Latin rhythms with fun\, easy-to-follow moves designed to boost your mood and energy! Classes are held both indoors and outdoors — bringing you movement\, music\, and joy in every setting. Whether you’re a beginner or experienced\, you’ll leave feeling stronger\, happier\, and inspired. \nContact:\nNoralara@gmail.com
URL:https://www.letsmovepbc.org/event/latin-vibes-fitness-with-nora-20/
LOCATION:Old Town Hall Jupiter\, 1000 Townhall Ave\, Jupiter\, FL\, 33458\, United States
CATEGORIES:Let's Move 365
ATTACH;FMTTYPE=image/jpeg:https://www.letsmovepbc.org/wp-content/uploads/2025/08/Nora103.jpg
END:VEVENT
BEGIN:VEVENT
DTSTART;TZID=America/New_York:20250916T160000
DTEND;TZID=America/New_York:20250916T170000
DTSTAMP:20260425T090016
CREATED:20250824T205340Z
LAST-MODIFIED:20250824T205340Z
UID:3949-1758038400-1758042000@www.letsmovepbc.org
SUMMARY:Love Thyself – Chair Yoga
DESCRIPTION:Gentle movements for all abilities. Open to all ages and fitness levels—no prior yoga experience needed! Please wear comfortable clothing and bring a bottle of water. Your journey to wellness begins here! \nInstructor: Milton “Skye” Olen \nFor more information\, please email: annie.glades@htpbc.org
URL:https://www.letsmovepbc.org/event/love-thyself-chair-yoga-5/
LOCATION:St. John First Missionary Baptist Church\, 600 SW 8th St\, Belle Glade\, FL\, 33430\, United States
CATEGORIES:Let's Move 365
ATTACH;FMTTYPE=image/jpeg:https://www.letsmovepbc.org/wp-content/uploads/2025/08/milton102.jpg
END:VEVENT
BEGIN:VEVENT
DTSTART;TZID=America/New_York:20250916T114500
DTEND;TZID=America/New_York:20250916T124500
DTSTAMP:20260425T090016
CREATED:20250606T165254Z
LAST-MODIFIED:20251015T213915Z
UID:3760-1758023100-1758026700@www.letsmovepbc.org
SUMMARY:Fitness in the Church with Rosa
DESCRIPTION:Cardio and Strength Training/moving and grooving to the beat. A balanced workout incorporating heart-pumping cardio exercises and strength-building activities using light weights. \nContact to Sign Up: (561) 715-3523
URL:https://www.letsmovepbc.org/event/rosa-fitness-in-the-church-7/
LOCATION:404 SW 3rd St\, 404 Southwest 3rd Street\, Delray Beach\, FL\, 33444\, United States
CATEGORIES:Let's Move 365
ATTACH;FMTTYPE=image/jpeg:https://www.letsmovepbc.org/wp-content/uploads/2025/06/Rosa108.jpg
END:VEVENT
BEGIN:VEVENT
DTSTART;TZID=America/New_York:20250914T090000
DTEND;TZID=America/New_York:20250914T100000
DTSTAMP:20260425T090016
CREATED:20250606T204420Z
LAST-MODIFIED:20250826T030302Z
UID:3792-1757840400-1757844000@www.letsmovepbc.org
SUMMARY:Zumba Vibez with Lissette Rivera
DESCRIPTION:Join us for a vibrant community Zumba party where you can dance your way to fitness with high-energy Latin rhythms\, no experience needed! \nContact to Sign Up: (561) 452-2730
URL:https://www.letsmovepbc.org/event/zumba-vibez-with-lissette-rivera-15/
LOCATION:Okeeheelee Park\, 7715 Forest Hill Blvd\, West Palm Beach\, FL\, 33413\, United States
CATEGORIES:Let's Move 365
ATTACH;FMTTYPE=image/jpeg:https://www.letsmovepbc.org/wp-content/uploads/2025/06/Lissette107.jpg
END:VEVENT
BEGIN:VEVENT
DTSTART;TZID=America/New_York:20250912T183000
DTEND;TZID=America/New_York:20250912T193000
DTSTAMP:20260425T090016
CREATED:20250825T013732Z
LAST-MODIFIED:20250825T013732Z
UID:3990-1757701800-1757705400@www.letsmovepbc.org
SUMMARY:Line Dancing Fridays with Andrea
DESCRIPTION:Get ready to move\, groove\, and sweat with Country Cardio! This high-energy class combines the fun of line dancing with SOUL. Perfect for all ages and fitness levels\, you’ll learn easy-to-follow steps that will have you dancing your way to better health.\nNo experience or cowboy boots required—just bring your energy\, a smile\, and a willingness to have fun! Let’s dance\, laugh\, and burn calories together!
URL:https://www.letsmovepbc.org/event/line-dancing-fridays-with-andrea-2/
LOCATION:Pompey Park\, 1101 NW 2nd St\, Delray Beach\, FL\, 33444\, United States
CATEGORIES:Let's Move 365
ATTACH;FMTTYPE=image/jpeg:https://www.letsmovepbc.org/wp-content/uploads/2025/08/Andrea104.jpg
END:VEVENT
END:VCALENDAR