BEGIN:VCALENDAR
VERSION:2.0
PRODID:-//Let&#039;s Move PBC - ECPv6.15.20//NONSGML v1.0//EN
CALSCALE:GREGORIAN
METHOD:PUBLISH
X-WR-CALNAME:Let&#039;s Move PBC
X-ORIGINAL-URL:https://www.letsmovepbc.org
X-WR-CALDESC:Events for Let&#039;s Move PBC
REFRESH-INTERVAL;VALUE=DURATION:PT1H
X-Robots-Tag:noindex
X-PUBLISHED-TTL:PT1H
BEGIN:VTIMEZONE
TZID:America/New_York
BEGIN:DAYLIGHT
TZOFFSETFROM:-0500
TZOFFSETTO:-0400
TZNAME:EDT
DTSTART:20240310T070000
END:DAYLIGHT
BEGIN:STANDARD
TZOFFSETFROM:-0400
TZOFFSETTO:-0500
TZNAME:EST
DTSTART:20241103T060000
END:STANDARD
BEGIN:DAYLIGHT
TZOFFSETFROM:-0500
TZOFFSETTO:-0400
TZNAME:EDT
DTSTART:20250309T070000
END:DAYLIGHT
BEGIN:STANDARD
TZOFFSETFROM:-0400
TZOFFSETTO:-0500
TZNAME:EST
DTSTART:20251102T060000
END:STANDARD
BEGIN:DAYLIGHT
TZOFFSETFROM:-0500
TZOFFSETTO:-0400
TZNAME:EDT
DTSTART:20260308T070000
END:DAYLIGHT
BEGIN:STANDARD
TZOFFSETFROM:-0400
TZOFFSETTO:-0500
TZNAME:EST
DTSTART:20261101T060000
END:STANDARD
END:VTIMEZONE
BEGIN:VEVENT
DTSTART;TZID=America/New_York:20250810T090000
DTEND;TZID=America/New_York:20250810T100000
DTSTAMP:20260425T121217
CREATED:20250604T025311Z
LAST-MODIFIED:20250604T025311Z
UID:3740-1754816400-1754820000@www.letsmovepbc.org
SUMMARY:Zumba Vibez with Lissette Rivera
DESCRIPTION:
URL:https://www.letsmovepbc.org/event/zumba-vibez-with-lissette-rivera-5/
LOCATION:Okeeheelee Park\, 7715 Forest Hill Blvd\, West Palm Beach\, FL\, 33413\, United States
CATEGORIES:Let's Move 365
END:VEVENT
BEGIN:VEVENT
DTSTART;TZID=America/New_York:20250809T070000
DTEND;TZID=America/New_York:20250809T080000
DTSTAMP:20260425T121217
CREATED:20250618T203426Z
LAST-MODIFIED:20250618T203426Z
UID:3919-1754722800-1754726400@www.letsmovepbc.org
SUMMARY:Walk and Talk Wellness with Joe Mckim
DESCRIPTION:Whether you’re out for a casual stroll\, challenging yourself with a weighted vest\,   or rucking with a pack\, this event is all about getting outside\, boosting your mind and body\, and connecting with an awesome community that’s all about support\, movement\, and good vibes! \nContact to Sign Up: (239) 220-3867
URL:https://www.letsmovepbc.org/event/walk-and-talk-wellness-with-joe-mckim-8/
LOCATION:Okeeheelee Park\, 7715 Forest Hill Blvd\, West Palm Beach\, FL\, 33413\, United States
CATEGORIES:Let's Move 365
END:VEVENT
BEGIN:VEVENT
DTSTART;TZID=America/New_York:20250806T180000
DTEND;TZID=America/New_York:20250806T190000
DTSTAMP:20260425T121217
CREATED:20250525T123451Z
LAST-MODIFIED:20250525T123451Z
UID:3724-1754503200-1754506800@www.letsmovepbc.org
SUMMARY:E-Motion Zumba
DESCRIPTION:Zumba Fitness is a fun and energetic atmosphere with a blend of Latin and international music and easy-to-follow dance steps. The class will likely begin with a warm-up\, then move through a series of dance routines that gradually build in intensity\, followed by a cool-down. Zumba Fitness class is offend called exercise class in disguise. \nInstructor: E\nPhone: 561-932-7569
URL:https://www.letsmovepbc.org/event/e-motion-zumba-7/
LOCATION:Tanner Park\, 105 E. Palm Beach Road\, South Bay\, FL\, 33493\, United States
CATEGORIES:Let's Move 365
END:VEVENT
BEGIN:VEVENT
DTSTART;TZID=America/New_York:20250805T183000
DTEND;TZID=America/New_York:20250805T193000
DTSTAMP:20260425T121217
CREATED:20250606T221416Z
LAST-MODIFIED:20250606T221416Z
UID:3844-1754418600-1754422200@www.letsmovepbc.org
SUMMARY:sayWHAT! Wellness in action with Angie T.
DESCRIPTION:SayWHAT! 2 FITNESS is all about Wellness\, Health\, Activity\, and Teamwork. The focus is on mindfulness\, motivational energy\, and movement! It’s fun\, energetic\, and made to get you moving! Join Angie T. and come move with me! \nContact to Sign Up: (561) 706-0061
URL:https://www.letsmovepbc.org/event/saywhat-wellness-in-action-with-angie-t-9/
LOCATION:Chaumont Delray\, 731 Ave Chaumont\, Delray Beach\, FL\, 33445\, United States
CATEGORIES:Let's Move 365
END:VEVENT
BEGIN:VEVENT
DTSTART;TZID=America/New_York:20250805T180000
DTEND;TZID=America/New_York:20250805T190000
DTSTAMP:20260425T121217
CREATED:20250606T235036Z
LAST-MODIFIED:20250606T235036Z
UID:3882-1754416800-1754420400@www.letsmovepbc.org
SUMMARY:Latin Vibes Fitness with Nora
DESCRIPTION:Join us for Latin Vibes Fitness\, a high-energy Zumba session that mixes Latin rhythms with fun\, easy-to-follow moves designed to boost your mood and energy! Classes are held both indoors and outdoors — bringing you movement\, music\, and joy in every setting. Whether you’re a beginner or experienced\, you’ll leave feeling stronger\, happier\, and inspired. \nContact:\nNoralara@gmail.com
URL:https://www.letsmovepbc.org/event/latin-vibes-fitness-with-nora-9/
LOCATION:Old Town Hall Jupiter\, 1000 Townhall Ave\, Jupiter\, FL\, 33458\, United States
CATEGORIES:Let's Move 365
END:VEVENT
BEGIN:VEVENT
DTSTART;TZID=America/New_York:20250805T114500
DTEND;TZID=America/New_York:20250805T124500
DTSTAMP:20260425T121217
CREATED:20250606T164716Z
LAST-MODIFIED:20250606T164716Z
UID:3754-1754394300-1754397900@www.letsmovepbc.org
SUMMARY:Rosa Fitness in the church
DESCRIPTION:Contact to Sign Up: (561) 715-3523
URL:https://www.letsmovepbc.org/event/rosa-fitness-in-the-church-4/
LOCATION:404 SW 3rd St\, 404 Southwest 3rd Street\, Delray Beach\, FL\, 33444\, United States
CATEGORIES:Let's Move 365
END:VEVENT
BEGIN:VEVENT
DTSTART;TZID=America/New_York:20250805T114500
DTEND;TZID=America/New_York:20250805T124500
DTSTAMP:20260425T121217
CREATED:20250311T142226Z
LAST-MODIFIED:20250311T142226Z
UID:3588-1754394300-1754397900@www.letsmovepbc.org
SUMMARY:Fitness in the Church
DESCRIPTION:Cardio and Strength Training/moving and grooving to the beat. A balanced workout incorporating heart-pumping cardio exercises and strength-building activities using light weights. \nInstructor: Rosa\nPhone: 561-715-3523
URL:https://www.letsmovepbc.org/event/fitness-in-the-church-6/
LOCATION:St. Matthews Church\, 404 SW 3rd St\, Delray Beach\, FL\, 33444\, United States
CATEGORIES:Let's Move 365
END:VEVENT
BEGIN:VEVENT
DTSTART;TZID=America/New_York:20250802T070000
DTEND;TZID=America/New_York:20250802T080000
DTSTAMP:20260425T121217
CREATED:20250618T203313Z
LAST-MODIFIED:20250618T203313Z
UID:3917-1754118000-1754121600@www.letsmovepbc.org
SUMMARY:Walk and Talk Wellness with Joe Mckim
DESCRIPTION:Whether you’re out for a casual stroll\, challenging yourself with a weighted vest\,   or rucking with a pack\, this event is all about getting outside\, boosting your mind and body\, and connecting with an awesome community that’s all about support\, movement\, and good vibes! \nContact to Sign Up: (239) 220-3867
URL:https://www.letsmovepbc.org/event/walk-and-talk-wellness-with-joe-mckim-7/
LOCATION:Okeeheelee Park\, 7715 Forest Hill Blvd\, West Palm Beach\, FL\, 33413\, United States
CATEGORIES:Let's Move 365
END:VEVENT
BEGIN:VEVENT
DTSTART;VALUE=DATE:20250802
DTEND;VALUE=DATE:20250803
DTSTAMP:20260425T121217
CREATED:20241230T170800Z
LAST-MODIFIED:20241230T170800Z
UID:3305-1754092800-1754179199@www.letsmovepbc.org
SUMMARY:Stronger Families\, One Move at a Time
DESCRIPTION:Stronger Families\, One Move at a Time  \nDate: August 2\, 2025
URL:https://www.letsmovepbc.org/event/stronger-families-one-move-at-a-time/
LOCATION:FL
CATEGORIES:Let's Move 365
END:VEVENT
BEGIN:VEVENT
DTSTART;TZID=America/New_York:20250730T180000
DTEND;TZID=America/New_York:20250730T190000
DTSTAMP:20260425T121217
CREATED:20250525T123338Z
LAST-MODIFIED:20250606T215039Z
UID:3722-1753898400-1753902000@www.letsmovepbc.org
SUMMARY:E-Motion Zumba
DESCRIPTION:Zumba Fitness is a fun and energetic atmosphere with a blend of Latin and international music and easy-to-follow dance steps. The class will likely begin with a warm-up\, then move through a series of dance routines that gradually build in intensity\, followed by a cool-down. Zumba Fitness class is offend called exercise class in disguise. \nInstructor: E\nPhone: 561-932-7569
URL:https://www.letsmovepbc.org/event/e-motion-zumba-6/
LOCATION:Tanner Park\, 105 E. Palm Beach Road\, South Bay\, FL\, 33493\, United States
CATEGORIES:Let's Move 365
END:VEVENT
BEGIN:VEVENT
DTSTART;TZID=America/New_York:20250729T183000
DTEND;TZID=America/New_York:20250729T193000
DTSTAMP:20260425T121217
CREATED:20250606T221145Z
LAST-MODIFIED:20250606T221145Z
UID:3842-1753813800-1753817400@www.letsmovepbc.org
SUMMARY:sayWHAT! Wellness in action with Angie T.
DESCRIPTION:SayWHAT! 2 FITNESS is all about Wellness\, Health\, Activity\, and Teamwork. The focus is on mindfulness\, motivational energy\, and movement! It’s fun\, energetic\, and made to get you moving! Join Angie T. and come move with me! \nContact to Sign Up: (561) 706-0061
URL:https://www.letsmovepbc.org/event/saywhat-wellness-in-action-with-angie-t-8/
LOCATION:Chaumont Delray\, 731 Ave Chaumont\, Delray Beach\, FL\, 33445\, United States
CATEGORIES:Let's Move 365
END:VEVENT
BEGIN:VEVENT
DTSTART;TZID=America/New_York:20250729T180000
DTEND;TZID=America/New_York:20250729T190000
DTSTAMP:20260425T121217
CREATED:20250606T234904Z
LAST-MODIFIED:20250606T234904Z
UID:3880-1753812000-1753815600@www.letsmovepbc.org
SUMMARY:Latin Vibes Fitness with Nora
DESCRIPTION:Join us for Latin Vibes Fitness\, a high-energy Zumba session that mixes Latin rhythms with fun\, easy-to-follow moves designed to boost your mood and energy! Classes are held both indoors and outdoors — bringing you movement\, music\, and joy in every setting. Whether you’re a beginner or experienced\, you’ll leave feeling stronger\, happier\, and inspired. \nContact:\nNoralara@gmail.com
URL:https://www.letsmovepbc.org/event/latin-vibes-fitness-with-nora-8/
LOCATION:Old Town Hall Jupiter\, 1000 Townhall Ave\, Jupiter\, FL\, 33458\, United States
CATEGORIES:Let's Move 365
END:VEVENT
BEGIN:VEVENT
DTSTART;TZID=America/New_York:20250727T090000
DTEND;TZID=America/New_York:20250727T100000
DTSTAMP:20260425T121217
CREATED:20250606T203735Z
LAST-MODIFIED:20250606T203735Z
UID:3786-1753606800-1753610400@www.letsmovepbc.org
SUMMARY:Zumba Vibez with Lissette Rivera
DESCRIPTION:Contact to Sign Up: (561) 452-2730
URL:https://www.letsmovepbc.org/event/zumba-vibez-with-lissette-rivera-12/
LOCATION:Okeeheelee Park\, 7715 Forest Hill Blvd\, West Palm Beach\, FL\, 33413\, United States
CATEGORIES:Let's Move 365
END:VEVENT
BEGIN:VEVENT
DTSTART;TZID=America/New_York:20250727T090000
DTEND;TZID=America/New_York:20250727T100000
DTSTAMP:20260425T121217
CREATED:20250604T025201Z
LAST-MODIFIED:20250604T025201Z
UID:3738-1753606800-1753610400@www.letsmovepbc.org
SUMMARY:Zumba Vibez with Lissette Rivera
DESCRIPTION:
URL:https://www.letsmovepbc.org/event/zumba-vibez-with-lissette-rivera-4/
LOCATION:Okeeheelee Park\, 7715 Forest Hill Blvd\, West Palm Beach\, FL\, 33413\, United States
CATEGORIES:Let's Move 365
END:VEVENT
BEGIN:VEVENT
DTSTART;TZID=America/New_York:20250726T110000
DTEND;TZID=America/New_York:20250726T120000
DTSTAMP:20260425T121217
CREATED:20250123T143156Z
LAST-MODIFIED:20250123T143156Z
UID:3382-1753527600-1753531200@www.letsmovepbc.org
SUMMARY:Community Boot Camp
DESCRIPTION:Join us for a high-energy\, full-body workout designed for all ages and fitness levels! This monthly boot camp combines fun\, dynamic exercises with expert coaching to help you and your family stay active and strong. From cardio circuits to strength-building moves\, this class is perfect for bonding\, sweating\, and achieving fitness goals together. \nPartner(s) and/or contractor(s): Trilogy | Group Fitness + MMA Training
URL:https://www.letsmovepbc.org/event/community-boot-camp-2/
LOCATION:1550 N Federal Hwy #8\, 1550 N Federal Hwy #8\, Boynton Beach\, FL\, 33435\, United States
CATEGORIES:Let's Move 365
END:VEVENT
BEGIN:VEVENT
DTSTART;TZID=America/New_York:20250726T100000
DTEND;TZID=America/New_York:20250726T110000
DTSTAMP:20260425T121217
CREATED:20250311T134257Z
LAST-MODIFIED:20250311T134257Z
UID:3564-1753524000-1753527600@www.letsmovepbc.org
SUMMARY:Zumba Fitness Fun Class
DESCRIPTION:Get ready to move\, groove\, and challenge yourself in this high-energy class! Whether you’re a beginner or a pro\, you’ll build strength\, boost endurance\, and have a blast while doing it. Come for the workout\, stay for the vibes!! \nSuggested apparel should be well fitting comfortable fitness attire and comfortable fitness shoes. Participants must bring their own water and sweat towel as well as sunscreen for outdoors protection. \nInstructor – Betty Rosado \nClick here for more info
URL:https://www.letsmovepbc.org/event/zumba-fitness-fun-class-7/
LOCATION:Haverhill Park\, 5470 Belvedere Rd\, Haverhill\, FL\, 33415\, United States
CATEGORIES:Let's Move 365
END:VEVENT
BEGIN:VEVENT
DTSTART;TZID=America/New_York:20250726T070000
DTEND;TZID=America/New_York:20250726T080000
DTSTAMP:20260425T121217
CREATED:20250618T203210Z
LAST-MODIFIED:20250618T203210Z
UID:3915-1753513200-1753516800@www.letsmovepbc.org
SUMMARY:Walk and Talk Wellness with Joe Mckim
DESCRIPTION:Whether you’re out for a casual stroll\, challenging yourself with a weighted vest\,   or rucking with a pack\, this event is all about getting outside\, boosting your mind and body\, and connecting with an awesome community that’s all about support\, movement\, and good vibes! \nContact to Sign Up: (239) 220-3867
URL:https://www.letsmovepbc.org/event/walk-and-talk-wellness-with-joe-mckim-6/
LOCATION:Okeeheelee Park\, 7715 Forest Hill Blvd\, West Palm Beach\, FL\, 33413\, United States
CATEGORIES:Let's Move 365
END:VEVENT
BEGIN:VEVENT
DTSTART;TZID=America/New_York:20250723T180000
DTEND;TZID=America/New_York:20250723T190000
DTSTAMP:20260425T121217
CREATED:20250525T123236Z
LAST-MODIFIED:20250525T123236Z
UID:3720-1753293600-1753297200@www.letsmovepbc.org
SUMMARY:E-Motion Zumba
DESCRIPTION:Zumba Fitness is a fun and energetic atmosphere with a blend of Latin and international music and easy-to-follow dance steps. The class will likely begin with a warm-up\, then move through a series of dance routines that gradually build in intensity\, followed by a cool-down. Zumba Fitness class is offend called exercise class in disguise. \nInstructor: E\nPhone: 561-932-7569
URL:https://www.letsmovepbc.org/event/e-motion-zumba-5/
LOCATION:Tanner Park\, 105 E. Palm Beach Road\, South Bay\, FL\, 33493\, United States
CATEGORIES:Let's Move 365
END:VEVENT
BEGIN:VEVENT
DTSTART;TZID=America/New_York:20250722T183000
DTEND;TZID=America/New_York:20250722T193000
DTSTAMP:20260425T121217
CREATED:20250606T220936Z
LAST-MODIFIED:20250606T220936Z
UID:3840-1753209000-1753212600@www.letsmovepbc.org
SUMMARY:sayWHAT! Wellness in action with Angie T.
DESCRIPTION:SayWHAT! 2 FITNESS is all about Wellness\, Health\, Activity\, and Teamwork. The focus is on mindfulness\, motivational energy\, and movement! It’s fun\, energetic\, and made to get you moving! Join Angie T. and come move with me! \nContact to Sign Up: (561) 706-0061
URL:https://www.letsmovepbc.org/event/saywhat-wellness-in-action-with-angie-t-7/
LOCATION:Chaumont Delray\, 731 Ave Chaumont\, Delray Beach\, FL\, 33445\, United States
CATEGORIES:Let's Move 365
END:VEVENT
BEGIN:VEVENT
DTSTART;TZID=America/New_York:20250722T180000
DTEND;TZID=America/New_York:20250722T190000
DTSTAMP:20260425T121217
CREATED:20250606T234736Z
LAST-MODIFIED:20250606T234736Z
UID:3878-1753207200-1753210800@www.letsmovepbc.org
SUMMARY:Latin Vibes Fitness with Nora
DESCRIPTION:Join us for Latin Vibes Fitness\, a high-energy Zumba session that mixes Latin rhythms with fun\, easy-to-follow moves designed to boost your mood and energy! Classes are held both indoors and outdoors — bringing you movement\, music\, and joy in every setting. Whether you’re a beginner or experienced\, you’ll leave feeling stronger\, happier\, and inspired. \nContact:\nNoralara@gmail.com
URL:https://www.letsmovepbc.org/event/latin-vibes-fitness-with-nora-7/
LOCATION:Old Town Hall Jupiter\, 1000 Townhall Ave\, Jupiter\, FL\, 33458\, United States
CATEGORIES:Let's Move 365
END:VEVENT
BEGIN:VEVENT
DTSTART;TZID=America/New_York:20250719T070000
DTEND;TZID=America/New_York:20250719T080000
DTSTAMP:20260425T121217
CREATED:20250618T203037Z
LAST-MODIFIED:20250618T203037Z
UID:3913-1752908400-1752912000@www.letsmovepbc.org
SUMMARY:Walk and Talk Wellness with Joe Mckim
DESCRIPTION:Whether you’re out for a casual stroll\, challenging yourself with a weighted vest\,   or rucking with a pack\, this event is all about getting outside\, boosting your mind and body\, and connecting with an awesome community that’s all about support\, movement\, and good vibes! \nContact to Sign Up: (239) 220-3867
URL:https://www.letsmovepbc.org/event/walk-and-talk-wellness-with-joe-mckim-5/
LOCATION:Okeeheelee Park\, 7715 Forest Hill Blvd\, West Palm Beach\, FL\, 33413\, United States
CATEGORIES:Let's Move 365
END:VEVENT
BEGIN:VEVENT
DTSTART;TZID=America/New_York:20250716T180000
DTEND;TZID=America/New_York:20250716T190000
DTSTAMP:20260425T121217
CREATED:20250525T123115Z
LAST-MODIFIED:20250525T123115Z
UID:3718-1752688800-1752692400@www.letsmovepbc.org
SUMMARY:E-Motion Zumba
DESCRIPTION:Zumba Fitness is a fun and energetic atmosphere with a blend of Latin and international music and easy-to-follow dance steps. The class will likely begin with a warm-up\, then move through a series of dance routines that gradually build in intensity\, followed by a cool-down. Zumba Fitness class is offend called exercise class in disguise. \nInstructor: E\nPhone: 561-932-7569
URL:https://www.letsmovepbc.org/event/e-motion-zumba-4/
LOCATION:Tanner Park\, 105 E. Palm Beach Road\, South Bay\, FL\, 33493\, United States
CATEGORIES:Let's Move 365
END:VEVENT
BEGIN:VEVENT
DTSTART;TZID=America/New_York:20250716T173000
DTEND;TZID=America/New_York:20250716T183000
DTSTAMP:20260425T121217
CREATED:20250606T205401Z
LAST-MODIFIED:20250606T205401Z
UID:3800-1752687000-1752690600@www.letsmovepbc.org
SUMMARY:Auqa Zumba with Aida
DESCRIPTION:Contact to Sign Up: (954) 775-5548
URL:https://www.letsmovepbc.org/event/auqa-zumba-with-aida-3/
LOCATION:Via Vulcanus\, 13290 Via Vulcanus\, Delray Beach\, FL\, 33484\, United States
CATEGORIES:Let's Move 365
END:VEVENT
BEGIN:VEVENT
DTSTART;TZID=America/New_York:20250716T173000
DTEND;TZID=America/New_York:20250716T183000
DTSTAMP:20260425T121217
CREATED:20250311T135815Z
LAST-MODIFIED:20250311T135815Z
UID:3575-1752687000-1752690600@www.letsmovepbc.org
SUMMARY:Aqua Zumba
DESCRIPTION:Aqua Zumba is a water-based workout that combines Zumba dance moves with traditional aqua fitness exercises. It’s a cardio-conditioning\, body-toning workout that takes place in a pool. \nInstructor: Aida\nPhone: 954-775-5548
URL:https://www.letsmovepbc.org/event/aqua-zumba-6/
LOCATION:Via Vulcanus\, 13290 Via Vulcanus\, Delray Beach\, FL\, 33484\, United States
CATEGORIES:Let's Move 365
END:VEVENT
BEGIN:VEVENT
DTSTART;TZID=America/New_York:20250716T160000
DTEND;TZID=America/New_York:20250716T170000
DTSTAMP:20260425T121217
CREATED:20250123T145109Z
LAST-MODIFIED:20250418T202941Z
UID:3401-1752681600-1752685200@www.letsmovepbc.org
SUMMARY:Yoga in the park
DESCRIPTION:Join Allison for an hour yoga class. You will move your body\, relax your mind\, and destress in this all-levels yoga class. This class is meant to bring you peace\, strength and confidence in yourself. Bring a yoga mat and meet in the park. Have fun!
URL:https://www.letsmovepbc.org/event/yoga-in-the-park-7/
LOCATION:Samuel J. Ferreri Community Park\, 2905 Jog Road\, Greenacres\, FL\, 33467\, United States
CATEGORIES:Let's Move 365
ATTACH;FMTTYPE=image/jpeg:https://www.letsmovepbc.org/wp-content/uploads/2025/01/Yoga-IMG_1740.jpg
END:VEVENT
BEGIN:VEVENT
DTSTART;TZID=America/New_York:20250716T091500
DTEND;TZID=America/New_York:20250716T101500
DTSTAMP:20260425T121217
CREATED:20250606T170542Z
LAST-MODIFIED:20250606T170542Z
UID:3768-1752657300-1752660900@www.letsmovepbc.org
SUMMARY:Rosa Fitness in the community
DESCRIPTION:Contact to Sign Up: (561) 715-3523
URL:https://www.letsmovepbc.org/event/rosa-fitness-in-the-community-4/
LOCATION:Delray Villas\, 13773 Circular\, Drive Delray Beach\, FL\, 33484\, United States
CATEGORIES:Let's Move 365
END:VEVENT
BEGIN:VEVENT
DTSTART;TZID=America/New_York:20250716T091500
DTEND;TZID=America/New_York:20250716T101500
DTSTAMP:20260425T121217
CREATED:20250516T155426Z
LAST-MODIFIED:20250516T155426Z
UID:3704-1752657300-1752660900@www.letsmovepbc.org
SUMMARY:Fitness in the Community
DESCRIPTION:Zumba Party! offering standing and Chair Zumba\nContact: Rosa White 561 715-3523
URL:https://www.letsmovepbc.org/event/fitness-in-the-community-4/
LOCATION:Delray Villas\, 13773 Circular\, Drive Delray Beach\, FL\, 33484\, United States
CATEGORIES:Let's Move 365
END:VEVENT
BEGIN:VEVENT
DTSTART;TZID=America/New_York:20250715T183000
DTEND;TZID=America/New_York:20250715T193000
DTSTAMP:20260425T121217
CREATED:20250606T220821Z
LAST-MODIFIED:20250606T220821Z
UID:3838-1752604200-1752607800@www.letsmovepbc.org
SUMMARY:sayWHAT! Wellness in action with Angie T.
DESCRIPTION:SayWHAT! 2 FITNESS is all about Wellness\, Health\, Activity\, and Teamwork. The focus is on mindfulness\, motivational energy\, and movement! It’s fun\, energetic\, and made to get you moving! Join Angie T. and come move with me! \nContact to Sign Up: (561) 706-0061
URL:https://www.letsmovepbc.org/event/saywhat-wellness-in-action-with-angie-t-6/
LOCATION:Chaumont Delray\, 731 Ave Chaumont\, Delray Beach\, FL\, 33445\, United States
CATEGORIES:Let's Move 365
END:VEVENT
BEGIN:VEVENT
DTSTART;TZID=America/New_York:20250715T180000
DTEND;TZID=America/New_York:20250715T190000
DTSTAMP:20260425T121217
CREATED:20250606T234627Z
LAST-MODIFIED:20250606T234627Z
UID:3876-1752602400-1752606000@www.letsmovepbc.org
SUMMARY:Latin Vibes Fitness with Nora
DESCRIPTION:Join us for Latin Vibes Fitness\, a high-energy Zumba session that mixes Latin rhythms with fun\, easy-to-follow moves designed to boost your mood and energy! Classes are held both indoors and outdoors — bringing you movement\, music\, and joy in every setting. Whether you’re a beginner or experienced\, you’ll leave feeling stronger\, happier\, and inspired. \nContact:\nNoralara@gmail.com
URL:https://www.letsmovepbc.org/event/latin-vibes-fitness-with-nora-6/
LOCATION:Old Town Hall Jupiter\, 1000 Townhall Ave\, Jupiter\, FL\, 33458\, United States
CATEGORIES:Let's Move 365
END:VEVENT
BEGIN:VEVENT
DTSTART;TZID=America/New_York:20250715T114500
DTEND;TZID=America/New_York:20250715T124500
DTSTAMP:20260425T121217
CREATED:20250606T164527Z
LAST-MODIFIED:20250606T164527Z
UID:3752-1752579900-1752583500@www.letsmovepbc.org
SUMMARY:Rosa Fitness in the church
DESCRIPTION:Contact to Sign Up: (561) 715-3523
URL:https://www.letsmovepbc.org/event/rosa-fitness-in-the-church-3/
LOCATION:404 SW 3rd St\, 404 Southwest 3rd Street\, Delray Beach\, FL\, 33444\, United States
CATEGORIES:Let's Move 365
END:VEVENT
END:VCALENDAR