BEGIN:VCALENDAR
VERSION:2.0
PRODID:-//Let&#039;s Move PBC - ECPv6.15.20//NONSGML v1.0//EN
CALSCALE:GREGORIAN
METHOD:PUBLISH
X-ORIGINAL-URL:https://www.letsmovepbc.org
X-WR-CALDESC:Events for Let&#039;s Move PBC
REFRESH-INTERVAL;VALUE=DURATION:PT1H
X-Robots-Tag:noindex
X-PUBLISHED-TTL:PT1H
BEGIN:VTIMEZONE
TZID:America/New_York
BEGIN:DAYLIGHT
TZOFFSETFROM:-0500
TZOFFSETTO:-0400
TZNAME:EDT
DTSTART:20250309T070000
END:DAYLIGHT
BEGIN:STANDARD
TZOFFSETFROM:-0400
TZOFFSETTO:-0500
TZNAME:EST
DTSTART:20251102T060000
END:STANDARD
BEGIN:DAYLIGHT
TZOFFSETFROM:-0500
TZOFFSETTO:-0400
TZNAME:EDT
DTSTART:20260308T070000
END:DAYLIGHT
BEGIN:STANDARD
TZOFFSETFROM:-0400
TZOFFSETTO:-0500
TZNAME:EST
DTSTART:20261101T060000
END:STANDARD
BEGIN:DAYLIGHT
TZOFFSETFROM:-0500
TZOFFSETTO:-0400
TZNAME:EDT
DTSTART:20270314T070000
END:DAYLIGHT
BEGIN:STANDARD
TZOFFSETFROM:-0400
TZOFFSETTO:-0500
TZNAME:EST
DTSTART:20271107T060000
END:STANDARD
END:VTIMEZONE
BEGIN:VEVENT
DTSTART;TZID=America/New_York:20260223T180000
DTEND;TZID=America/New_York:20260223T190000
DTSTAMP:20260424T112258
CREATED:20260131T054856Z
LAST-MODIFIED:20260131T054856Z
UID:4392-1771869600-1771873200@www.letsmovepbc.org
SUMMARY:Community Fitness with Rosa
DESCRIPTION:Join us for a balanced workout that gets your heart pumping with cardio\, builds strength with light weights\, and adds a splash of fun with Zumba-inspired moves. This session is perfect for all fitness levels-come ready to move\, groove\, and have a blast while staying healthy! \nPhone: 561-715-3523
URL:https://www.letsmovepbc.org/event/community-fitness-with-rosa-9/
LOCATION:225 NW 12th Ave\, 225 NW 12th Ave\, Boynton Beach\, FL\, 3435\, United States
CATEGORIES:Let's Move 365
ATTACH;FMTTYPE=image/jpeg:https://www.letsmovepbc.org/wp-content/uploads/2025/08/RosaFitness110.jpg
END:VEVENT
BEGIN:VEVENT
DTSTART;TZID=America/New_York:20260224T160000
DTEND;TZID=America/New_York:20260224T170000
DTSTAMP:20260424T112258
CREATED:20260131T061836Z
LAST-MODIFIED:20260131T061836Z
UID:4414-1771948800-1771952400@www.letsmovepbc.org
SUMMARY:Love Thyself – Chair Yoga with Milton
DESCRIPTION:Gentle movements for all abilities. Open to all ages and fitness levels—no prior yoga experience needed! Please wear comfortable clothing and bring a bottle of water. Your journey to wellness begins here! \nInstructor: Milton “Skye” Olen \nFor more information\, please email: annie.glades@htpbc.org
URL:https://www.letsmovepbc.org/event/love-thyself-chair-yoga-with-milton-20/
LOCATION:St. John First Missionary Baptist Church\, 600 SW 8th St\, Belle Glade\, FL\, 33430\, United States
CATEGORIES:Let's Move 365
ATTACH;FMTTYPE=image/jpeg:https://www.letsmovepbc.org/wp-content/uploads/2025/08/milton102.jpg
END:VEVENT
BEGIN:VEVENT
DTSTART;TZID=America/New_York:20260224T183000
DTEND;TZID=America/New_York:20260224T193000
DTSTAMP:20260424T112258
CREATED:20260131T060050Z
LAST-MODIFIED:20260131T060050Z
UID:4400-1771957800-1771961400@www.letsmovepbc.org
SUMMARY:SayWHAT! Wellness in action with Angie T.
DESCRIPTION:SayWHAT! 2 FITNESS is all about Wellness\, Health\, Activity\, and Teamwork. The focus is on mindfulness\, motivational energy\, and movement! It’s fun\, energetic\, and made to get you moving! Join Angie T. and come move with me! \nContact to Sign Up: (561) 706-0061
URL:https://www.letsmovepbc.org/event/saywhat-wellness-in-action-with-angie-t-33/
LOCATION:Chaumont Delray\, 731 Ave Chaumont\, Delray Beach\, FL\, 33445\, United States
CATEGORIES:Let's Move 365
ATTACH;FMTTYPE=image/jpeg:https://www.letsmovepbc.org/wp-content/uploads/2025/06/Angie105.jpg
END:VEVENT
BEGIN:VEVENT
DTSTART;TZID=America/New_York:20260226T160000
DTEND;TZID=America/New_York:20260226T170000
DTSTAMP:20260424T112258
CREATED:20260131T061941Z
LAST-MODIFIED:20260131T061941Z
UID:4416-1772121600-1772125200@www.letsmovepbc.org
SUMMARY:Love Thyself – Chair Yoga with Milton
DESCRIPTION:Gentle movements for all abilities. Open to all ages and fitness levels—no prior yoga experience needed! Please wear comfortable clothing and bring a bottle of water. Your journey to wellness begins here! \nInstructor: Milton “Skye” Olen \nFor more information\, please email: annie.glades@htpbc.org
URL:https://www.letsmovepbc.org/event/love-thyself-chair-yoga-with-milton-21/
LOCATION:St. John First Missionary Baptist Church\, 600 SW 8th St\, Belle Glade\, FL\, 33430\, United States
CATEGORIES:Let's Move 365
ATTACH;FMTTYPE=image/jpeg:https://www.letsmovepbc.org/wp-content/uploads/2025/08/milton102.jpg
END:VEVENT
BEGIN:VEVENT
DTSTART;TZID=America/New_York:20260302T120000
DTEND;TZID=America/New_York:20260302T130000
DTSTAMP:20260424T112258
CREATED:20260227T014016Z
LAST-MODIFIED:20260227T014016Z
UID:4524-1772452800-1772456400@www.letsmovepbc.org
SUMMARY:Let’s Move March – Moving to the Oldies!
DESCRIPTION:Keep moving and grooving at Let’s Move March – Moving to the Oldies! Seniors will enjoy a fun\, engaging session focused on staying fit\, improving balance\, and boosting energy\, all while dancing to the best hits from the 60s and 70s. A perfect way to stay active and have fun with friends!
URL:https://www.letsmovepbc.org/event/lets-move-march-moving-to-the-oldies/
LOCATION:First Presbyterian Church\, 235 SW 6th Ave\, Boynton Beach\, FL\, 33435\, United States
CATEGORIES:Let's Move 365
ATTACH;FMTTYPE=image/jpeg:https://www.letsmovepbc.org/wp-content/uploads/2026/02/Lets-Move-March-DRAFT.jpg
END:VEVENT
BEGIN:VEVENT
DTSTART;TZID=America/New_York:20260302T160000
DTEND;TZID=America/New_York:20260302T190000
DTSTAMP:20260424T112258
CREATED:20260227T014821Z
LAST-MODIFIED:20260227T014821Z
UID:4529-1772467200-1772478000@www.letsmovepbc.org
SUMMARY:Let’s Move Kick‑Off Party
DESCRIPTION:Join the community for the Let’s Move Kick‑Off Party! This FREE event brings people together for an afternoon of music\, dancing\, food trucks\, games\, vendors\, and fun activities all designed to inspire a month of movement and healthy living. Bring your friends and family to dance\, mingle\, and get motivated to stay active throughout March!
URL:https://www.letsmovepbc.org/event/lets-move-kick-off-party/
LOCATION:Wellington Amphitheater\, 12100 Forest Hill Blvd\, Wellington\, FL\, 33414\, United States
CATEGORIES:Let's Move 365
END:VEVENT
BEGIN:VEVENT
DTSTART;TZID=America/New_York:20260302T180000
DTEND;TZID=America/New_York:20260302T190000
DTSTAMP:20260424T112258
CREATED:20260227T073650Z
LAST-MODIFIED:20260227T073650Z
UID:4579-1772474400-1772478000@www.letsmovepbc.org
SUMMARY:E-Motion Zumba with E
DESCRIPTION:Ignite your energy\, move to the beat\, and transform your workout into a party! “E”Motion Zumba Fitness fuses vibrant Latin rhythms with high-intensity cardio to deliver a fun\, full-body dance workout. Designed for all fitness levels\, each class mixes fast and slow songs to boost your metabolism\, tone your muscles\, and improve endurance – all while having a blast. Whether you’re new to dance fitness or a seasoned mover\, “E” Zumba Fitness makes “working out” feel like a celebration. \nInstructor: E\nPhone: 561-932-7569
URL:https://www.letsmovepbc.org/event/e-motion-zumba-with-e-16/
LOCATION:Tanner Park\, 105 E. Palm Beach Road\, South Bay\, FL\, 33493\, United States
CATEGORIES:Let's Move 365
ATTACH;FMTTYPE=image/jpeg:https://www.letsmovepbc.org/wp-content/uploads/2025/10/EMotion.jpg
END:VEVENT
BEGIN:VEVENT
DTSTART;TZID=America/New_York:20260302T183000
DTEND;TZID=America/New_York:20260302T203000
DTSTAMP:20260424T112258
CREATED:20260227T015507Z
LAST-MODIFIED:20260227T021212Z
UID:4531-1772476200-1772483400@www.letsmovepbc.org
SUMMARY:Let’s Move March Pep Rally
DESCRIPTION:Join us as we kick off Let’s Move March with an exciting community Pep Rally! Enjoy an evening of energy\, movement\, and inspiration as we come together to celebrate health\, fitness\, and a month dedicated to staying active.
URL:https://www.letsmovepbc.org/event/lets-move-march-pep-rally/
LOCATION:Old School Square\, 51 N Swinton Ave\, Delray Beach\, FL\, 33444\, United States
CATEGORIES:Let's Move 365
ATTACH;FMTTYPE=image/jpeg:https://www.letsmovepbc.org/wp-content/uploads/2026/02/PepRally.jpg
END:VEVENT
BEGIN:VEVENT
DTSTART;TZID=America/New_York:20260303T114500
DTEND;TZID=America/New_York:20260303T124500
DTSTAMP:20260424T112258
CREATED:20260227T083419Z
LAST-MODIFIED:20260227T083419Z
UID:4634-1772538300-1772541900@www.letsmovepbc.org
SUMMARY:Fitness in the Church with Rosa
DESCRIPTION:Cardio and Strength Training/moving and grooving to the beat. A balanced workout incorporating heart-pumping cardio exercises and strength-building activities using light weights. \nContact to Sign Up: (561) 715-3523
URL:https://www.letsmovepbc.org/event/fitness-in-the-church-with-rosa-10/
LOCATION:404 SW 3rd St\, 404 Southwest 3rd Street\, Delray Beach\, FL\, 33444\, United States
CATEGORIES:Let's Move 365
ATTACH;FMTTYPE=image/jpeg:https://www.letsmovepbc.org/wp-content/uploads/2025/06/Rosa108.jpg
END:VEVENT
BEGIN:VEVENT
DTSTART;TZID=America/New_York:20260303T160000
DTEND;TZID=America/New_York:20260303T170000
DTSTAMP:20260424T112258
CREATED:20260227T080307Z
LAST-MODIFIED:20260227T080307Z
UID:4601-1772553600-1772557200@www.letsmovepbc.org
SUMMARY:Love Thyself – Chair Yoga with Milton
DESCRIPTION:Gentle movements for all abilities. Open to all ages and fitness levels—no prior yoga experience needed! Please wear comfortable clothing and bring a bottle of water. Your journey to wellness begins here! \nInstructor: Milton “Skye” Olen \nFor more information\, please email: annie.glades@htpbc.org
URL:https://www.letsmovepbc.org/event/love-thyself-chair-yoga-with-milton-22/
LOCATION:St. John First Missionary Baptist Church\, 600 SW 8th St\, Belle Glade\, FL\, 33430\, United States
CATEGORIES:Let's Move 365
ATTACH;FMTTYPE=image/jpeg:https://www.letsmovepbc.org/wp-content/uploads/2025/08/milton102.jpg
END:VEVENT
BEGIN:VEVENT
DTSTART;TZID=America/New_York:20260303T180000
DTEND;TZID=America/New_York:20260303T190000
DTSTAMP:20260424T112258
CREATED:20260227T022044Z
LAST-MODIFIED:20260227T022044Z
UID:4539-1772560800-1772564400@www.letsmovepbc.org
SUMMARY:Full Moon Yoga
DESCRIPTION:Unwind under the full moon with an evening of yoga\, relaxation\, and mindful movement. This calming outdoor session is designed to help you release stress\, reset your energy\, and reconnect with yourself in a peaceful community setting. All levels are welcome.
URL:https://www.letsmovepbc.org/event/full-moon-yoga/
LOCATION:Old School Square\, 51 N Swinton Ave\, Delray Beach\, FL\, 33444\, United States
CATEGORIES:Let's Move 365
ATTACH;FMTTYPE=image/jpeg:https://www.letsmovepbc.org/wp-content/uploads/2026/02/LETS-MOVE-2026-EVENTS-CALENDAR-1-scaled.jpg
END:VEVENT
BEGIN:VEVENT
DTSTART;TZID=America/New_York:20260303T183000
DTEND;TZID=America/New_York:20260303T193000
DTSTAMP:20260424T112258
CREATED:20260227T081508Z
LAST-MODIFIED:20260227T081508Z
UID:4619-1772562600-1772566200@www.letsmovepbc.org
SUMMARY:SayWHAT! Wellness in action with Angie T.
DESCRIPTION:SayWHAT! 2 FITNESS is all about Wellness\, Health\, Activity\, and Teamwork. The focus is on mindfulness\, motivational energy\, and movement! It’s fun\, energetic\, and made to get you moving! Join Angie T. and come move with me! \nContact to Sign Up: (561) 706-0061
URL:https://www.letsmovepbc.org/event/saywhat-wellness-in-action-with-angie-t-34/
LOCATION:Chaumont Delray\, 731 Ave Chaumont\, Delray Beach\, FL\, 33445\, United States
CATEGORIES:Let's Move 365
ATTACH;FMTTYPE=image/jpeg:https://www.letsmovepbc.org/wp-content/uploads/2025/06/Angie105.jpg
END:VEVENT
BEGIN:VEVENT
DTSTART;TZID=America/New_York:20260304T170000
DTEND;TZID=America/New_York:20260304T180000
DTSTAMP:20260424T112258
CREATED:20260227T074859Z
LAST-MODIFIED:20260227T074859Z
UID:4589-1772643600-1772647200@www.letsmovepbc.org
SUMMARY:Aqua Zumba and More with Aida
DESCRIPTION:Cardio benefits the heart and lungs\, strengthens bones. muscles\, and  the immune system\, and helps with weight reduction. It also reduces stress\, lowers cholesterol and high blood pressure. tones and tightens both the upper and lower body\, and strengthens abdominal muscles. Additionally\, cardio improves balance\, promotes better sleep\, and\, most importantly\, helps develop healthy lifestyle habits! \nContact to Sign Up: (954) 775-5548
URL:https://www.letsmovepbc.org/event/aqua-zumba-and-more-with-aida-16/
LOCATION:Via Vulcanus\, 13290 Via Vulcanus\, Delray Beach\, FL\, 33484\, United States
CATEGORIES:Let's Move 365
ATTACH;FMTTYPE=image/jpeg:https://www.letsmovepbc.org/wp-content/uploads/2026/02/AquaZumba.jpg
END:VEVENT
BEGIN:VEVENT
DTSTART;TZID=America/New_York:20260305T160000
DTEND;TZID=America/New_York:20260305T170000
DTSTAMP:20260424T112258
CREATED:20260227T080426Z
LAST-MODIFIED:20260227T080426Z
UID:4603-1772726400-1772730000@www.letsmovepbc.org
SUMMARY:Love Thyself – Chair Yoga with Milton
DESCRIPTION:Gentle movements for all abilities. Open to all ages and fitness levels—no prior yoga experience needed! Please wear comfortable clothing and bring a bottle of water. Your journey to wellness begins here! \nInstructor: Milton “Skye” Olen \nFor more information\, please email: annie.glades@htpbc.org
URL:https://www.letsmovepbc.org/event/love-thyself-chair-yoga-with-milton-23/
LOCATION:St. John First Missionary Baptist Church\, 600 SW 8th St\, Belle Glade\, FL\, 33430\, United States
CATEGORIES:Let's Move 365
ATTACH;FMTTYPE=image/jpeg:https://www.letsmovepbc.org/wp-content/uploads/2025/08/milton102.jpg
END:VEVENT
BEGIN:VEVENT
DTSTART;TZID=America/New_York:20260307T100000
DTEND;TZID=America/New_York:20260307T120000
DTSTAMP:20260424T112258
CREATED:20260227T023131Z
LAST-MODIFIED:20260227T023131Z
UID:4543-1772877600-1772884800@www.letsmovepbc.org
SUMMARY:Fun on Wheels
DESCRIPTION:Roll into the morning with Fun on Wheels! Bring your skates\, skateboard\, scooter\, or any set of wheels and enjoy a high-energy morning of movement and outdoor fun. This family-friendly event is all about staying active\, connecting with the community\, and having a great time on the move.
URL:https://www.letsmovepbc.org/event/fun-on-wheels/
LOCATION:Catherine Strong Park\, 1500 SW 6th St\, Delray Beach\, FL\, 33444\, United States
CATEGORIES:Let's Move 365
ATTACH;FMTTYPE=image/jpeg:https://www.letsmovepbc.org/wp-content/uploads/2026/02/LETS-MOVE-2026-EVENTS-CALENDAR-1-scaled.jpg
END:VEVENT
BEGIN:VEVENT
DTSTART;TZID=America/New_York:20260308T090000
DTEND;TZID=America/New_York:20260308T100000
DTSTAMP:20260424T112258
CREATED:20260227T082904Z
LAST-MODIFIED:20260227T082904Z
UID:4630-1772960400-1772964000@www.letsmovepbc.org
SUMMARY:Zumba Vibez with Lissette Rivera
DESCRIPTION:Join us for a vibrant community Zumba party where you can dance your way to fitness with high-energy Latin rhythms\, no experience needed! \nContact to Sign Up: (561) 452-2730
URL:https://www.letsmovepbc.org/event/zumba-vibez-with-lissette-rivera-24/
LOCATION:Okeeheelee Park\, 7715 Forest Hill Blvd\, West Palm Beach\, FL\, 33413\, United States
CATEGORIES:Let's Move 365
ATTACH;FMTTYPE=image/jpeg:https://www.letsmovepbc.org/wp-content/uploads/2026/02/Lissette.jpg
END:VEVENT
BEGIN:VEVENT
DTSTART;TZID=America/New_York:20260308T160000
DTEND;TZID=America/New_York:20260308T170000
DTSTAMP:20260424T112258
CREATED:20260227T024202Z
LAST-MODIFIED:20260227T024202Z
UID:4548-1772985600-1772989200@www.letsmovepbc.org
SUMMARY:Alfred “Zack” Straghn Memorial Walk
DESCRIPTION:Join us as we continue the legacy of Alfred “Zack” Straghn with this annual Let’s Move memorial walk. This meaningful community gathering honors his impact while bringing residents together in the spirit of health\, unity\, and movement. Walk with us as we celebrate his memory and commitment to a healthier community.
URL:https://www.letsmovepbc.org/event/alfred-zack-straghn-memorial-walk/
LOCATION:Libby Wesley Plaza\, 2 SW 5th Ave\, Delray Beach\, FL\, 33444\, United States
CATEGORIES:Let's Move 365
ATTACH;FMTTYPE=image/jpeg:https://www.letsmovepbc.org/wp-content/uploads/2026/02/MemorialWalk.jpg
END:VEVENT
BEGIN:VEVENT
DTSTART;TZID=America/New_York:20260309T180000
DTEND;TZID=America/New_York:20260309T190000
DTSTAMP:20260424T112258
CREATED:20260227T073853Z
LAST-MODIFIED:20260227T073853Z
UID:4581-1773079200-1773082800@www.letsmovepbc.org
SUMMARY:E-Motion Zumba with E
DESCRIPTION:Ignite your energy\, move to the beat\, and transform your workout into a party! “E”Motion Zumba Fitness fuses vibrant Latin rhythms with high-intensity cardio to deliver a fun\, full-body dance workout. Designed for all fitness levels\, each class mixes fast and slow songs to boost your metabolism\, tone your muscles\, and improve endurance – all while having a blast. Whether you’re new to dance fitness or a seasoned mover\, “E” Zumba Fitness makes “working out” feel like a celebration. \nInstructor: E\nPhone: 561-932-7569
URL:https://www.letsmovepbc.org/event/e-motion-zumba-with-e-17/
LOCATION:Tanner Park\, 105 E. Palm Beach Road\, South Bay\, FL\, 33493\, United States
CATEGORIES:Let's Move 365
ATTACH;FMTTYPE=image/jpeg:https://www.letsmovepbc.org/wp-content/uploads/2025/10/EMotion.jpg
END:VEVENT
BEGIN:VEVENT
DTSTART;TZID=America/New_York:20260309T180000
DTEND;TZID=America/New_York:20260309T190000
DTSTAMP:20260424T112258
CREATED:20260227T084534Z
LAST-MODIFIED:20260227T084556Z
UID:4642-1773079200-1773082800@www.letsmovepbc.org
SUMMARY:Community Fitness with Rosa
DESCRIPTION:Join us for a balanced workout that gets your heart pumping with cardio\, builds strength with light weights\, and adds a splash of fun with Zumba-inspired moves. This session is perfect for all fitness levels-come ready to move\, groove\, and have a blast while staying healthy! \nPhone: 561-715-3523
URL:https://www.letsmovepbc.org/event/community-fitness-with-rosa-10/
LOCATION:225 NW 12th Ave\, 225 NW 12th Ave\, Boynton Beach\, FL\, 3435\, United States
CATEGORIES:Let's Move 365
ATTACH;FMTTYPE=image/jpeg:https://www.letsmovepbc.org/wp-content/uploads/2025/08/RosaFitness110.jpg
END:VEVENT
BEGIN:VEVENT
DTSTART;TZID=America/New_York:20260309T183000
DTEND;TZID=America/New_York:20260309T193000
DTSTAMP:20260424T112258
CREATED:20260227T024754Z
LAST-MODIFIED:20260227T024754Z
UID:4551-1773081000-1773084600@www.letsmovepbc.org
SUMMARY:Skye High Fitness Line Dance Class
DESCRIPTION:Step into rhythm with Skye High Fitness Line Dance Class! This upbeat\, instructor-led session combines fun choreography with great music for a high-energy workout that’s perfect for all levels. Come ready to move\, sweat\, and have a great time.
URL:https://www.letsmovepbc.org/event/skye-high-fitness-line-dance-class/
LOCATION:Pompey Park\, 1101 NW 2nd St\, Delray Beach\, FL\, 33444\, United States
CATEGORIES:Let's Move 365
ATTACH;FMTTYPE=image/jpeg:https://www.letsmovepbc.org/wp-content/uploads/2026/02/LETS-MOVE-2026-EVENTS-CALENDAR-1-scaled.jpg
END:VEVENT
BEGIN:VEVENT
DTSTART;TZID=America/New_York:20260310T160000
DTEND;TZID=America/New_York:20260310T170000
DTSTAMP:20260424T112258
CREATED:20260227T080532Z
LAST-MODIFIED:20260227T080532Z
UID:4605-1773158400-1773162000@www.letsmovepbc.org
SUMMARY:Love Thyself – Chair Yoga with Milton
DESCRIPTION:Gentle movements for all abilities. Open to all ages and fitness levels—no prior yoga experience needed! Please wear comfortable clothing and bring a bottle of water. Your journey to wellness begins here! \nInstructor: Milton “Skye” Olen \nFor more information\, please email: annie.glades@htpbc.org
URL:https://www.letsmovepbc.org/event/love-thyself-chair-yoga-with-milton-24/
LOCATION:St. John First Missionary Baptist Church\, 600 SW 8th St\, Belle Glade\, FL\, 33430\, United States
CATEGORIES:Let's Move 365
ATTACH;FMTTYPE=image/jpeg:https://www.letsmovepbc.org/wp-content/uploads/2025/08/milton102.jpg
END:VEVENT
BEGIN:VEVENT
DTSTART;TZID=America/New_York:20260310T183000
DTEND;TZID=America/New_York:20260310T193000
DTSTAMP:20260424T112258
CREATED:20260227T025207Z
LAST-MODIFIED:20260227T025207Z
UID:4553-1773167400-1773171000@www.letsmovepbc.org
SUMMARY:Aqua Fitness Class
DESCRIPTION:Make a splash with our Aqua Fitness Class! This low-impact\, high-energy workout takes place in the pool and is perfect for all fitness levels. Enjoy a fun and refreshing way to build strength\, improve endurance\, and stay active in a supportive\, upbeat environment.
URL:https://www.letsmovepbc.org/event/aqua-fitness-class/
LOCATION:Pompey Park Pool\, 1101 NW 2nd St\, Delray Beach\, FL\, 33444\, United States
CATEGORIES:Let's Move 365
ATTACH;FMTTYPE=image/jpeg:https://www.letsmovepbc.org/wp-content/uploads/2026/02/LETS-MOVE-2026-EVENTS-CALENDAR-1-scaled.jpg
END:VEVENT
BEGIN:VEVENT
DTSTART;TZID=America/New_York:20260310T183000
DTEND;TZID=America/New_York:20260310T193000
DTSTAMP:20260424T112258
CREATED:20260227T081614Z
LAST-MODIFIED:20260227T081614Z
UID:4621-1773167400-1773171000@www.letsmovepbc.org
SUMMARY:SayWHAT! Wellness in action with Angie T.
DESCRIPTION:SayWHAT! 2 FITNESS is all about Wellness\, Health\, Activity\, and Teamwork. The focus is on mindfulness\, motivational energy\, and movement! It’s fun\, energetic\, and made to get you moving! Join Angie T. and come move with me! \nContact to Sign Up: (561) 706-0061
URL:https://www.letsmovepbc.org/event/saywhat-wellness-in-action-with-angie-t-35/
LOCATION:Chaumont Delray\, 731 Ave Chaumont\, Delray Beach\, FL\, 33445\, United States
CATEGORIES:Let's Move 365
ATTACH;FMTTYPE=image/jpeg:https://www.letsmovepbc.org/wp-content/uploads/2025/06/Angie105.jpg
END:VEVENT
BEGIN:VEVENT
DTSTART;TZID=America/New_York:20260311T091500
DTEND;TZID=America/New_York:20260311T101500
DTSTAMP:20260424T112258
CREATED:20260227T084116Z
LAST-MODIFIED:20260227T084116Z
UID:4638-1773220500-1773224100@www.letsmovepbc.org
SUMMARY:Fitness in the Community with Rosa
DESCRIPTION:Join us for a balanced workout that offers standing and chair Zumba! This session is perfect for all fitness levels-come ready to move\, groove\, and have a blast while staying healthy! \nContact to Sign Up: (561) 715-3523
URL:https://www.letsmovepbc.org/event/fitness-in-the-community-with-rosa-10/
LOCATION:Delray Villas\, 13773 Circular\, Drive Delray Beach\, FL\, 33484\, United States
CATEGORIES:Let's Move 365
ATTACH;FMTTYPE=image/jpeg:https://www.letsmovepbc.org/wp-content/uploads/2025/06/RosaCommunity109.jpg
END:VEVENT
BEGIN:VEVENT
DTSTART;TZID=America/New_York:20260311T170000
DTEND;TZID=America/New_York:20260311T180000
DTSTAMP:20260424T112258
CREATED:20260227T075008Z
LAST-MODIFIED:20260227T075008Z
UID:4591-1773248400-1773252000@www.letsmovepbc.org
SUMMARY:Aqua Zumba and More with Aida
DESCRIPTION:Cardio benefits the heart and lungs\, strengthens bones. muscles\, and  the immune system\, and helps with weight reduction. It also reduces stress\, lowers cholesterol and high blood pressure. tones and tightens both the upper and lower body\, and strengthens abdominal muscles. Additionally\, cardio improves balance\, promotes better sleep\, and\, most importantly\, helps develop healthy lifestyle habits! \nContact to Sign Up: (954) 775-5548
URL:https://www.letsmovepbc.org/event/aqua-zumba-and-more-with-aida-17/
LOCATION:Via Vulcanus\, 13290 Via Vulcanus\, Delray Beach\, FL\, 33484\, United States
CATEGORIES:Let's Move 365
ATTACH;FMTTYPE=image/jpeg:https://www.letsmovepbc.org/wp-content/uploads/2026/02/AquaZumba.jpg
END:VEVENT
BEGIN:VEVENT
DTSTART;TZID=America/New_York:20260312T160000
DTEND;TZID=America/New_York:20260312T170000
DTSTAMP:20260424T112258
CREATED:20260227T080638Z
LAST-MODIFIED:20260227T080638Z
UID:4607-1773331200-1773334800@www.letsmovepbc.org
SUMMARY:Love Thyself – Chair Yoga with Milton
DESCRIPTION:Gentle movements for all abilities. Open to all ages and fitness levels—no prior yoga experience needed! Please wear comfortable clothing and bring a bottle of water. Your journey to wellness begins here! \nInstructor: Milton “Skye” Olen \nFor more information\, please email: annie.glades@htpbc.org
URL:https://www.letsmovepbc.org/event/love-thyself-chair-yoga-with-milton-25/
LOCATION:St. John First Missionary Baptist Church\, 600 SW 8th St\, Belle Glade\, FL\, 33430\, United States
CATEGORIES:Let's Move 365
ATTACH;FMTTYPE=image/jpeg:https://www.letsmovepbc.org/wp-content/uploads/2025/08/milton102.jpg
END:VEVENT
BEGIN:VEVENT
DTSTART;TZID=America/New_York:20260313T183000
DTEND;TZID=America/New_York:20260313T200000
DTSTAMP:20260424T112258
CREATED:20260227T075655Z
LAST-MODIFIED:20260227T075655Z
UID:4597-1773426600-1773432000@www.letsmovepbc.org
SUMMARY:Skyehigh Steppin'  Friday Night House  Party with Andrea
DESCRIPTION:Let’s get moving and have some fun! Join us as\nwe break down that soul line dance you’ve been watching\,\nstep by step. Whether you’re a beginner or just want to groove with the community. It’s all about energy\, fun\, and movement. Come dance and connect! \nCall to Sign Up: (561) 441-9411
URL:https://www.letsmovepbc.org/event/skyehigh-steppin-friday-night-house-party-with-andrea-7/
LOCATION:Pompey Park\, 1101 NW 2nd St\, Delray Beach\, FL\, 33444\, United States
CATEGORIES:Let's Move 365
ATTACH;FMTTYPE=image/jpeg:https://www.letsmovepbc.org/wp-content/uploads/2026/01/Andrea.jpg
END:VEVENT
BEGIN:VEVENT
DTSTART;TZID=America/New_York:20260314T120000
DTEND;TZID=America/New_York:20260314T140000
DTSTAMP:20260424T112258
CREATED:20260227T025911Z
LAST-MODIFIED:20260227T030135Z
UID:4557-1773489600-1773496800@www.letsmovepbc.org
SUMMARY:St. Patrick’s Day Parade
DESCRIPTION:Celebrate St. Patrick’s Day with a lively parade\, festive games\, and fun-filled activities for all ages! Enjoy the sights\, sounds\, and spirit of the holiday along Atlantic Avenue.
URL:https://www.letsmovepbc.org/event/st-patricks-day-parade/
LOCATION:Atlantic Avenue\, Delray Beach\, FL\, 33445\, United States
CATEGORIES:Let's Move 365
ATTACH;FMTTYPE=image/jpeg:https://www.letsmovepbc.org/wp-content/uploads/2026/02/LETS-MOVE-2026-EVENTS-CALENDAR-1-scaled.jpg
END:VEVENT
BEGIN:VEVENT
DTSTART;TZID=America/New_York:20260316T180000
DTEND;TZID=America/New_York:20260316T190000
DTSTAMP:20260424T112258
CREATED:20260227T074020Z
LAST-MODIFIED:20260227T074020Z
UID:4583-1773684000-1773687600@www.letsmovepbc.org
SUMMARY:E-Motion Zumba with E
DESCRIPTION:Ignite your energy\, move to the beat\, and transform your workout into a party! “E”Motion Zumba Fitness fuses vibrant Latin rhythms with high-intensity cardio to deliver a fun\, full-body dance workout. Designed for all fitness levels\, each class mixes fast and slow songs to boost your metabolism\, tone your muscles\, and improve endurance – all while having a blast. Whether you’re new to dance fitness or a seasoned mover\, “E” Zumba Fitness makes “working out” feel like a celebration. \nInstructor: E\nPhone: 561-932-7569
URL:https://www.letsmovepbc.org/event/e-motion-zumba-with-e-18/
LOCATION:Tanner Park\, 105 E. Palm Beach Road\, South Bay\, FL\, 33493\, United States
CATEGORIES:Let's Move 365
ATTACH;FMTTYPE=image/jpeg:https://www.letsmovepbc.org/wp-content/uploads/2025/10/EMotion.jpg
END:VEVENT
BEGIN:VEVENT
DTSTART;TZID=America/New_York:20260317T114500
DTEND;TZID=America/New_York:20260317T124500
DTSTAMP:20260424T112258
CREATED:20260227T083644Z
LAST-MODIFIED:20260227T083644Z
UID:4636-1773747900-1773751500@www.letsmovepbc.org
SUMMARY:Fitness in the Church with Rosa
DESCRIPTION:Cardio and Strength Training/moving and grooving to the beat. A balanced workout incorporating heart-pumping cardio exercises and strength-building activities using light weights. \nContact to Sign Up: (561) 715-3523
URL:https://www.letsmovepbc.org/event/fitness-in-the-church-with-rosa-11/
LOCATION:404 SW 3rd St\, 404 Southwest 3rd Street\, Delray Beach\, FL\, 33444\, United States
CATEGORIES:Let's Move 365
ATTACH;FMTTYPE=image/jpeg:https://www.letsmovepbc.org/wp-content/uploads/2025/06/Rosa108.jpg
END:VEVENT
END:VCALENDAR