BEGIN:VCALENDAR
VERSION:2.0
PRODID:-//Let&#039;s Move PBC - ECPv6.15.20//NONSGML v1.0//EN
CALSCALE:GREGORIAN
METHOD:PUBLISH
X-ORIGINAL-URL:https://www.letsmovepbc.org
X-WR-CALDESC:Events for Let&#039;s Move PBC
REFRESH-INTERVAL;VALUE=DURATION:PT1H
X-Robots-Tag:noindex
X-PUBLISHED-TTL:PT1H
BEGIN:VTIMEZONE
TZID:America/New_York
BEGIN:DAYLIGHT
TZOFFSETFROM:-0500
TZOFFSETTO:-0400
TZNAME:EDT
DTSTART:20250309T070000
END:DAYLIGHT
BEGIN:STANDARD
TZOFFSETFROM:-0400
TZOFFSETTO:-0500
TZNAME:EST
DTSTART:20251102T060000
END:STANDARD
BEGIN:DAYLIGHT
TZOFFSETFROM:-0500
TZOFFSETTO:-0400
TZNAME:EDT
DTSTART:20260308T070000
END:DAYLIGHT
BEGIN:STANDARD
TZOFFSETFROM:-0400
TZOFFSETTO:-0500
TZNAME:EST
DTSTART:20261101T060000
END:STANDARD
BEGIN:DAYLIGHT
TZOFFSETFROM:-0500
TZOFFSETTO:-0400
TZNAME:EDT
DTSTART:20270314T070000
END:DAYLIGHT
BEGIN:STANDARD
TZOFFSETFROM:-0400
TZOFFSETTO:-0500
TZNAME:EST
DTSTART:20271107T060000
END:STANDARD
END:VTIMEZONE
BEGIN:VEVENT
DTSTART;TZID=America/New_York:20260429T103000
DTEND;TZID=America/New_York:20260429T113000
DTSTAMP:20260424T000911
CREATED:20260331T043742Z
LAST-MODIFIED:20260331T043742Z
UID:4738-1777458600-1777462200@www.letsmovepbc.org
SUMMARY:Chair Yoga
DESCRIPTION:Let’s Move 365 proudly supports Florida Blue’s Free Monthly Fitness Classes\, designed to keep our community active\, energized\, and well-balanced all year long. From calming relaxation sessions to boost mindfulness\, to high-energy fitness and Zumba classes that get you moving\, there’s something for everyone\, no matter your fitness level.\nThese classes are a great way to stay consistent\, try something new\, and connect with others who are committed to living a healthier lifestyle. Join us each month and take a step toward feeling your best\, physically and mentally.\nContact Information: 1-561- 374 – 6200
URL:https://www.letsmovepbc.org/event/chair-yoga-5/
LOCATION:Boynton Beach\, 1501 N Congress Ave.\, Boynton Beach\, FL\, 33426\, United States
CATEGORIES:Let's Move 365
END:VEVENT
BEGIN:VEVENT
DTSTART;TZID=America/New_York:20260429T120000
DTEND;TZID=America/New_York:20260429T130000
DTSTAMP:20260424T000911
CREATED:20260331T045340Z
LAST-MODIFIED:20260331T045340Z
UID:4756-1777464000-1777467600@www.letsmovepbc.org
SUMMARY:Tobacco Cessation Class
DESCRIPTION:Let’s Move 365 proudly supports Florida Blue’s Free Monthly Fitness Classes\, designed to keep our community active\, energized\, and well-balanced all year long. From calming relaxation sessions to boost mindfulness\, to high-energy fitness and Zumba classes that get you moving\, there’s something for everyone\, no matter your fitness level.\nThese classes are a great way to stay consistent\, try something new\, and connect with others who are committed to living a healthier lifestyle. Join us each month and take a step toward feeling your best\, physically and mentally.\nContact Information: 1-561- 374 – 6200
URL:https://www.letsmovepbc.org/event/tobacco-cessation-class-5/
LOCATION:Boynton Beach\, 1501 N Congress Ave.\, Boynton Beach\, FL\, 33426\, United States
CATEGORIES:Let's Move 365
END:VEVENT
BEGIN:VEVENT
DTSTART;TZID=America/New_York:20260429T120000
DTEND;TZID=America/New_York:20260429T130000
DTSTAMP:20260424T000911
CREATED:20260331T051028Z
LAST-MODIFIED:20260331T051028Z
UID:4770-1777464000-1777467600@www.letsmovepbc.org
SUMMARY:Beyond the Stress Ball
DESCRIPTION:Let’s Move 365 proudly supports Florida Blue’s Free Monthly Fitness Classes\, designed to keep our community active\, energized\, and well-balanced all year long. From calming relaxation sessions to boost mindfulness\, to high-energy fitness and Zumba classes that get you moving\, there’s something for everyone\, no matter your fitness level.\nThese classes are a great way to stay consistent\, try something new\, and connect with others who are committed to living a healthier lifestyle. Join us each month and take a step toward feeling your best\, physically and mentally.\nContact Information: 1-561- 374 – 6200
URL:https://www.letsmovepbc.org/event/beyond-the-stress-ball/
LOCATION:Boynton Beach\, 1501 N Congress Ave.\, Boynton Beach\, FL\, 33426\, United States
CATEGORIES:Let's Move 365
END:VEVENT
BEGIN:VEVENT
DTSTART;TZID=America/New_York:20260429T170000
DTEND;TZID=America/New_York:20260429T180000
DTSTAMP:20260424T000911
CREATED:20260331T050342Z
LAST-MODIFIED:20260331T050342Z
UID:4766-1777482000-1777485600@www.letsmovepbc.org
SUMMARY:Yogalates
DESCRIPTION:Let’s Move 365 proudly supports Florida Blue’s Free Monthly Fitness Classes\, designed to keep our community active\, energized\, and well-balanced all year long. From calming relaxation sessions to boost mindfulness\, to high-energy fitness and Zumba classes that get you moving\, there’s something for everyone\, no matter your fitness level.\nThese classes are a great way to stay consistent\, try something new\, and connect with others who are committed to living a healthier lifestyle. Join us each month and take a step toward feeling your best\, physically and mentally.\nContact Information: 1-561- 374 – 6200
URL:https://www.letsmovepbc.org/event/yogalates-5/
LOCATION:Boynton Beach\, 1501 N Congress Ave.\, Boynton Beach\, FL\, 33426\, United States
CATEGORIES:Let's Move 365
END:VEVENT
BEGIN:VEVENT
DTSTART;TZID=America/New_York:20260429T173000
DTEND;TZID=America/New_York:20260429T183000
DTSTAMP:20260424T000911
CREATED:20260328T220855Z
LAST-MODIFIED:20260328T220855Z
UID:4698-1777483800-1777487400@www.letsmovepbc.org
SUMMARY:Aqua Zumba and More with Aida
DESCRIPTION:Cardio benefits the heart and lungs\, strengthens bones. muscles\, and  the immune system\, and helps with weight reduction. It also reduces stress\, lowers cholesterol and high blood pressure. tones and tightens both the upper and lower body\, and strengthens abdominal muscles. Additionally\, cardio improves balance\, promotes better sleep\, and\, most importantly\, helps develop healthy lifestyle habits! \nContact to Sign Up: (954) 775-5548
URL:https://www.letsmovepbc.org/event/aqua-zumba-and-more-with-aida-24/
LOCATION:Via Vulcanus\, 13290 Via Vulcanus\, Delray Beach\, FL\, 33484\, United States
CATEGORIES:Let's Move 365
ATTACH;FMTTYPE=image/jpeg:https://www.letsmovepbc.org/wp-content/uploads/2025/10/AquaZumbaandMore.jpg
END:VEVENT
END:VCALENDAR