BEGIN:VCALENDAR
VERSION:2.0
PRODID:-//Let&#039;s Move PBC - ECPv6.15.20//NONSGML v1.0//EN
CALSCALE:GREGORIAN
METHOD:PUBLISH
X-WR-CALNAME:Let&#039;s Move PBC
X-ORIGINAL-URL:https://www.letsmovepbc.org
X-WR-CALDESC:Events for Let&#039;s Move PBC
REFRESH-INTERVAL;VALUE=DURATION:PT1H
X-Robots-Tag:noindex
X-PUBLISHED-TTL:PT1H
BEGIN:VTIMEZONE
TZID:America/New_York
BEGIN:DAYLIGHT
TZOFFSETFROM:-0500
TZOFFSETTO:-0400
TZNAME:EDT
DTSTART:20250309T070000
END:DAYLIGHT
BEGIN:STANDARD
TZOFFSETFROM:-0400
TZOFFSETTO:-0500
TZNAME:EST
DTSTART:20251102T060000
END:STANDARD
BEGIN:DAYLIGHT
TZOFFSETFROM:-0500
TZOFFSETTO:-0400
TZNAME:EDT
DTSTART:20260308T070000
END:DAYLIGHT
BEGIN:STANDARD
TZOFFSETFROM:-0400
TZOFFSETTO:-0500
TZNAME:EST
DTSTART:20261101T060000
END:STANDARD
BEGIN:DAYLIGHT
TZOFFSETFROM:-0500
TZOFFSETTO:-0400
TZNAME:EDT
DTSTART:20270314T070000
END:DAYLIGHT
BEGIN:STANDARD
TZOFFSETFROM:-0400
TZOFFSETTO:-0500
TZNAME:EST
DTSTART:20271107T060000
END:STANDARD
END:VTIMEZONE
BEGIN:VEVENT
DTSTART;TZID=America/New_York:20260420T153000
DTEND;TZID=America/New_York:20260420T163000
DTSTAMP:20260424T000821
CREATED:20260331T055559Z
LAST-MODIFIED:20260331T055559Z
UID:4828-1776699000-1776702600@www.letsmovepbc.org
SUMMARY:Tai Ji Quan Movement for Better Balance
DESCRIPTION:Let’s Move 365 proudly supports Florida Blue’s Free Monthly Fitness Classes\, designed to keep our community active\, energized\, and well-balanced all year long. From calming relaxation sessions to boost mindfulness\, to high-energy fitness and Zumba classes that get you moving\, there’s something for everyone\, no matter your fitness level.\nThese classes are a great way to stay consistent\, try something new\, and connect with others who are committed to living a healthier lifestyle. Join us each month and take a step toward feeling your best\, physically and mentally.\nContact Information: 1-561- 374 – 6200
URL:https://www.letsmovepbc.org/event/tai-ji-quan-movement-for-better-balance-5/
LOCATION:Boynton Beach\, 1501 N Congress Ave.\, Boynton Beach\, FL\, 33426\, United States
CATEGORIES:Let's Move 365
END:VEVENT
BEGIN:VEVENT
DTSTART;TZID=America/New_York:20260420T180000
DTEND;TZID=America/New_York:20260420T190000
DTSTAMP:20260424T000821
CREATED:20260328T213928Z
LAST-MODIFIED:20260328T213928Z
UID:4661-1776708000-1776711600@www.letsmovepbc.org
SUMMARY:E-Motion Zumba with E
DESCRIPTION:Ignite your energy\, move to the beat\, and transform your workout into a party! “E”Motion Zumba Fitness fuses vibrant Latin rhythms with high-intensity cardio to deliver a fun\, full-body dance workout. Designed for all fitness levels\, each class mixes fast and slow songs to boost your metabolism\, tone your muscles\, and improve endurance – all while having a blast. Whether you’re new to dance fitness or a seasoned mover\, “E” Zumba Fitness makes “working out” feel like a celebration. \nInstructor: E\nPhone: 561-932-7569
URL:https://www.letsmovepbc.org/event/e-motion-zumba-with-e-23/
LOCATION:Tanner Park\, 105 E. Palm Beach Road\, South Bay\, FL\, 33493\, United States
CATEGORIES:Let's Move 365
ATTACH;FMTTYPE=image/jpeg:https://www.letsmovepbc.org/wp-content/uploads/2025/10/EMotion.jpg
END:VEVENT
END:VCALENDAR