BEGIN:VCALENDAR
VERSION:2.0
PRODID:-//Let&#039;s Move PBC - ECPv6.15.20//NONSGML v1.0//EN
CALSCALE:GREGORIAN
METHOD:PUBLISH
X-ORIGINAL-URL:https://www.letsmovepbc.org
X-WR-CALDESC:Events for Let&#039;s Move PBC
REFRESH-INTERVAL;VALUE=DURATION:PT1H
X-Robots-Tag:noindex
X-PUBLISHED-TTL:PT1H
BEGIN:VTIMEZONE
TZID:America/New_York
BEGIN:DAYLIGHT
TZOFFSETFROM:-0500
TZOFFSETTO:-0400
TZNAME:EDT
DTSTART:20250309T070000
END:DAYLIGHT
BEGIN:STANDARD
TZOFFSETFROM:-0400
TZOFFSETTO:-0500
TZNAME:EST
DTSTART:20251102T060000
END:STANDARD
BEGIN:DAYLIGHT
TZOFFSETFROM:-0500
TZOFFSETTO:-0400
TZNAME:EDT
DTSTART:20260308T070000
END:DAYLIGHT
BEGIN:STANDARD
TZOFFSETFROM:-0400
TZOFFSETTO:-0500
TZNAME:EST
DTSTART:20261101T060000
END:STANDARD
BEGIN:DAYLIGHT
TZOFFSETFROM:-0500
TZOFFSETTO:-0400
TZNAME:EDT
DTSTART:20270314T070000
END:DAYLIGHT
BEGIN:STANDARD
TZOFFSETFROM:-0400
TZOFFSETTO:-0500
TZNAME:EST
DTSTART:20271107T060000
END:STANDARD
END:VTIMEZONE
BEGIN:VEVENT
DTSTART;TZID=America/New_York:20260418T100000
DTEND;TZID=America/New_York:20260418T140000
DTSTAMP:20260424T001000
CREATED:20260331T061120Z
LAST-MODIFIED:20260331T061120Z
UID:4848-1776506400-1776520800@www.letsmovepbc.org
SUMMARY:Baby Bump and Beyond
DESCRIPTION:Join us for a free Baby shower event! Enjoy delicious eats\, face\npainting for kids\, exciting raffle prizes\, and free diapers all while\nsupporting local vendors. Come help us shower new parents-to-be\nwith love and gifts in a fun community event! \nContact Information: 1-561- 374 – 6200
URL:https://www.letsmovepbc.org/event/baby-bump-and-beyond/
LOCATION:Boynton Beach\, 1501 N Congress Ave.\, Boynton Beach\, FL\, 33426\, United States
CATEGORIES:Let's Move 365
END:VEVENT
END:VCALENDAR