BEGIN:VCALENDAR
VERSION:2.0
PRODID:-//Let&#039;s Move PBC - ECPv6.15.20//NONSGML v1.0//EN
CALSCALE:GREGORIAN
METHOD:PUBLISH
X-ORIGINAL-URL:https://www.letsmovepbc.org
X-WR-CALDESC:Events for Let&#039;s Move PBC
REFRESH-INTERVAL;VALUE=DURATION:PT1H
X-Robots-Tag:noindex
X-PUBLISHED-TTL:PT1H
BEGIN:VTIMEZONE
TZID:America/New_York
BEGIN:DAYLIGHT
TZOFFSETFROM:-0500
TZOFFSETTO:-0400
TZNAME:EDT
DTSTART:20250309T070000
END:DAYLIGHT
BEGIN:STANDARD
TZOFFSETFROM:-0400
TZOFFSETTO:-0500
TZNAME:EST
DTSTART:20251102T060000
END:STANDARD
BEGIN:DAYLIGHT
TZOFFSETFROM:-0500
TZOFFSETTO:-0400
TZNAME:EDT
DTSTART:20260308T070000
END:DAYLIGHT
BEGIN:STANDARD
TZOFFSETFROM:-0400
TZOFFSETTO:-0500
TZNAME:EST
DTSTART:20261101T060000
END:STANDARD
BEGIN:DAYLIGHT
TZOFFSETFROM:-0500
TZOFFSETTO:-0400
TZNAME:EDT
DTSTART:20270314T070000
END:DAYLIGHT
BEGIN:STANDARD
TZOFFSETFROM:-0400
TZOFFSETTO:-0500
TZNAME:EST
DTSTART:20271107T060000
END:STANDARD
END:VTIMEZONE
BEGIN:VEVENT
DTSTART;TZID=America/New_York:20260404T093000
DTEND;TZID=America/New_York:20260404T103000
DTSTAMP:20260424T000912
CREATED:20260331T060550Z
LAST-MODIFIED:20260331T060550Z
UID:4840-1775295000-1775298600@www.letsmovepbc.org
SUMMARY:Zumba
DESCRIPTION:Let’s Move 365 proudly supports Florida Blue’s Free Monthly Fitness Classes\, designed to keep our community active\, energized\, and well-balanced all year long. From calming relaxation sessions to boost mindfulness\, to high-energy fitness and Zumba classes that get you moving\, there’s something for everyone\, no matter your fitness level.\nThese classes are a great way to stay consistent\, try something new\, and connect with others who are committed to living a healthier lifestyle. Join us each month and take a step toward feeling your best\, physically and mentally.\nContact Information: 1-561- 374 – 6200
URL:https://www.letsmovepbc.org/event/zumba/
LOCATION:Boynton Beach\, 1501 N Congress Ave.\, Boynton Beach\, FL\, 33426\, United States
CATEGORIES:Let's Move 365
END:VEVENT
END:VCALENDAR