BEGIN:VCALENDAR
VERSION:2.0
PRODID:-//Let&#039;s Move PBC - ECPv6.15.20//NONSGML v1.0//EN
CALSCALE:GREGORIAN
METHOD:PUBLISH
X-ORIGINAL-URL:https://www.letsmovepbc.org
X-WR-CALDESC:Events for Let&#039;s Move PBC
REFRESH-INTERVAL;VALUE=DURATION:PT1H
X-Robots-Tag:noindex
X-PUBLISHED-TTL:PT1H
BEGIN:VTIMEZONE
TZID:America/New_York
BEGIN:DAYLIGHT
TZOFFSETFROM:-0500
TZOFFSETTO:-0400
TZNAME:EDT
DTSTART:20240310T070000
END:DAYLIGHT
BEGIN:STANDARD
TZOFFSETFROM:-0400
TZOFFSETTO:-0500
TZNAME:EST
DTSTART:20241103T060000
END:STANDARD
BEGIN:DAYLIGHT
TZOFFSETFROM:-0500
TZOFFSETTO:-0400
TZNAME:EDT
DTSTART:20250309T070000
END:DAYLIGHT
BEGIN:STANDARD
TZOFFSETFROM:-0400
TZOFFSETTO:-0500
TZNAME:EST
DTSTART:20251102T060000
END:STANDARD
BEGIN:DAYLIGHT
TZOFFSETFROM:-0500
TZOFFSETTO:-0400
TZNAME:EDT
DTSTART:20260308T070000
END:DAYLIGHT
BEGIN:STANDARD
TZOFFSETFROM:-0400
TZOFFSETTO:-0500
TZNAME:EST
DTSTART:20261101T060000
END:STANDARD
END:VTIMEZONE
BEGIN:VEVENT
DTSTART;TZID=America/New_York:20251228T090000
DTEND;TZID=America/New_York:20251228T100000
DTSTAMP:20260424T063736
CREATED:20251129T060456Z
LAST-MODIFIED:20251129T060456Z
UID:4302-1766912400-1766916000@www.letsmovepbc.org
SUMMARY:Zumba Vibez with Lissette Rivera
DESCRIPTION:Join us for a vibrant community Zumba party where you can dance your way to fitness with high-energy Latin rhythms\, no experience needed! \nContact to Sign Up: (561) 452-2730
URL:https://www.letsmovepbc.org/event/zumba-vibez-with-lissette-rivera-19/
LOCATION:Okeeheelee Park\, 7715 Forest Hill Blvd\, West Palm Beach\, FL\, 33413\, United States
CATEGORIES:Let's Move 365
ATTACH;FMTTYPE=image/jpeg:https://www.letsmovepbc.org/wp-content/uploads/2025/06/Lissette107.jpg
END:VEVENT
BEGIN:VEVENT
DTSTART;TZID=America/New_York:20251228T103000
DTEND;TZID=America/New_York:20251228T113000
DTSTAMP:20260424T063736
CREATED:20251129T054405Z
LAST-MODIFIED:20251129T054405Z
UID:4294-1766917800-1766921400@www.letsmovepbc.org
SUMMARY:Aqua Zumba and More with Aida
DESCRIPTION:Cardio benefits the heart and lungs\, strengthens bones. muscles\, and  the immune system\, and helps with weight reduction. It also reduces stress\, lowers cholesterol and high blood pressure. tones and tightens both the upper and lower body\, and strengthens abdominal muscles. Additionally\, cardio improves balance\, promotes better sleep\, and\, most importantly\, helps develop healthy lifestyle habits! \nContact to Sign Up: (954) 775-5548
URL:https://www.letsmovepbc.org/event/aqua-zumba-and-more-with-aida-8/
LOCATION:Via Vulcanus\, 13290 Via Vulcanus\, Delray Beach\, FL\, 33484\, United States
CATEGORIES:Let's Move 365
ATTACH;FMTTYPE=image/jpeg:https://www.letsmovepbc.org/wp-content/uploads/2025/10/AquaZumbaandMore.jpg
END:VEVENT
END:VCALENDAR