BEGIN:VCALENDAR
VERSION:2.0
PRODID:-//Let&#039;s Move PBC - ECPv6.15.20//NONSGML v1.0//EN
CALSCALE:GREGORIAN
METHOD:PUBLISH
X-WR-CALNAME:Let&#039;s Move PBC
X-ORIGINAL-URL:https://www.letsmovepbc.org
X-WR-CALDESC:Events for Let&#039;s Move PBC
REFRESH-INTERVAL;VALUE=DURATION:PT1H
X-Robots-Tag:noindex
X-PUBLISHED-TTL:PT1H
BEGIN:VTIMEZONE
TZID:America/New_York
BEGIN:DAYLIGHT
TZOFFSETFROM:-0500
TZOFFSETTO:-0400
TZNAME:EDT
DTSTART:20240310T070000
END:DAYLIGHT
BEGIN:STANDARD
TZOFFSETFROM:-0400
TZOFFSETTO:-0500
TZNAME:EST
DTSTART:20241103T060000
END:STANDARD
BEGIN:DAYLIGHT
TZOFFSETFROM:-0500
TZOFFSETTO:-0400
TZNAME:EDT
DTSTART:20250309T070000
END:DAYLIGHT
BEGIN:STANDARD
TZOFFSETFROM:-0400
TZOFFSETTO:-0500
TZNAME:EST
DTSTART:20251102T060000
END:STANDARD
BEGIN:DAYLIGHT
TZOFFSETFROM:-0500
TZOFFSETTO:-0400
TZNAME:EDT
DTSTART:20260308T070000
END:DAYLIGHT
BEGIN:STANDARD
TZOFFSETFROM:-0400
TZOFFSETTO:-0500
TZNAME:EST
DTSTART:20261101T060000
END:STANDARD
END:VTIMEZONE
BEGIN:VEVENT
DTSTART;TZID=America/New_York:20251103T180000
DTEND;TZID=America/New_York:20251103T190000
DTSTAMP:20260424T081734
CREATED:20251028T183248Z
LAST-MODIFIED:20251028T183248Z
UID:4078-1762192800-1762196400@www.letsmovepbc.org
SUMMARY:E-Motion Zumba with E
DESCRIPTION:Ignite your energy\, move to the beat\, and transform your workout into a party! “E”Motion Zumba Fitness fuses vibrant Latin rhythms with high-intensity cardio to deliver a fun\, full-body dance workout. Designed for all fitness levels\, each class mixes fast and slow songs to boost your metabolism\, tone your muscles\, and improve endurance – all while having a blast. Whether you’re new to dance fitness or a seasoned mover\, “E” Zumba Fitness makes “working out” feel like a celebration. \nInstructor: E\nPhone: 561-932-7569
URL:https://www.letsmovepbc.org/event/e-motion-zumba-with-e/
LOCATION:Tanner Park\, 105 E. Palm Beach Road\, South Bay\, FL\, 33493\, United States
CATEGORIES:Let's Move 365
ATTACH;FMTTYPE=image/jpeg:https://www.letsmovepbc.org/wp-content/uploads/2025/10/EMotion.jpg
END:VEVENT
BEGIN:VEVENT
DTSTART;TZID=America/New_York:20251103T180000
DTEND;TZID=America/New_York:20251103T190000
DTSTAMP:20260424T081734
CREATED:20251028T184131Z
LAST-MODIFIED:20251028T184131Z
UID:4085-1762192800-1762196400@www.letsmovepbc.org
SUMMARY:E-Motion Zumba
DESCRIPTION:jEnciende tu energia\, muevete al ritmo y transforma tu entrenamiento en una fiesta! “E” Motion Zumba Fitness combina vibrantes ritmos latinos con cardio de alto intensidad para ofrecer un divertido entrenamiento de baile para todo el cuerpo. Disenada para todos los niveles de condici6n fisica\, coda close mezcla canciones r6pidas y lentos para aumentar tu metabolismo\, tonificar tus musculos y mejorar la resistencia\, jtodo mientras te diviertes al m6ximo! Ya seas nuevo en el fitness de baile o un bailarin experimentado\,\n“E” Zumba Fitness hace que “entrenar” se sienta como una celebraci6n. \nContacto para inscribirse: (561) 932-7569
URL:https://www.letsmovepbc.org/event/e-motion-zumba-13/
LOCATION:Tanner Park\, 105 E. Palm Beach Road\, South Bay\, FL\, 33493\, United States
CATEGORIES:Let's Move 365
ATTACH;FMTTYPE=image/jpeg:https://www.letsmovepbc.org/wp-content/uploads/2025/10/EMotionSpanish.jpg
END:VEVENT
END:VCALENDAR