BEGIN:VCALENDAR
VERSION:2.0
PRODID:-//Let&#039;s Move PBC - ECPv6.15.20//NONSGML v1.0//EN
CALSCALE:GREGORIAN
METHOD:PUBLISH
X-ORIGINAL-URL:https://www.letsmovepbc.org
X-WR-CALDESC:Events for Let&#039;s Move PBC
REFRESH-INTERVAL;VALUE=DURATION:PT1H
X-Robots-Tag:noindex
X-PUBLISHED-TTL:PT1H
BEGIN:VTIMEZONE
TZID:America/New_York
BEGIN:DAYLIGHT
TZOFFSETFROM:-0500
TZOFFSETTO:-0400
TZNAME:EDT
DTSTART:20240310T070000
END:DAYLIGHT
BEGIN:STANDARD
TZOFFSETFROM:-0400
TZOFFSETTO:-0500
TZNAME:EST
DTSTART:20241103T060000
END:STANDARD
BEGIN:DAYLIGHT
TZOFFSETFROM:-0500
TZOFFSETTO:-0400
TZNAME:EDT
DTSTART:20250309T070000
END:DAYLIGHT
BEGIN:STANDARD
TZOFFSETFROM:-0400
TZOFFSETTO:-0500
TZNAME:EST
DTSTART:20251102T060000
END:STANDARD
BEGIN:DAYLIGHT
TZOFFSETFROM:-0500
TZOFFSETTO:-0400
TZNAME:EDT
DTSTART:20260308T070000
END:DAYLIGHT
BEGIN:STANDARD
TZOFFSETFROM:-0400
TZOFFSETTO:-0500
TZNAME:EST
DTSTART:20261101T060000
END:STANDARD
END:VTIMEZONE
BEGIN:VEVENT
DTSTART;VALUE=DATE:20250802
DTEND;VALUE=DATE:20250803
DTSTAMP:20260424T134151
CREATED:20241230T170800Z
LAST-MODIFIED:20241230T170800Z
UID:3305-1754092800-1754179199@www.letsmovepbc.org
SUMMARY:Stronger Families\, One Move at a Time
DESCRIPTION:Stronger Families\, One Move at a Time  \nDate: August 2\, 2025
URL:https://www.letsmovepbc.org/event/stronger-families-one-move-at-a-time/
LOCATION:FL
CATEGORIES:Let's Move 365
END:VEVENT
BEGIN:VEVENT
DTSTART;TZID=America/New_York:20250802T070000
DTEND;TZID=America/New_York:20250802T080000
DTSTAMP:20260424T134151
CREATED:20250618T203313Z
LAST-MODIFIED:20250618T203313Z
UID:3917-1754118000-1754121600@www.letsmovepbc.org
SUMMARY:Walk and Talk Wellness with Joe Mckim
DESCRIPTION:Whether you’re out for a casual stroll\, challenging yourself with a weighted vest\,   or rucking with a pack\, this event is all about getting outside\, boosting your mind and body\, and connecting with an awesome community that’s all about support\, movement\, and good vibes! \nContact to Sign Up: (239) 220-3867
URL:https://www.letsmovepbc.org/event/walk-and-talk-wellness-with-joe-mckim-7/
LOCATION:Okeeheelee Park\, 7715 Forest Hill Blvd\, West Palm Beach\, FL\, 33413\, United States
CATEGORIES:Let's Move 365
END:VEVENT
END:VCALENDAR