BEGIN:VCALENDAR
VERSION:2.0
PRODID:-//Let&#039;s Move PBC - ECPv6.15.20//NONSGML v1.0//EN
CALSCALE:GREGORIAN
METHOD:PUBLISH
X-WR-CALNAME:Let&#039;s Move PBC
X-ORIGINAL-URL:https://www.letsmovepbc.org
X-WR-CALDESC:Events for Let&#039;s Move PBC
REFRESH-INTERVAL;VALUE=DURATION:PT1H
X-Robots-Tag:noindex
X-PUBLISHED-TTL:PT1H
BEGIN:VTIMEZONE
TZID:America/New_York
BEGIN:DAYLIGHT
TZOFFSETFROM:-0500
TZOFFSETTO:-0400
TZNAME:EDT
DTSTART:20240310T070000
END:DAYLIGHT
BEGIN:STANDARD
TZOFFSETFROM:-0400
TZOFFSETTO:-0500
TZNAME:EST
DTSTART:20241103T060000
END:STANDARD
BEGIN:DAYLIGHT
TZOFFSETFROM:-0500
TZOFFSETTO:-0400
TZNAME:EDT
DTSTART:20250309T070000
END:DAYLIGHT
BEGIN:STANDARD
TZOFFSETFROM:-0400
TZOFFSETTO:-0500
TZNAME:EST
DTSTART:20251102T060000
END:STANDARD
BEGIN:DAYLIGHT
TZOFFSETFROM:-0500
TZOFFSETTO:-0400
TZNAME:EDT
DTSTART:20260308T070000
END:DAYLIGHT
BEGIN:STANDARD
TZOFFSETFROM:-0400
TZOFFSETTO:-0500
TZNAME:EST
DTSTART:20261101T060000
END:STANDARD
END:VTIMEZONE
BEGIN:VEVENT
DTSTART;TZID=America/New_York:20250730T180000
DTEND;TZID=America/New_York:20250730T190000
DTSTAMP:20260424T134109
CREATED:20250525T123338Z
LAST-MODIFIED:20250606T215039Z
UID:3722-1753898400-1753902000@www.letsmovepbc.org
SUMMARY:E-Motion Zumba
DESCRIPTION:Zumba Fitness is a fun and energetic atmosphere with a blend of Latin and international music and easy-to-follow dance steps. The class will likely begin with a warm-up\, then move through a series of dance routines that gradually build in intensity\, followed by a cool-down. Zumba Fitness class is offend called exercise class in disguise. \nInstructor: E\nPhone: 561-932-7569
URL:https://www.letsmovepbc.org/event/e-motion-zumba-6/
LOCATION:Tanner Park\, 105 E. Palm Beach Road\, South Bay\, FL\, 33493\, United States
CATEGORIES:Let's Move 365
END:VEVENT
END:VCALENDAR