BEGIN:VCALENDAR
VERSION:2.0
PRODID:-//Let&#039;s Move PBC - ECPv6.15.20//NONSGML v1.0//EN
CALSCALE:GREGORIAN
METHOD:PUBLISH
X-WR-CALNAME:Let&#039;s Move PBC
X-ORIGINAL-URL:https://www.letsmovepbc.org
X-WR-CALDESC:Events for Let&#039;s Move PBC
REFRESH-INTERVAL;VALUE=DURATION:PT1H
X-Robots-Tag:noindex
X-PUBLISHED-TTL:PT1H
BEGIN:VTIMEZONE
TZID:America/New_York
BEGIN:DAYLIGHT
TZOFFSETFROM:-0500
TZOFFSETTO:-0400
TZNAME:EDT
DTSTART:20240310T070000
END:DAYLIGHT
BEGIN:STANDARD
TZOFFSETFROM:-0400
TZOFFSETTO:-0500
TZNAME:EST
DTSTART:20241103T060000
END:STANDARD
BEGIN:DAYLIGHT
TZOFFSETFROM:-0500
TZOFFSETTO:-0400
TZNAME:EDT
DTSTART:20250309T070000
END:DAYLIGHT
BEGIN:STANDARD
TZOFFSETFROM:-0400
TZOFFSETTO:-0500
TZNAME:EST
DTSTART:20251102T060000
END:STANDARD
BEGIN:DAYLIGHT
TZOFFSETFROM:-0500
TZOFFSETTO:-0400
TZNAME:EDT
DTSTART:20260308T070000
END:DAYLIGHT
BEGIN:STANDARD
TZOFFSETFROM:-0400
TZOFFSETTO:-0500
TZNAME:EST
DTSTART:20261101T060000
END:STANDARD
END:VTIMEZONE
BEGIN:VEVENT
DTSTART;TZID=America/New_York:20250701T114500
DTEND;TZID=America/New_York:20250701T124500
DTSTAMP:20260424T152156
CREATED:20250311T142128Z
LAST-MODIFIED:20250311T142128Z
UID:3586-1751370300-1751373900@www.letsmovepbc.org
SUMMARY:Fitness in the Church
DESCRIPTION:Cardio and Strength Training/moving and grooving to the beat. A balanced workout incorporating heart-pumping cardio exercises and strength-building activities using light weights. \nInstructor: Rosa\nPhone: 561-715-3523
URL:https://www.letsmovepbc.org/event/fitness-in-the-church-5/
LOCATION:St. Matthews Church\, 404 SW 3rd St\, Delray Beach\, FL\, 33444\, United States
CATEGORIES:Let's Move 365
END:VEVENT
BEGIN:VEVENT
DTSTART;TZID=America/New_York:20250701T114500
DTEND;TZID=America/New_York:20250701T124500
DTSTAMP:20260424T152156
CREATED:20250606T164326Z
LAST-MODIFIED:20250606T164326Z
UID:3750-1751370300-1751373900@www.letsmovepbc.org
SUMMARY:Rosa Fitness in the church
DESCRIPTION:Contact to Sign Up: (561) 715-3523
URL:https://www.letsmovepbc.org/event/rosa-fitness-in-the-church-2/
LOCATION:404 SW 3rd St\, 404 Southwest 3rd Street\, Delray Beach\, FL\, 33444\, United States
CATEGORIES:Let's Move 365
END:VEVENT
BEGIN:VEVENT
DTSTART;TZID=America/New_York:20250701T180000
DTEND;TZID=America/New_York:20250701T190000
DTSTAMP:20260424T152156
CREATED:20250606T234359Z
LAST-MODIFIED:20250606T234359Z
UID:3874-1751392800-1751396400@www.letsmovepbc.org
SUMMARY:Latin Vibes Fitness with Nora
DESCRIPTION:Join us for Latin Vibes Fitness\, a high-energy Zumba session that mixes Latin rhythms with fun\, easy-to-follow moves designed to boost your mood and energy! Classes are held both indoors and outdoors — bringing you movement\, music\, and joy in every setting. Whether you’re a beginner or experienced\, you’ll leave feeling stronger\, happier\, and inspired. \nContact:\nNoralara@gmail.com
URL:https://www.letsmovepbc.org/event/latin-vibes-fitness-with-nora-5/
LOCATION:Old Town Hall Jupiter\, 1000 Townhall Ave\, Jupiter\, FL\, 33458\, United States
CATEGORIES:Let's Move 365
END:VEVENT
BEGIN:VEVENT
DTSTART;TZID=America/New_York:20250701T183000
DTEND;TZID=America/New_York:20250701T193000
DTSTAMP:20260424T152156
CREATED:20250606T220458Z
LAST-MODIFIED:20250606T220458Z
UID:3834-1751394600-1751398200@www.letsmovepbc.org
SUMMARY:sayWHAT! Wellness in action with Angie T.
DESCRIPTION:SayWHAT! 2 FITNESS is all about Wellness\, Health\, Activity\, and Teamwork. The focus is on mindfulness\, motivational energy\, and movement! It’s fun\, energetic\, and made to get you moving! Join Angie T. and come move with me! \nContact to Sign Up: (561) 706-0061
URL:https://www.letsmovepbc.org/event/saywhat-wellness-in-action-with-angie-t-4/
LOCATION:Chaumont Delray\, 731 Ave Chaumont\, Delray Beach\, FL\, 33445\, United States
CATEGORIES:Let's Move 365
END:VEVENT
END:VCALENDAR