BEGIN:VCALENDAR
VERSION:2.0
PRODID:-//Let&#039;s Move PBC - ECPv6.15.20//NONSGML v1.0//EN
CALSCALE:GREGORIAN
METHOD:PUBLISH
X-ORIGINAL-URL:https://www.letsmovepbc.org
X-WR-CALDESC:Events for Let&#039;s Move PBC
REFRESH-INTERVAL;VALUE=DURATION:PT1H
X-Robots-Tag:noindex
X-PUBLISHED-TTL:PT1H
BEGIN:VTIMEZONE
TZID:America/New_York
BEGIN:DAYLIGHT
TZOFFSETFROM:-0500
TZOFFSETTO:-0400
TZNAME:EDT
DTSTART:20240310T070000
END:DAYLIGHT
BEGIN:STANDARD
TZOFFSETFROM:-0400
TZOFFSETTO:-0500
TZNAME:EST
DTSTART:20241103T060000
END:STANDARD
BEGIN:DAYLIGHT
TZOFFSETFROM:-0500
TZOFFSETTO:-0400
TZNAME:EDT
DTSTART:20250309T070000
END:DAYLIGHT
BEGIN:STANDARD
TZOFFSETFROM:-0400
TZOFFSETTO:-0500
TZNAME:EST
DTSTART:20251102T060000
END:STANDARD
BEGIN:DAYLIGHT
TZOFFSETFROM:-0500
TZOFFSETTO:-0400
TZNAME:EDT
DTSTART:20260308T070000
END:DAYLIGHT
BEGIN:STANDARD
TZOFFSETFROM:-0400
TZOFFSETTO:-0500
TZNAME:EST
DTSTART:20261101T060000
END:STANDARD
END:VTIMEZONE
BEGIN:VEVENT
DTSTART;TZID=America/New_York:20250611T091500
DTEND;TZID=America/New_York:20250611T101500
DTSTAMP:20260424T184906
CREATED:20250606T165954Z
LAST-MODIFIED:20250606T165954Z
UID:3762-1749633300-1749636900@www.letsmovepbc.org
SUMMARY:Rosa Fitness in the community
DESCRIPTION:Contact to Sign Up: (561) 715-3523
URL:https://www.letsmovepbc.org/event/rosa-fitness-in-the-community/
LOCATION:Delray Villas\, 13773 Circular\, Drive Delray Beach\, FL\, 33484\, United States
CATEGORIES:Let's Move 365
END:VEVENT
BEGIN:VEVENT
DTSTART;TZID=America/New_York:20250611T093000
DTEND;TZID=America/New_York:20250611T101500
DTSTAMP:20260424T184906
CREATED:20250516T155032Z
LAST-MODIFIED:20250516T155139Z
UID:3694-1749634200-1749636900@www.letsmovepbc.org
SUMMARY:Fitness in the Community
DESCRIPTION:Zumba Party! offering standing and Chair Zumba\nContact: Rosa White 561 715-3523
URL:https://www.letsmovepbc.org/event/fitness-in-the-community/
LOCATION:Delray Villas\, 13773 Circular\, Drive Delray Beach\, FL\, 33484\, United States
CATEGORIES:Let's Move 365
END:VEVENT
END:VCALENDAR