BEGIN:VCALENDAR
VERSION:2.0
PRODID:-//Let&#039;s Move PBC - ECPv6.15.20//NONSGML v1.0//EN
CALSCALE:GREGORIAN
METHOD:PUBLISH
X-ORIGINAL-URL:https://www.letsmovepbc.org
X-WR-CALDESC:Events for Let&#039;s Move PBC
REFRESH-INTERVAL;VALUE=DURATION:PT1H
X-Robots-Tag:noindex
X-PUBLISHED-TTL:PT1H
BEGIN:VTIMEZONE
TZID:America/New_York
BEGIN:DAYLIGHT
TZOFFSETFROM:-0500
TZOFFSETTO:-0400
TZNAME:EDT
DTSTART:20240310T070000
END:DAYLIGHT
BEGIN:STANDARD
TZOFFSETFROM:-0400
TZOFFSETTO:-0500
TZNAME:EST
DTSTART:20241103T060000
END:STANDARD
BEGIN:DAYLIGHT
TZOFFSETFROM:-0500
TZOFFSETTO:-0400
TZNAME:EDT
DTSTART:20250309T070000
END:DAYLIGHT
BEGIN:STANDARD
TZOFFSETFROM:-0400
TZOFFSETTO:-0500
TZNAME:EST
DTSTART:20251102T060000
END:STANDARD
BEGIN:DAYLIGHT
TZOFFSETFROM:-0500
TZOFFSETTO:-0400
TZNAME:EDT
DTSTART:20260308T070000
END:DAYLIGHT
BEGIN:STANDARD
TZOFFSETFROM:-0400
TZOFFSETTO:-0500
TZNAME:EST
DTSTART:20261101T060000
END:STANDARD
END:VTIMEZONE
BEGIN:VEVENT
DTSTART;TZID=America/New_York:20250531T110000
DTEND;TZID=America/New_York:20250531T120000
DTSTAMP:20260424T184906
CREATED:20250123T142902Z
LAST-MODIFIED:20250123T142902Z
UID:3378-1748689200-1748692800@www.letsmovepbc.org
SUMMARY:Community Boot Camp - National Physical Fitness and Sports Month
DESCRIPTION:Join us for a high-energy\, full-body workout designed for all ages and fitness levels! This monthly boot camp combines fun\, dynamic exercises with expert coaching to help you and your family stay active and strong. From cardio circuits to strength-building moves\, this class is perfect for bonding\, sweating\, and achieving fitness goals together. \nPartner(s) and/or contractor(s): Trilogy | Group Fitness + MMA Training
URL:https://www.letsmovepbc.org/event/community-boot-camp-national-physical-fitness-and-sports-month/
LOCATION:1550 N Federal Hwy #8\, 1550 N Federal Hwy #8\, Boynton Beach\, FL\, 33435\, United States
CATEGORIES:Let's Move 365
END:VEVENT
END:VCALENDAR