BEGIN:VCALENDAR
VERSION:2.0
PRODID:-//Let&#039;s Move PBC - ECPv6.15.20//NONSGML v1.0//EN
CALSCALE:GREGORIAN
METHOD:PUBLISH
X-WR-CALNAME:Let&#039;s Move PBC
X-ORIGINAL-URL:https://www.letsmovepbc.org
X-WR-CALDESC:Events for Let&#039;s Move PBC
REFRESH-INTERVAL;VALUE=DURATION:PT1H
X-Robots-Tag:noindex
X-PUBLISHED-TTL:PT1H
BEGIN:VTIMEZONE
TZID:America/New_York
BEGIN:DAYLIGHT
TZOFFSETFROM:-0500
TZOFFSETTO:-0400
TZNAME:EDT
DTSTART:20240310T070000
END:DAYLIGHT
BEGIN:STANDARD
TZOFFSETFROM:-0400
TZOFFSETTO:-0500
TZNAME:EST
DTSTART:20241103T060000
END:STANDARD
BEGIN:DAYLIGHT
TZOFFSETFROM:-0500
TZOFFSETTO:-0400
TZNAME:EDT
DTSTART:20250309T070000
END:DAYLIGHT
BEGIN:STANDARD
TZOFFSETFROM:-0400
TZOFFSETTO:-0500
TZNAME:EST
DTSTART:20251102T060000
END:STANDARD
BEGIN:DAYLIGHT
TZOFFSETFROM:-0500
TZOFFSETTO:-0400
TZNAME:EDT
DTSTART:20260308T070000
END:DAYLIGHT
BEGIN:STANDARD
TZOFFSETFROM:-0400
TZOFFSETTO:-0500
TZNAME:EST
DTSTART:20261101T060000
END:STANDARD
END:VTIMEZONE
BEGIN:VEVENT
DTSTART;TZID=America/New_York:20250510T100000
DTEND;TZID=America/New_York:20250510T110000
DTSTAMP:20260424T184821
CREATED:20250425T190106Z
LAST-MODIFIED:20250425T190106Z
UID:3690-1746871200-1746874800@www.letsmovepbc.org
SUMMARY:Zumba Fitness Fun Class
DESCRIPTION:Get ready to move\, groove\, and challenge yourself in this high-energy class! Whether you’re a beginner or a pro\, you’ll build strength\, boost endurance\, and have a blast while doing it. Come for the workout\, stay for the vibes!! \nInstructor – Betty Rosado\nContact: (561) 313-8477
URL:https://www.letsmovepbc.org/event/zumba-fitness-fun-class-8/
LOCATION:Haverhill Park\, 5470 Belvedere Rd\, Haverhill\, FL\, 33415\, United States
CATEGORIES:Let's Move 365
ATTACH;FMTTYPE=image/jpeg:https://www.letsmovepbc.org/wp-content/uploads/2025/04/Zumba-Fitness.jpg
END:VEVENT
END:VCALENDAR