BEGIN:VCALENDAR
VERSION:2.0
PRODID:-//Let&#039;s Move PBC - ECPv6.15.20//NONSGML v1.0//EN
CALSCALE:GREGORIAN
METHOD:PUBLISH
X-ORIGINAL-URL:https://www.letsmovepbc.org
X-WR-CALDESC:Events for Let&#039;s Move PBC
REFRESH-INTERVAL;VALUE=DURATION:PT1H
X-Robots-Tag:noindex
X-PUBLISHED-TTL:PT1H
BEGIN:VTIMEZONE
TZID:America/New_York
BEGIN:DAYLIGHT
TZOFFSETFROM:-0500
TZOFFSETTO:-0400
TZNAME:EDT
DTSTART:20240310T070000
END:DAYLIGHT
BEGIN:STANDARD
TZOFFSETFROM:-0400
TZOFFSETTO:-0500
TZNAME:EST
DTSTART:20241103T060000
END:STANDARD
BEGIN:DAYLIGHT
TZOFFSETFROM:-0500
TZOFFSETTO:-0400
TZNAME:EDT
DTSTART:20250309T070000
END:DAYLIGHT
BEGIN:STANDARD
TZOFFSETFROM:-0400
TZOFFSETTO:-0500
TZNAME:EST
DTSTART:20251102T060000
END:STANDARD
BEGIN:DAYLIGHT
TZOFFSETFROM:-0500
TZOFFSETTO:-0400
TZNAME:EDT
DTSTART:20260308T070000
END:DAYLIGHT
BEGIN:STANDARD
TZOFFSETFROM:-0400
TZOFFSETTO:-0500
TZNAME:EST
DTSTART:20261101T060000
END:STANDARD
END:VTIMEZONE
BEGIN:VEVENT
DTSTART;TZID=America/New_York:20250426T070000
DTEND;TZID=America/New_York:20250426T080000
DTSTAMP:20260424T221140
CREATED:20250318T144639Z
LAST-MODIFIED:20250318T144639Z
UID:3618-1745650800-1745654400@www.letsmovepbc.org
SUMMARY:Walk With Friends
DESCRIPTION:﻿﻿Walk with us as we get fit physically\, emotionally & spiritually. \nPhone: (561)203-5350
URL:https://www.letsmovepbc.org/event/walk-with-friends-6/
LOCATION:Dyer Park\, 7301 N Haverhill Rd\, West Palm Beach\, FL\, 33412\, United States
CATEGORIES:Let's Move 365
ATTACH;FMTTYPE=image/png:https://www.letsmovepbc.org/wp-content/uploads/2025/03/image.png
END:VEVENT
BEGIN:VEVENT
DTSTART;TZID=America/New_York:20250426T100000
DTEND;TZID=America/New_York:20250426T110000
DTSTAMP:20260424T221140
CREATED:20250207T181817Z
LAST-MODIFIED:20250207T181817Z
UID:3464-1745661600-1745665200@www.letsmovepbc.org
SUMMARY:Zumba Fitness Fun Class
DESCRIPTION:Get ready to move\, groove\, and challenge yourself in this high-energy class! Whether you’re a beginner or a pro\, you’ll build strength\, boost endurance\, and have a blast while doing it. Come for the workout\, stay for the vibes!! \nSuggested apparel should be well fitting comfortable fitness attire and comfortable fitness shoes. Participants must bring their own water and sweat towel as well as sunscreen for outdoors protection. \nInstructor – Betty Rosado \nClick here for more info
URL:https://www.letsmovepbc.org/event/zumba-fitness-fun-class-3/
LOCATION:Haverhill Park\, 5470 Belvedere Rd\, Haverhill\, FL\, 33415\, United States
CATEGORIES:Let's Move 365
END:VEVENT
BEGIN:VEVENT
DTSTART;TZID=America/New_York:20250426T110000
DTEND;TZID=America/New_York:20250426T120000
DTSTAMP:20260424T221140
CREATED:20250123T142752Z
LAST-MODIFIED:20250123T142752Z
UID:3376-1745665200-1745668800@www.letsmovepbc.org
SUMMARY:Community Boot Camp - International Women’s Day
DESCRIPTION:Join us for a high-energy\, full-body workout designed for all ages and fitness levels! This monthly boot camp combines fun\, dynamic exercises with expert coaching to help you and your family stay active and strong. From cardio circuits to strength-building moves\, this class is perfect for bonding\, sweating\, and achieving fitness goals together. \nPartner(s) and/or contractor(s): Trilogy | Group Fitness + MMA Training
URL:https://www.letsmovepbc.org/event/community-boot-camp-international-womens-day/
LOCATION:1550 N Federal Hwy #8\, 1550 N Federal Hwy #8\, Boynton Beach\, FL\, 33435\, United States
CATEGORIES:Let's Move 365
END:VEVENT
END:VCALENDAR