BEGIN:VCALENDAR
VERSION:2.0
PRODID:-//Let&#039;s Move PBC - ECPv6.15.20//NONSGML v1.0//EN
CALSCALE:GREGORIAN
METHOD:PUBLISH
X-WR-CALNAME:Let&#039;s Move PBC
X-ORIGINAL-URL:https://www.letsmovepbc.org
X-WR-CALDESC:Events for Let&#039;s Move PBC
REFRESH-INTERVAL;VALUE=DURATION:PT1H
X-Robots-Tag:noindex
X-PUBLISHED-TTL:PT1H
BEGIN:VTIMEZONE
TZID:America/New_York
BEGIN:DAYLIGHT
TZOFFSETFROM:-0500
TZOFFSETTO:-0400
TZNAME:EDT
DTSTART:20240310T070000
END:DAYLIGHT
BEGIN:STANDARD
TZOFFSETFROM:-0400
TZOFFSETTO:-0500
TZNAME:EST
DTSTART:20241103T060000
END:STANDARD
BEGIN:DAYLIGHT
TZOFFSETFROM:-0500
TZOFFSETTO:-0400
TZNAME:EDT
DTSTART:20250309T070000
END:DAYLIGHT
BEGIN:STANDARD
TZOFFSETFROM:-0400
TZOFFSETTO:-0500
TZNAME:EST
DTSTART:20251102T060000
END:STANDARD
BEGIN:DAYLIGHT
TZOFFSETFROM:-0500
TZOFFSETTO:-0400
TZNAME:EDT
DTSTART:20260308T070000
END:DAYLIGHT
BEGIN:STANDARD
TZOFFSETFROM:-0400
TZOFFSETTO:-0500
TZNAME:EST
DTSTART:20261101T060000
END:STANDARD
END:VTIMEZONE
BEGIN:VEVENT
DTSTART;TZID=America/New_York:20250412T070000
DTEND;TZID=America/New_York:20250412T080000
DTSTAMP:20260424T203104
CREATED:20250318T144411Z
LAST-MODIFIED:20250318T144411Z
UID:3614-1744441200-1744444800@www.letsmovepbc.org
SUMMARY:Walk With Friends
DESCRIPTION:﻿﻿Walk with us as we get fit physically\, emotionally & spiritually. \nPhone: (561)203-5350
URL:https://www.letsmovepbc.org/event/walk-with-friends-4/
LOCATION:Dyer Park\, 7301 N Haverhill Rd\, West Palm Beach\, FL\, 33412\, United States
CATEGORIES:Let's Move 365
ATTACH;FMTTYPE=image/png:https://www.letsmovepbc.org/wp-content/uploads/2025/03/image.png
END:VEVENT
END:VCALENDAR