BEGIN:VCALENDAR
VERSION:2.0
PRODID:-//Let&#039;s Move PBC - ECPv6.15.20//NONSGML v1.0//EN
CALSCALE:GREGORIAN
METHOD:PUBLISH
X-WR-CALNAME:Let&#039;s Move PBC
X-ORIGINAL-URL:https://www.letsmovepbc.org
X-WR-CALDESC:Events for Let&#039;s Move PBC
REFRESH-INTERVAL;VALUE=DURATION:PT1H
X-Robots-Tag:noindex
X-PUBLISHED-TTL:PT1H
BEGIN:VTIMEZONE
TZID:America/New_York
BEGIN:DAYLIGHT
TZOFFSETFROM:-0500
TZOFFSETTO:-0400
TZNAME:EDT
DTSTART:20240310T070000
END:DAYLIGHT
BEGIN:STANDARD
TZOFFSETFROM:-0400
TZOFFSETTO:-0500
TZNAME:EST
DTSTART:20241103T060000
END:STANDARD
BEGIN:DAYLIGHT
TZOFFSETFROM:-0500
TZOFFSETTO:-0400
TZNAME:EDT
DTSTART:20250309T070000
END:DAYLIGHT
BEGIN:STANDARD
TZOFFSETFROM:-0400
TZOFFSETTO:-0500
TZNAME:EST
DTSTART:20251102T060000
END:STANDARD
BEGIN:DAYLIGHT
TZOFFSETFROM:-0500
TZOFFSETTO:-0400
TZNAME:EDT
DTSTART:20260308T070000
END:DAYLIGHT
BEGIN:STANDARD
TZOFFSETFROM:-0400
TZOFFSETTO:-0500
TZNAME:EST
DTSTART:20261101T060000
END:STANDARD
END:VTIMEZONE
BEGIN:VEVENT
DTSTART;TZID=America/New_York:20251015T091500
DTEND;TZID=America/New_York:20251015T101500
DTSTAMP:20260424T081630
CREATED:20251015T214623Z
LAST-MODIFIED:20251028T210539Z
UID:4041-1760519700-1760523300@www.letsmovepbc.org
SUMMARY:Fitness in the Community with Rosa
DESCRIPTION:Join us for a balanced workout that offers standing and chair Zumba! This session is perfect for all fitness levels-come ready to move\, groove\, and have a blast while staying healthy! \nContact to Sign Up: (561) 715-3523
URL:https://www.letsmovepbc.org/event/fitness-in-the-community-with-rosa/
LOCATION:Delray Villas\, 13773 Circular\, Drive Delray Beach\, FL\, 33484\, United States
CATEGORIES:Let's Move 365
ATTACH;FMTTYPE=image/jpeg:https://www.letsmovepbc.org/wp-content/uploads/2025/06/RosaCommunity109.jpg
END:VEVENT
BEGIN:VEVENT
DTSTART;TZID=America/New_York:20251017T183000
DTEND;TZID=America/New_York:20251017T200000
DTSTAMP:20260424T081630
CREATED:20251015T233426Z
LAST-MODIFIED:20251015T233426Z
UID:4068-1760725800-1760731200@www.letsmovepbc.org
SUMMARY:Skyehigh Steppin'  Friday Night House  Party
DESCRIPTION:Let’s get moving and have some fun! Join us as\nwe break down that soul line dance you’ve been watching\,\nstep by step. Whether you’re a beginner or just want to groove with the community. It’s all about energy\, fun\, and movement. Come dance and connect! \nCall to Sign Up: (561) 441-9411
URL:https://www.letsmovepbc.org/event/skyehigh-steppin-friday-night-house-party/
LOCATION:Pompey Park\, 1101 NW 2nd St\, Delray Beach\, FL\, 33444\, United States
CATEGORIES:Let's Move 365
ATTACH;FMTTYPE=image/jpeg:https://www.letsmovepbc.org/wp-content/uploads/2025/10/SkyeHigh.jpg
END:VEVENT
BEGIN:VEVENT
DTSTART;TZID=America/New_York:20251020T180000
DTEND;TZID=America/New_York:20251020T190000
DTSTAMP:20260424T081630
CREATED:20251015T222310Z
LAST-MODIFIED:20251015T230205Z
UID:4050-1760983200-1760986800@www.letsmovepbc.org
SUMMARY:E-Motion Zumba
DESCRIPTION:Ignite your energy\, move to the beat\, and transform your workout into a party! “E”Motion Zumba Fitness fuses vibrant Latin rhythms with high-intensity cardio to deliver a fun\, full-body dance workout. Designed for all fitness levels\, each class mixes fast and slow songs to boost your metabolism\, tone your muscles\, and improve endurance – all while having a blast. Whether you’re new to dance fitness or a seasoned mover\, “E” Zumba Fitness makes “working out” feel like a celebration. \nInstructor: E\nPhone: 561-932-7569
URL:https://www.letsmovepbc.org/event/e-motion-zumba-9/
LOCATION:Tanner Park\, 105 E. Palm Beach Road\, South Bay\, FL\, 33493\, United States
CATEGORIES:Let's Move 365
ATTACH;FMTTYPE=image/jpeg:https://www.letsmovepbc.org/wp-content/uploads/2025/10/EMotion.jpg
END:VEVENT
BEGIN:VEVENT
DTSTART;TZID=America/New_York:20251020T180000
DTEND;TZID=America/New_York:20251020T190000
DTSTAMP:20260424T081630
CREATED:20251015T234347Z
LAST-MODIFIED:20251015T234347Z
UID:4074-1760983200-1760986800@www.letsmovepbc.org
SUMMARY:E-Motion Zumba
DESCRIPTION:jEnciende tu energia\, muevete al ritmo y transforma tu entrenamiento en una fiesta! “E” Motion Zumba Fitness combina vibrantes ritmos latinos con cardio de alto intensidad para ofrecer un divertido entrenamiento de baile para todo el cuerpo. Disenada para todos los niveles de condici6n fisica\, coda close mezcla canciones r6pidas y lentos para aumentar tu metabolismo\, tonificar tus musculos y mejorar la resistencia\, jtodo mientras te diviertes al m6ximo! Ya seas nuevo en el fitness de baile o un bailarin experimentado\,\n“E” Zumba Fitness hace que “entrenar” se sienta como una celebraci6n. \nContacto para inscribirse: (561) 932-7569
URL:https://www.letsmovepbc.org/event/e-motion-zumba-11/
LOCATION:Tanner Park\, 105 E. Palm Beach Road\, South Bay\, FL\, 33493\, United States
CATEGORIES:Let's Move 365
ATTACH;FMTTYPE=image/jpeg:https://www.letsmovepbc.org/wp-content/uploads/2025/10/EMotionSpanish.jpg
END:VEVENT
BEGIN:VEVENT
DTSTART;TZID=America/New_York:20251021T114500
DTEND;TZID=America/New_York:20251021T124500
DTSTAMP:20260424T081630
CREATED:20251015T214055Z
LAST-MODIFIED:20251015T214055Z
UID:4039-1761047100-1761050700@www.letsmovepbc.org
SUMMARY:Fitness in the Church with Rosa
DESCRIPTION:Cardio and Strength Training/moving and grooving to the beat. A balanced workout incorporating heart-pumping cardio exercises and strength-building activities using light weights. \nContact to Sign Up: (561) 715-3523
URL:https://www.letsmovepbc.org/event/fitness-in-the-church-with-rosa/
LOCATION:404 SW 3rd St\, 404 Southwest 3rd Street\, Delray Beach\, FL\, 33444\, United States
CATEGORIES:Let's Move 365
ATTACH;FMTTYPE=image/jpeg:https://www.letsmovepbc.org/wp-content/uploads/2025/06/Rosa108.jpg
END:VEVENT
BEGIN:VEVENT
DTSTART;TZID=America/New_York:20251021T160000
DTEND;TZID=America/New_York:20251021T170000
DTSTAMP:20260424T081630
CREATED:20251015T210657Z
LAST-MODIFIED:20251015T210657Z
UID:4025-1761062400-1761066000@www.letsmovepbc.org
SUMMARY:Love Thyself – Chair Yoga
DESCRIPTION:Gentle movements for all abilities. Open to all ages and fitness levels—no prior yoga experience needed! Please wear comfortable clothing and bring a bottle of water. Your journey to wellness begins here! \nInstructor: Milton “Skye” Olen \nFor more information\, please email: annie.glades@htpbc.org
URL:https://www.letsmovepbc.org/event/love-thyself-chair-yoga-10/
LOCATION:St. John First Missionary Baptist Church\, 600 SW 8th St\, Belle Glade\, FL\, 33430\, United States
CATEGORIES:Let's Move 365
ATTACH;FMTTYPE=image/jpeg:https://www.letsmovepbc.org/wp-content/uploads/2025/08/milton102.jpg
END:VEVENT
BEGIN:VEVENT
DTSTART;TZID=America/New_York:20251021T180000
DTEND;TZID=America/New_York:20251021T190000
DTSTAMP:20260424T081630
CREATED:20251015T212350Z
LAST-MODIFIED:20251015T212350Z
UID:4033-1761069600-1761073200@www.letsmovepbc.org
SUMMARY:Latin Vibes Fitness with Nora
DESCRIPTION:Join us for Latin Vibes Fitness\, a high-energy Zumba session that mixes Latin rhythms with fun\, easy-to-follow moves designed to boost your mood and energy! Classes are held both indoors and outdoors — bringing you movement\, music\, and joy in every setting. Whether you’re a beginner or experienced\, you’ll leave feeling stronger\, happier\, and inspired. \nContact:\nNoralara@gmail.com
URL:https://www.letsmovepbc.org/event/latin-vibes-fitness-with-nora-13/
LOCATION:Old Town Hall Jupiter\, 1000 Townhall Ave\, Jupiter\, FL\, 33458\, United States
CATEGORIES:Let's Move 365
ATTACH;FMTTYPE=image/jpeg:https://www.letsmovepbc.org/wp-content/uploads/2025/08/Nora103.jpg
END:VEVENT
BEGIN:VEVENT
DTSTART;TZID=America/New_York:20251021T183000
DTEND;TZID=America/New_York:20251021T193000
DTSTAMP:20260424T081630
CREATED:20251015T223313Z
LAST-MODIFIED:20251015T223313Z
UID:4054-1761071400-1761075000@www.letsmovepbc.org
SUMMARY:SayWHAT! Wellness in action with Angie T.
DESCRIPTION:SayWHAT! 2 FITNESS is all about Wellness\, Health\, Activity\, and Teamwork. The focus is on mindfulness\, motivational energy\, and movement! It’s fun\, energetic\, and made to get you moving! Join Angie T. and come move with me! \nContact to Sign Up: (561) 706-0061
URL:https://www.letsmovepbc.org/event/saywhat-wellness-in-action-with-angie-t-18/
LOCATION:Chaumont Delray\, 731 Ave Chaumont\, Delray Beach\, FL\, 33445\, United States
CATEGORIES:Let's Move 365
ATTACH;FMTTYPE=image/jpeg:https://www.letsmovepbc.org/wp-content/uploads/2025/06/Angie105.jpg
END:VEVENT
BEGIN:VEVENT
DTSTART;TZID=America/New_York:20251022T173000
DTEND;TZID=America/New_York:20251022T183000
DTSTAMP:20260424T081630
CREATED:20251015T231124Z
LAST-MODIFIED:20251015T231124Z
UID:4063-1761154200-1761157800@www.letsmovepbc.org
SUMMARY:Aqua Zumba and More with Aida
DESCRIPTION:Cardio benefits the heart and lungs\, strengthens bones. muscles\, and  the immune system\, and helps with weight reduction. It also reduces stress\, lowers cholesterol and high blood pressure. tones and tightens both the upper and lower body\, and strengthens abdominal muscles. Additionally\, cardio improves balance\, promotes better sleep\, and\, most importantly\, helps develop healthy lifestyle habits! \nContact to Sign Up: (954) 775-5548
URL:https://www.letsmovepbc.org/event/aqua-zumba-and-more-with-aida/
LOCATION:Via Vulcanus\, 13290 Via Vulcanus\, Delray Beach\, FL\, 33484\, United States
CATEGORIES:Let's Move 365
ATTACH;FMTTYPE=image/jpeg:https://www.letsmovepbc.org/wp-content/uploads/2025/10/AquaZumbaandMore.jpg
END:VEVENT
BEGIN:VEVENT
DTSTART;TZID=America/New_York:20251023T160000
DTEND;TZID=America/New_York:20251023T170000
DTSTAMP:20260424T081630
CREATED:20251015T211408Z
LAST-MODIFIED:20251015T211408Z
UID:4027-1761235200-1761238800@www.letsmovepbc.org
SUMMARY:Love Thyself – Chair Yoga
DESCRIPTION:Gentle movements for all abilities. Open to all ages and fitness levels—no prior yoga experience needed! Please wear comfortable clothing and bring a bottle of water. Your journey to wellness begins here! \nInstructor: Milton “Skye” Olen \nFor more information\, please email: annie.glades@htpbc.org
URL:https://www.letsmovepbc.org/event/love-thyself-chair-yoga-11/
LOCATION:St. John First Missionary Baptist Church\, 600 SW 8th St\, Belle Glade\, FL\, 33430\, United States
CATEGORIES:Let's Move 365
ATTACH;FMTTYPE=image/jpeg:https://www.letsmovepbc.org/wp-content/uploads/2025/08/milton102.jpg
END:VEVENT
BEGIN:VEVENT
DTSTART;TZID=America/New_York:20251024T183000
DTEND;TZID=America/New_York:20251024T200000
DTSTAMP:20260424T081630
CREATED:20251015T233557Z
LAST-MODIFIED:20251015T233557Z
UID:4070-1761330600-1761336000@www.letsmovepbc.org
SUMMARY:Skyehigh Steppin'  Friday Night House  Party
DESCRIPTION:Let’s get moving and have some fun! Join us as\nwe break down that soul line dance you’ve been watching\,\nstep by step. Whether you’re a beginner or just want to groove with the community. It’s all about energy\, fun\, and movement. Come dance and connect! \nCall to Sign Up: (561) 441-9411
URL:https://www.letsmovepbc.org/event/skyehigh-steppin-friday-night-house-party-2/
LOCATION:Pompey Park\, 1101 NW 2nd St\, Delray Beach\, FL\, 33444\, United States
CATEGORIES:Let's Move 365
ATTACH;FMTTYPE=image/jpeg:https://www.letsmovepbc.org/wp-content/uploads/2025/10/SkyeHigh.jpg
END:VEVENT
BEGIN:VEVENT
DTSTART;TZID=America/New_York:20251026T090000
DTEND;TZID=America/New_York:20251026T100000
DTSTAMP:20260424T081630
CREATED:20251015T213403Z
LAST-MODIFIED:20251015T213403Z
UID:4037-1761469200-1761472800@www.letsmovepbc.org
SUMMARY:Zumba Vibez with Lissette Rivera
DESCRIPTION:Join us for a vibrant community Zumba party where you can dance your way to fitness with high-energy Latin rhythms\, no experience needed! \nContact to Sign Up: (561) 452-2730
URL:https://www.letsmovepbc.org/event/zumba-vibez-with-lissette-rivera-7/
LOCATION:Okeeheelee Park\, 7715 Forest Hill Blvd\, West Palm Beach\, FL\, 33413\, United States
CATEGORIES:Let's Move 365
ATTACH;FMTTYPE=image/jpeg:https://www.letsmovepbc.org/wp-content/uploads/2025/06/Lissette107.jpg
END:VEVENT
BEGIN:VEVENT
DTSTART;TZID=America/New_York:20251027T180000
DTEND;TZID=America/New_York:20251027T190000
DTSTAMP:20260424T081630
CREATED:20251015T215207Z
LAST-MODIFIED:20251015T215207Z
UID:4044-1761588000-1761591600@www.letsmovepbc.org
SUMMARY:Community Fitness with Rosa
DESCRIPTION:Join us for a balanced workout that gets your heart pumping with cardio\, builds strength with light weights\, and adds a splash of fun with Zumba-inspired moves. This session is perfect for all fitness levels-come ready to move\, groove\, and have a blast while staying healthy! \nPhone: 561-715-3523
URL:https://www.letsmovepbc.org/event/community-fitness-with-rosa-3/
LOCATION:225 NW 12th Ave\, 225 NW 12th Ave\, Boynton Beach\, FL\, 3435\, United States
CATEGORIES:Let's Move 365
ATTACH;FMTTYPE=image/jpeg:https://www.letsmovepbc.org/wp-content/uploads/2025/08/RosaFitness110.jpg
END:VEVENT
BEGIN:VEVENT
DTSTART;TZID=America/New_York:20251027T180000
DTEND;TZID=America/New_York:20251027T190000
DTSTAMP:20260424T081630
CREATED:20251015T222704Z
LAST-MODIFIED:20251015T230259Z
UID:4052-1761588000-1761591600@www.letsmovepbc.org
SUMMARY:E-Motion Zumba
DESCRIPTION:Ignite your energy\, move to the beat\, and transform your workout into a party! “E”Motion Zumba Fitness fuses vibrant Latin rhythms with high-intensity cardio to deliver a fun\, full-body dance workout. Designed for all fitness levels\, each class mixes fast and slow songs to boost your metabolism\, tone your muscles\, and improve endurance – all while having a blast. Whether you’re new to dance fitness or a seasoned mover\, “E” Zumba Fitness makes “working out” feel like a celebration. \nInstructor: E\nPhone: 561-932-7569
URL:https://www.letsmovepbc.org/event/e-motion-zumba-10/
LOCATION:Tanner Park\, 105 E. Palm Beach Road\, South Bay\, FL\, 33493\, United States
CATEGORIES:Let's Move 365
ATTACH;FMTTYPE=image/jpeg:https://www.letsmovepbc.org/wp-content/uploads/2025/10/EMotion.jpg
END:VEVENT
BEGIN:VEVENT
DTSTART;TZID=America/New_York:20251027T180000
DTEND;TZID=America/New_York:20251027T190000
DTSTAMP:20260424T081630
CREATED:20251015T234531Z
LAST-MODIFIED:20251015T234531Z
UID:4076-1761588000-1761591600@www.letsmovepbc.org
SUMMARY:E-Motion Zumba
DESCRIPTION:jEnciende tu energia\, muevete al ritmo y transforma tu entrenamiento en una fiesta! “E” Motion Zumba Fitness combina vibrantes ritmos latinos con cardio de alto intensidad para ofrecer un divertido entrenamiento de baile para todo el cuerpo. Disenada para todos los niveles de condici6n fisica\, coda close mezcla canciones r6pidas y lentos para aumentar tu metabolismo\, tonificar tus musculos y mejorar la resistencia\, jtodo mientras te diviertes al m6ximo! Ya seas nuevo en el fitness de baile o un bailarin experimentado\,\n“E” Zumba Fitness hace que “entrenar” se sienta como una celebraci6n. \nContacto para inscribirse: (561) 932-7569
URL:https://www.letsmovepbc.org/event/e-motion-zumba-12/
LOCATION:Tanner Park\, 105 E. Palm Beach Road\, South Bay\, FL\, 33493\, United States
CATEGORIES:Let's Move 365
ATTACH;FMTTYPE=image/jpeg:https://www.letsmovepbc.org/wp-content/uploads/2025/10/EMotionSpanish.jpg
END:VEVENT
BEGIN:VEVENT
DTSTART;TZID=America/New_York:20251028T160000
DTEND;TZID=America/New_York:20251028T170000
DTSTAMP:20260424T081630
CREATED:20251015T211526Z
LAST-MODIFIED:20251015T211526Z
UID:4029-1761667200-1761670800@www.letsmovepbc.org
SUMMARY:Love Thyself – Chair Yoga
DESCRIPTION:Gentle movements for all abilities. Open to all ages and fitness levels—no prior yoga experience needed! Please wear comfortable clothing and bring a bottle of water. Your journey to wellness begins here! \nInstructor: Milton “Skye” Olen \nFor more information\, please email: annie.glades@htpbc.org
URL:https://www.letsmovepbc.org/event/love-thyself-chair-yoga-12/
LOCATION:St. John First Missionary Baptist Church\, 600 SW 8th St\, Belle Glade\, FL\, 33430\, United States
CATEGORIES:Let's Move 365
ATTACH;FMTTYPE=image/jpeg:https://www.letsmovepbc.org/wp-content/uploads/2025/08/milton102.jpg
END:VEVENT
BEGIN:VEVENT
DTSTART;TZID=America/New_York:20251028T180000
DTEND;TZID=America/New_York:20251028T190000
DTSTAMP:20260424T081630
CREATED:20251015T212555Z
LAST-MODIFIED:20251015T212555Z
UID:4035-1761674400-1761678000@www.letsmovepbc.org
SUMMARY:Latin Vibes Fitness with Nora
DESCRIPTION:Join us for Latin Vibes Fitness\, a high-energy Zumba session that mixes Latin rhythms with fun\, easy-to-follow moves designed to boost your mood and energy! Classes are held both indoors and outdoors — bringing you movement\, music\, and joy in every setting. Whether you’re a beginner or experienced\, you’ll leave feeling stronger\, happier\, and inspired. \nContact:\nNoralara@gmail.com
URL:https://www.letsmovepbc.org/event/latin-vibes-fitness-with-nora-14/
LOCATION:Old Town Hall Jupiter\, 1000 Townhall Ave\, Jupiter\, FL\, 33458\, United States
CATEGORIES:Let's Move 365
ATTACH;FMTTYPE=image/jpeg:https://www.letsmovepbc.org/wp-content/uploads/2025/08/Nora103.jpg
END:VEVENT
BEGIN:VEVENT
DTSTART;TZID=America/New_York:20251028T183000
DTEND;TZID=America/New_York:20251028T193000
DTSTAMP:20260424T081630
CREATED:20251015T223514Z
LAST-MODIFIED:20251015T223514Z
UID:4057-1761676200-1761679800@www.letsmovepbc.org
SUMMARY:SayWHAT! Wellness in action with Angie T.
DESCRIPTION:SayWHAT! 2 FITNESS is all about Wellness\, Health\, Activity\, and Teamwork. The focus is on mindfulness\, motivational energy\, and movement! It’s fun\, energetic\, and made to get you moving! Join Angie T. and come move with me! \nContact to Sign Up: (561) 706-0061
URL:https://www.letsmovepbc.org/event/saywhat-wellness-in-action-with-angie-t-19/
LOCATION:Chaumont Delray\, 731 Ave Chaumont\, Delray Beach\, FL\, 33445\, United States
CATEGORIES:Let's Move 365
ATTACH;FMTTYPE=image/jpeg:https://www.letsmovepbc.org/wp-content/uploads/2025/06/Angie105.jpg
END:VEVENT
BEGIN:VEVENT
DTSTART;TZID=America/New_York:20251029T173000
DTEND;TZID=America/New_York:20251029T183000
DTSTAMP:20260424T081630
CREATED:20251015T231310Z
LAST-MODIFIED:20251015T231310Z
UID:4066-1761759000-1761762600@www.letsmovepbc.org
SUMMARY:Aqua Zumba and More with Aida
DESCRIPTION:Cardio benefits the heart and lungs\, strengthens bones. muscles\, and  the immune system\, and helps with weight reduction. It also reduces stress\, lowers cholesterol and high blood pressure. tones and tightens both the upper and lower body\, and strengthens abdominal muscles. Additionally\, cardio improves balance\, promotes better sleep\, and\, most importantly\, helps develop healthy lifestyle habits! \nContact to Sign Up: (954) 775-5548
URL:https://www.letsmovepbc.org/event/aqua-zumba-and-more-with-aida-2/
LOCATION:Via Vulcanus\, 13290 Via Vulcanus\, Delray Beach\, FL\, 33484\, United States
CATEGORIES:Let's Move 365
ATTACH;FMTTYPE=image/jpeg:https://www.letsmovepbc.org/wp-content/uploads/2025/10/AquaZumbaandMore.jpg
END:VEVENT
BEGIN:VEVENT
DTSTART;TZID=America/New_York:20251030T160000
DTEND;TZID=America/New_York:20251030T170000
DTSTAMP:20260424T081630
CREATED:20251015T211626Z
LAST-MODIFIED:20251028T212107Z
UID:4031-1761840000-1761843600@www.letsmovepbc.org
SUMMARY:Love Thyself – Chair Yoga with Milton
DESCRIPTION:Gentle movements for all abilities. Open to all ages and fitness levels—no prior yoga experience needed! Please wear comfortable clothing and bring a bottle of water. Your journey to wellness begins here! \nInstructor: Milton “Skye” Olen \nFor more information\, please email: annie.glades@htpbc.org
URL:https://www.letsmovepbc.org/event/love-thyself-chair-yoga-13/
LOCATION:St. John First Missionary Baptist Church\, 600 SW 8th St\, Belle Glade\, FL\, 33430\, United States
CATEGORIES:Let's Move 365
ATTACH;FMTTYPE=image/jpeg:https://www.letsmovepbc.org/wp-content/uploads/2025/08/milton102.jpg
END:VEVENT
BEGIN:VEVENT
DTSTART;TZID=America/New_York:20251031T183000
DTEND;TZID=America/New_York:20251031T200000
DTSTAMP:20260424T081630
CREATED:20251015T233734Z
LAST-MODIFIED:20251028T215447Z
UID:4072-1761935400-1761940800@www.letsmovepbc.org
SUMMARY:Skyehigh Steppin'  Friday Night House  Party with Andrea
DESCRIPTION:Let’s get moving and have some fun! Join us as\nwe break down that soul line dance you’ve been watching\,\nstep by step. Whether you’re a beginner or just want to groove with the community. It’s all about energy\, fun\, and movement. Come dance and connect! \nCall to Sign Up: (561) 441-9411
URL:https://www.letsmovepbc.org/event/skyehigh-steppin-friday-night-house-party-3/
LOCATION:Pompey Park\, 1101 NW 2nd St\, Delray Beach\, FL\, 33444\, United States
CATEGORIES:Let's Move 365
ATTACH;FMTTYPE=image/jpeg:https://www.letsmovepbc.org/wp-content/uploads/2025/10/SkyeHigh.jpg
END:VEVENT
END:VCALENDAR