BEGIN:VCALENDAR
VERSION:2.0
PRODID:-//Let&#039;s Move PBC - ECPv6.15.20//NONSGML v1.0//EN
CALSCALE:GREGORIAN
METHOD:PUBLISH
X-ORIGINAL-URL:https://www.letsmovepbc.org
X-WR-CALDESC:Events for Let&#039;s Move PBC
REFRESH-INTERVAL;VALUE=DURATION:PT1H
X-Robots-Tag:noindex
X-PUBLISHED-TTL:PT1H
BEGIN:VTIMEZONE
TZID:America/New_York
BEGIN:DAYLIGHT
TZOFFSETFROM:-0500
TZOFFSETTO:-0400
TZNAME:EDT
DTSTART:20250309T070000
END:DAYLIGHT
BEGIN:STANDARD
TZOFFSETFROM:-0400
TZOFFSETTO:-0500
TZNAME:EST
DTSTART:20251102T060000
END:STANDARD
BEGIN:DAYLIGHT
TZOFFSETFROM:-0500
TZOFFSETTO:-0400
TZNAME:EDT
DTSTART:20260308T070000
END:DAYLIGHT
BEGIN:STANDARD
TZOFFSETFROM:-0400
TZOFFSETTO:-0500
TZNAME:EST
DTSTART:20261101T060000
END:STANDARD
BEGIN:DAYLIGHT
TZOFFSETFROM:-0500
TZOFFSETTO:-0400
TZNAME:EDT
DTSTART:20270314T070000
END:DAYLIGHT
BEGIN:STANDARD
TZOFFSETFROM:-0400
TZOFFSETTO:-0500
TZNAME:EST
DTSTART:20271107T060000
END:STANDARD
END:VTIMEZONE
BEGIN:VEVENT
DTSTART;TZID=America/New_York:20260410T101500
DTEND;TZID=America/New_York:20260410T111500
DTSTAMP:20260423T234815
CREATED:20260331T044207Z
LAST-MODIFIED:20260331T044207Z
UID:4742-1775816100-1775819700@www.letsmovepbc.org
SUMMARY:Chair Yoga
DESCRIPTION:Let’s Move 365 proudly supports Florida Blue’s Free Monthly Fitness Classes\, designed to keep our community active\, energized\, and well-balanced all year long. From calming relaxation sessions to boost mindfulness\, to high-energy fitness and Zumba classes that get you moving\, there’s something for everyone\, no matter your fitness level.\nThese classes are a great way to stay consistent\, try something new\, and connect with others who are committed to living a healthier lifestyle. Join us each month and take a step toward feeling your best\, physically and mentally.\nContact Information: 1-561- 374 – 6200
URL:https://www.letsmovepbc.org/event/chair-yoga-7/
LOCATION:Boynton Beach\, 1501 N Congress Ave.\, Boynton Beach\, FL\, 33426\, United States
CATEGORIES:Let's Move 365
END:VEVENT
BEGIN:VEVENT
DTSTART;TZID=America/New_York:20260410T183000
DTEND;TZID=America/New_York:20260410T200000
DTSTAMP:20260423T234815
CREATED:20260328T223825Z
LAST-MODIFIED:20260328T223825Z
UID:4720-1775845800-1775851200@www.letsmovepbc.org
SUMMARY:Skyehigh Steppin'  Friday Night House  Party with Andrea
DESCRIPTION:Let’s get moving and have some fun! Join us as\nwe break down that soul line dance you’ve been watching\,\nstep by step. Whether you’re a beginner or just want to groove with the community. It’s all about energy\, fun\, and movement. Come dance and connect! \nCall to Sign Up: (561) 441-9411
URL:https://www.letsmovepbc.org/event/skyehigh-steppin-friday-night-house-party-with-andrea-9/
LOCATION:Pompey Park\, 1101 NW 2nd St\, Delray Beach\, FL\, 33444\, United States
CATEGORIES:Let's Move 365
ATTACH;FMTTYPE=image/jpeg:https://www.letsmovepbc.org/wp-content/uploads/2026/01/Andrea.jpg
END:VEVENT
END:VCALENDAR