BEGIN:VCALENDAR
VERSION:2.0
PRODID:-//Let&#039;s Move PBC - ECPv6.15.20//NONSGML v1.0//EN
CALSCALE:GREGORIAN
METHOD:PUBLISH
X-ORIGINAL-URL:https://www.letsmovepbc.org
X-WR-CALDESC:Events for Let&#039;s Move PBC
REFRESH-INTERVAL;VALUE=DURATION:PT1H
X-Robots-Tag:noindex
X-PUBLISHED-TTL:PT1H
BEGIN:VTIMEZONE
TZID:America/New_York
BEGIN:DAYLIGHT
TZOFFSETFROM:-0500
TZOFFSETTO:-0400
TZNAME:EDT
DTSTART:20250309T070000
END:DAYLIGHT
BEGIN:STANDARD
TZOFFSETFROM:-0400
TZOFFSETTO:-0500
TZNAME:EST
DTSTART:20251102T060000
END:STANDARD
BEGIN:DAYLIGHT
TZOFFSETFROM:-0500
TZOFFSETTO:-0400
TZNAME:EDT
DTSTART:20260308T070000
END:DAYLIGHT
BEGIN:STANDARD
TZOFFSETFROM:-0400
TZOFFSETTO:-0500
TZNAME:EST
DTSTART:20261101T060000
END:STANDARD
BEGIN:DAYLIGHT
TZOFFSETFROM:-0500
TZOFFSETTO:-0400
TZNAME:EDT
DTSTART:20270314T070000
END:DAYLIGHT
BEGIN:STANDARD
TZOFFSETFROM:-0400
TZOFFSETTO:-0500
TZNAME:EST
DTSTART:20271107T060000
END:STANDARD
END:VTIMEZONE
BEGIN:VEVENT
DTSTART;TZID=America/New_York:20260328T073000
DTEND;TZID=America/New_York:20260328T123000
DTSTAMP:20260424T013130
CREATED:20260227T032336Z
LAST-MODIFIED:20260227T032336Z
UID:4571-1774683000-1774701000@www.letsmovepbc.org
SUMMARY:Triathlon Explorers
DESCRIPTION:Get ready to push your limits and explore your athletic potential at the Triathlon Explorers! Join us for a fun and challenging fitness competition. Whether you’re a seasoned athlete or trying your first event\, this is your chance to test your endurance\, connect with fellow fitness enthusiasts\, and enjoy a day of excitement at beautiful Pompey Park.
URL:https://www.letsmovepbc.org/event/triathlon-explorers/
LOCATION:Pompey Park\, 1101 NW 2nd St\, Delray Beach\, FL\, 33444\, United States
CATEGORIES:Let's Move 365
ATTACH;FMTTYPE=image/jpeg:https://www.letsmovepbc.org/wp-content/uploads/2026/02/LETS-MOVE-2026-EVENTS-CALENDAR-1-scaled.jpg
END:VEVENT
BEGIN:VEVENT
DTSTART;TZID=America/New_York:20260328T100000
DTEND;TZID=America/New_York:20260328T160000
DTSTAMP:20260424T013130
CREATED:20260227T035114Z
LAST-MODIFIED:20260227T195604Z
UID:4573-1774692000-1774713600@www.letsmovepbc.org
SUMMARY:All People’s Day
DESCRIPTION:Celebrate community\, culture\, and connection at the All People’s Day! This FREE\, family‑friendly festival brings together people of all ages for a fun day of activities\, food\, and local vendors. Enjoy a vibrant atmosphere with music\, performances\, and opportunities to explore and support local artisans and businesses. Join us at beautiful Pompey Park for a day of food\, fun\, and community spirit.
URL:https://www.letsmovepbc.org/event/all-peoples-day/
LOCATION:Pompey Park\, 1101 NW 2nd St\, Delray Beach\, FL\, 33444\, United States
CATEGORIES:Let's Move 365
ATTACH;FMTTYPE=image/jpeg:https://www.letsmovepbc.org/wp-content/uploads/2026/02/LETS-MOVE-2026-EVENTS-CALENDAR-1-scaled.jpg
END:VEVENT
END:VCALENDAR